BEGIN:VCALENDAR
VERSION:2.0
PRODID:-//San Diego Museum of Art - ECPv6.7.0//NONSGML v1.0//EN
CALSCALE:GREGORIAN
METHOD:PUBLISH
X-ORIGINAL-URL:https://www.sdmart.org
X-WR-CALDESC:Events for San Diego Museum of Art
REFRESH-INTERVAL;VALUE=DURATION:PT1H
X-Robots-Tag:noindex
X-PUBLISHED-TTL:PT1H
BEGIN:VTIMEZONE
TZID:America/Los_Angeles
BEGIN:DAYLIGHT
TZOFFSETFROM:-0800
TZOFFSETTO:-0700
TZNAME:PDT
DTSTART:20190310T100000
END:DAYLIGHT
BEGIN:STANDARD
TZOFFSETFROM:-0700
TZOFFSETTO:-0800
TZNAME:PST
DTSTART:20191103T090000
END:STANDARD
END:VTIMEZONE
BEGIN:VEVENT
DTSTART;TZID=America/Los_Angeles:20191005T190000
DTEND;TZID=America/Los_Angeles:20191005T210000
DTSTAMP:20260424T012626
CREATED:20190816T223337Z
LAST-MODIFIED:20190826T235706Z
UID:15057-1570302000-1570309200@www.sdmart.org
SUMMARY:Mehregan Fall Fête with Reza Rohani & Sara Naeini
DESCRIPTION:Saturday\, October 5\n7:00 p.m.\nJames S. Copley Auditorium \nPresented by the Persian Cultural Center\, an annual fundraising event for the benefit of Arts of Iran at The San Diego Museum of Art. \nReza Rohani\, Sara Naeini and their bank of musicians will perform. \nVIP tickets include a meet & greet session with the artists and access to Arts of Iran and the exhibitions on the Museum’s first floor at 6:00 p.m. in the Museum’s Rotunda. \nPersian Cultural Center (PCC)\, SDMA members & students\, please contact PCC for a $5 discount code. \n\nArts of Iran\nThe San Diego Museum of Art’s collection of Persian art\, dating from the 9th to the 20th centuries\, consists of close to 200 items. Built from around the 1950s to 1960s through gifts as well as Museum purchases with funding from individuals and The Asiatic Arts Committees of the Fine Arts Society—today’s Asian Arts Council and South Asian Arts Council—the collection is now on view in the dedicated gallery space established in 2017. \nShowcasing some of the best Persian art from the Museum’s permanent collection as well as 20 objects of the pre-Islamic time\, ranging from the Near Eastern (ca. 2500 BC) to the Sasanian era (224–651 AD) on loan from the Los Angeles County Museum of Art\, this gallery illustrates the profound development of Persian civilization and art within a global context. \nThis event is sponsored by the Persian Cultural Center. \n  \n\n\nFeatured: Mu’in Musavvir\, Bizhan (or Bijan) Slays Human\, ca. 1665. Manuscript page from the Shahnama\, Safavid Court\, Isfahan Province. Opaque watercolor on paper. Gift of Edwin Binney 3rd\, 1971.67.
URL:https://www.sdmart.org/event/mehregan-fall-fete-with-reza-rohani-sara-naeini/
LOCATION:James S. Copley Auditorium\, 1450 El Prado\, San Diego\, CA\, 92101\, United States
CATEGORIES:Exhibitions,Music,Other
ATTACH;FMTTYPE=image/jpeg:https://www.sdmart.org/wp-content/uploads/2019/08/1971.67_crop.jpg
END:VEVENT
END:VCALENDAR