BEGIN:VCALENDAR
VERSION:2.0
PRODID:-//San Diego Museum of Art - ECPv6.7.0//NONSGML v1.0//EN
CALSCALE:GREGORIAN
METHOD:PUBLISH
X-WR-CALNAME:San Diego Museum of Art
X-ORIGINAL-URL:https://www.sdmart.org
X-WR-CALDESC:Events for San Diego Museum of Art
REFRESH-INTERVAL;VALUE=DURATION:PT1H
X-Robots-Tag:noindex
X-PUBLISHED-TTL:PT1H
BEGIN:VTIMEZONE
TZID:America/Los_Angeles
BEGIN:DAYLIGHT
TZOFFSETFROM:-0800
TZOFFSETTO:-0700
TZNAME:PDT
DTSTART:20240310T100000
END:DAYLIGHT
BEGIN:STANDARD
TZOFFSETFROM:-0700
TZOFFSETTO:-0800
TZNAME:PST
DTSTART:20241103T090000
END:STANDARD
END:VTIMEZONE
BEGIN:VEVENT
DTSTART;TZID=America/Los_Angeles:20240323T150000
DTEND;TZID=America/Los_Angeles:20240323T160000
DTSTAMP:20260422T194142
CREATED:20240111T230038Z
LAST-MODIFIED:20241011T232355Z
UID:38392-1711206000-1711209600@www.sdmart.org
SUMMARY:SDMA+ Malashock Dance: Companions
DESCRIPTION:Saturday\, March 23\, 2024\n3:00–4:00 p.m. PT\nSDMA James S. Copley Auditorium \n  \nSDMA in partnership with Malashock Dance presents a new contemporary dance performance inspired by Arshile Gorky’s Child’s Companions\, on loan to The San Diego Museum of Art from Art Bridges and on view through July 2024 in the Art of the 20th Century. See the new dance choreographed by Christopher K. Morgan\, plus two additional dance pieces. Six professional dancers and one musician breathe life into the dance pieces\, shedding new light on works on view at The San Diego Museum of Art. \nThe performance features interactive conversation and a rare opportunity to experience two choreographic interpretations of the same work of art. \n  \nMembers $25 | Student (with ID) $25 | Military (with ID) $35 | Nonmembers $40 \nSave My Spot \n  \nShow your lecture ticket for free same-day Museum admission to enjoy the Museum galleries before or after the performance. The Museum is open Saturday\, March 23 from 10:00 a.m.–5:00 p.m. \n  \nGenerous support for this project provided by Art Bridges.\n\n\n  \n  \n    SDMA+ programs are offered by The San Diego Museum of Art in collaboration with other local arts institutions to create unique experiences and a deeper exploration of the art on view.
URL:https://www.sdmart.org/event/sdma-malashock-dance-companions/
LOCATION:The San Diego Museum of Art\, 1450 El Prado\, San Diego\, CA\, 92102\, United States
CATEGORIES:Dance,SDMA+
ATTACH;FMTTYPE=image/jpeg:https://www.sdmart.org/wp-content/uploads/2024/01/Malashock-dress-14Apr23-187-D.jpg
GEO:32.732119;-117.1504179
X-APPLE-STRUCTURED-LOCATION;VALUE=URI;X-ADDRESS=The San Diego Museum of Art 1450 El Prado San Diego CA 92102 United States;X-APPLE-RADIUS=500;X-TITLE=1450 El Prado:geo:-117.1504179,32.732119
END:VEVENT
END:VCALENDAR