BEGIN:VCALENDAR
VERSION:2.0
PRODID:-//San Diego Museum of Art - ECPv6.7.0//NONSGML v1.0//EN
CALSCALE:GREGORIAN
METHOD:PUBLISH
X-ORIGINAL-URL:https://www.sdmart.org
X-WR-CALDESC:Events for San Diego Museum of Art
REFRESH-INTERVAL;VALUE=DURATION:PT1H
X-Robots-Tag:noindex
X-PUBLISHED-TTL:PT1H
BEGIN:VTIMEZONE
TZID:America/Los_Angeles
BEGIN:DAYLIGHT
TZOFFSETFROM:-0800
TZOFFSETTO:-0700
TZNAME:PDT
DTSTART:20200308T100000
END:DAYLIGHT
BEGIN:STANDARD
TZOFFSETFROM:-0700
TZOFFSETTO:-0800
TZNAME:PST
DTSTART:20201101T090000
END:STANDARD
BEGIN:DAYLIGHT
TZOFFSETFROM:-0800
TZOFFSETTO:-0700
TZNAME:PDT
DTSTART:20210314T100000
END:DAYLIGHT
BEGIN:STANDARD
TZOFFSETFROM:-0700
TZOFFSETTO:-0800
TZNAME:PST
DTSTART:20211107T090000
END:STANDARD
END:VTIMEZONE
BEGIN:VEVENT
DTSTART;VALUE=DATE:20201201
DTEND;VALUE=DATE:20210201
DTSTAMP:20260421T024037
CREATED:20201204T173913Z
LAST-MODIFIED:20201217T010011Z
UID:23335-1606780800-1612137599@www.sdmart.org
SUMMARY:Artists Guild 2020 Online International Winter Exhibition
DESCRIPTION:December 1\, 2020—January 31\, 2021 \nThe San Diego Museum of Art Artists Guild’s 2020 Online International Winter Exhibition is now online. Juried by Ken Goldman\, an internationally known artist\, author\, teacher\, and art juror\, the exhibition includes more than 100 works by artists from all over the world. \nAll works of art shown in the Artists Guild’s 2020 Online International Winter Exhibition gallery are for sale. A portion of the sale price supports The San Diego Museum of Art. \nSee the full juried exhibition online at www.sdmaag.org/2020-Winter-Exhibition. \nSponsored by the Artists Guild. \n  \nFeatured: Artists Guild’s 2020 Online International Winter Exhibition first place winner.\nByron Draper. Seeking Protection. Image courtesy of the Artists Guild.
URL:https://www.sdmart.org/event/artists-guild-2020-online-international-winter-exhibition/
CATEGORIES:Support Council
ATTACH;FMTTYPE=image/jpeg:https://www.sdmart.org/wp-content/uploads/2020/12/Artists-Guild-Winter-Exhibition-1st-Pl-Seeking-Protection-stone-and-bronze-by-Byron-Draper-landscape.jpg
END:VEVENT
BEGIN:VEVENT
DTSTART;TZID=America/Los_Angeles:20210128T130000
DTEND;TZID=America/Los_Angeles:20210128T150000
DTSTAMP:20260421T024037
CREATED:20210104T220042Z
LAST-MODIFIED:20210104T220418Z
UID:23647-1611838800-1611846000@www.sdmart.org
SUMMARY:Saitō Kiyoshi: Graphic Awakening
DESCRIPTION:Thursday\, January 28\n1:00 p.m. PT\nSpeaker: Rhiannon Paget\, Curator of Asian Arts at The John & Mable Ringling Museum of Art in Sarasota Florida \n  \nSaitō Kiyoshi’s (1907–1997) keen sense of design\, superb technique\, and engagement with an appealing variety of themes made him one of the best-known and most-popular Japanese print artists of the twentieth century. Despite his international success\, he referred to himself as a “frustrated painter” and took little pleasure in the medium that he mastered\, while his peers scorned him as a “souvenir” artist. This lecture\, led by Rhiannon Paget\, Curator of Asian Arts at The John & Mable Ringling Museum of Art in Sarasota Florida\, will discuss Saitō’s complicated practice and legacy. \nPlease note\, this session will be conducted virtually via Zoom. \nReserve your spot by clicking on this link. All participants will be sent the Zoom link and instructions via email once you secure your place. Space is limited. \nReserve my spot! \n  \nSponsored by the Asian Arts Council. \n  \nFeatured: Saitō Kiyoshi. Camellia (Tsubaki) (detail)\, 1948. Ink and color on paper.
URL:https://www.sdmart.org/event/saito-kiyoshi-graphic-awakening/
CATEGORIES:Lecture-old,Support Council
ATTACH;FMTTYPE=image/jpeg:https://www.sdmart.org/wp-content/uploads/2021/01/AAC-Camellia-by-Saito-Kiyoshi-detail.jpeg
END:VEVENT
END:VCALENDAR