BEGIN:VCALENDAR
VERSION:2.0
PRODID:-//San Diego Museum of Art - ECPv6.7.0//NONSGML v1.0//EN
CALSCALE:GREGORIAN
METHOD:PUBLISH
X-WR-CALNAME:San Diego Museum of Art
X-ORIGINAL-URL:https://www.sdmart.org
X-WR-CALDESC:Events for San Diego Museum of Art
REFRESH-INTERVAL;VALUE=DURATION:PT1H
X-Robots-Tag:noindex
X-PUBLISHED-TTL:PT1H
BEGIN:VTIMEZONE
TZID:America/Los_Angeles
BEGIN:DAYLIGHT
TZOFFSETFROM:-0800
TZOFFSETTO:-0700
TZNAME:PDT
DTSTART:20220313T100000
END:DAYLIGHT
BEGIN:STANDARD
TZOFFSETFROM:-0700
TZOFFSETTO:-0800
TZNAME:PST
DTSTART:20221106T090000
END:STANDARD
END:VTIMEZONE
BEGIN:VEVENT
DTSTART;TZID=America/Los_Angeles:20221112T100000
DTEND;TZID=America/Los_Angeles:20221112T120000
DTSTAMP:20260425T074557
CREATED:20220930T230606Z
LAST-MODIFIED:20221014T001954Z
UID:32572-1668247200-1668254400@www.sdmart.org
SUMMARY:Rembrandt's Drawings and the Mughal Album
DESCRIPTION:Saturday\, November 12\n10:00 a.m.–noon PT\nSpeaker: Yael Rice\, Associate Professor of the History of Art and Asian Languages & Civilizations\, Amherst College\nVirtual Event \n  \nDuring the 1650s\, the Dutch artist Rembrandt van Rijn (1606–69) executed a small number of drawings in ink inspired by Indian paintings on paper. Just how he encountered these materials remains a scholarly debate; what is readily evident is that the Indian paintings which Rembrandt studied had been originally produced on the Indian subcontinent for inclusion in albums. Elites from both the Mughal and Deccani courts patronized the production of albums\, known muraqqa (meaning “patched” in Arabic)\, which are codex assemblages containing choice paintings\, drawings\, calligraphies\, and\, on occasion\, European prints. This talk will consider how and why albums were patronized and\, ultimately\, circulated to Europe a short time after their completion. It will also examine the various ways that Mughal artists had responded to European art many decades before Rembrandt produced his own cross-cultural studies. This presentation will draw upon key findings from the recent 2018 Getty exhibition “Rembrandt and the Inspiration of India” and accompanying catalogue\, to which the speaker was a contributor. \n  \nPlease reserve your spot by clicking on this link. All participants will be sent the Zoom link and instructions via email once you secure your place. Space is limited. \nSave my spot! \nFree for active South Asian Arts Council (renewed for 2022-2023) and SDMA members | $10 for all others \n  \nSponsored by the South Asian Arts Council. \n  \nFeatured at top right: Rembrandt van Rijn\, Shah Jahan\, 1656-1661. Pen and brown ink and brush and brown wash. Leonard C. Hanna\, Jr. Fund 1978.3. Cleveland Museum of Art.
URL:https://www.sdmart.org/event/rembrandts-drawings-and-the-mughal-album/
CATEGORIES:Lecture-old,Support Council
ATTACH;FMTTYPE=image/jpeg:https://www.sdmart.org/wp-content/uploads/2022/09/Shah-Jahan-c.-1656–1661-by-Rembrandt-van-Rijn-Cleveland-Museum-of-Art_1978.38_web.jpg
END:VEVENT
END:VCALENDAR