BEGIN:VCALENDAR
VERSION:2.0
PRODID:-//San Diego Museum of Art - ECPv6.7.0//NONSGML v1.0//EN
CALSCALE:GREGORIAN
METHOD:PUBLISH
X-WR-CALNAME:San Diego Museum of Art
X-ORIGINAL-URL:https://www.sdmart.org
X-WR-CALDESC:Events for San Diego Museum of Art
REFRESH-INTERVAL;VALUE=DURATION:PT1H
X-Robots-Tag:noindex
X-PUBLISHED-TTL:PT1H
BEGIN:VTIMEZONE
TZID:America/Los_Angeles
BEGIN:DAYLIGHT
TZOFFSETFROM:-0800
TZOFFSETTO:-0700
TZNAME:PDT
DTSTART:20220313T100000
END:DAYLIGHT
BEGIN:STANDARD
TZOFFSETFROM:-0700
TZOFFSETTO:-0800
TZNAME:PST
DTSTART:20221106T090000
END:STANDARD
END:VTIMEZONE
BEGIN:VEVENT
DTSTART;TZID=America/Los_Angeles:20221015T100000
DTEND;TZID=America/Los_Angeles:20221015T120000
DTSTAMP:20260425T074752
CREATED:20220819T011328Z
LAST-MODIFIED:20221014T224806Z
UID:32342-1665828000-1665835200@www.sdmart.org
SUMMARY:Margin Notes in the Album of Spring: Botany in Mughal and Later Painting
DESCRIPTION:Saturday\, October 15\n10:00 a.m.–noon PT\nSpeaker: Nicolas Roth\, Ph.D.\, Guest Curator\, Bagh-e Hind\nVirtual Event \n  \nThe vast body of paintings produced under the Mughals and their various vassals\, rivals\, and successors over the course of the seventeenth and eighteenth centuries is replete with floral ornament\, garden scenes\, and botanical studies. This wealth of painted plants is often discussed in relation to the Mughal adaptation of ornamental motifs gleaned from European prints. However\, it is also a reflection of contemporary horticultural practice\, the evolving garden flora of the Indian Subcontinent in a globalizing world\, and a deeply rooted cultural conventions governing the aesthetic appreciation of plants. This talk will delve into this lush world to explore on the nuanced regimes of botanical knowledge and artistic choice that went into creating truly fascinating works. \nNicolas Roth is a historian and literary scholar whose work focuses on the intellectual history and material culture of early modern South Asia\, with a particular interest in gardens and horticulture. He received his Ph.D. in South Asian Studies from Harvard University. He draws on materials in Persian\, Sanskrit\, and various forms of Urdu and Hindi across a broad array of textual genres\, and also works with painting\, architecture\, and other elements of the visual arts. Roth is also guest curator\, with art critic and perfumer Bharti Lalwani\, of Bagh-e Hind\, an ongoing multidisciplinary project that aims to explore seventeenth- and eighteenth-century Indian paintings through scent translations of their subject matter. \n  \nPlease reserve your spot by clicking on this link. All participants will be sent the Zoom link and instructions via email once you secure your place. Space is limited. \nSave my spot! \nFree for active South Asian Arts Council (renewed for 2022-2023) and SDMA members | $10 for all others \n  \nSponsored by the South Asian Arts Council. \n  \nFeatured at top right: Four o’clock or the Marvel of Peru (Mirabilis jalapa)\, ca. 1640. Opaque watercolor and gold on paper. Museum purchase\, 1992.66.
URL:https://www.sdmart.org/event/margin-notes-in-the-album-of-spring-botany-in-mughal-and-later-painting/
CATEGORIES:Lecture-old,Support Council
ATTACH;FMTTYPE=image/jpeg:https://www.sdmart.org/wp-content/uploads/2022/08/Four-oClock-or-The-Marvel-of-Peru-Mirabilis-jalapa-1992.66-square-crop.jpg
END:VEVENT
END:VCALENDAR