BEGIN:VCALENDAR
VERSION:2.0
PRODID:-//San Diego Museum of Art - ECPv6.7.0//NONSGML v1.0//EN
CALSCALE:GREGORIAN
METHOD:PUBLISH
X-ORIGINAL-URL:https://www.sdmart.org
X-WR-CALDESC:Events for San Diego Museum of Art
REFRESH-INTERVAL;VALUE=DURATION:PT1H
X-Robots-Tag:noindex
X-PUBLISHED-TTL:PT1H
BEGIN:VTIMEZONE
TZID:America/Los_Angeles
BEGIN:DAYLIGHT
TZOFFSETFROM:-0800
TZOFFSETTO:-0700
TZNAME:PDT
DTSTART:20230312T100000
END:DAYLIGHT
BEGIN:STANDARD
TZOFFSETFROM:-0700
TZOFFSETTO:-0800
TZNAME:PST
DTSTART:20231105T090000
END:STANDARD
END:VTIMEZONE
BEGIN:VEVENT
DTSTART;TZID=America/Los_Angeles:20230712T130000
DTEND;TZID=America/Los_Angeles:20230712T140000
DTSTAMP:20260425T212135
CREATED:20230703T212500Z
LAST-MODIFIED:20230703T212835Z
UID:37370-1689166800-1689170400@www.sdmart.org
SUMMARY:Virtual Tour: The Stories in Landscape
DESCRIPTION:Wednesday\, July 12th \n1:00 p.m. – 2:00 p.m. PT \n  \nLandscapes are more than images of places. They tell stories filled with emotion\, philosophy\, historical events\, intrigue\, and adventure. They often also tell us about the life and passions of the artists who made them. During this tour\, you will travel the world through various time periods. In addition to these fascinating stories\, we will explore different techniques and media\, and experience their effects. \nPlease reserve your spot by clicking on this link. All participants will be sent the Zoom link and instructions via email once you secure your place. Space is limited. \nReserve my spot! \n\nHosted by The San Diego Museum of Art Docent Council. \nFeatured: Bernardo Bellotto\, The Molo from the Basin of San Marco\, Venice\, 1740. Oil on canvas. Gift Anne R. and Amy Putnam\, 1942.132.
URL:https://www.sdmart.org/event/virtual-tour-the-stories-in-landscapes/
LOCATION:CA
CATEGORIES:Tours
ATTACH;FMTTYPE=image/jpeg:https://www.sdmart.org/wp-content/uploads/2023/05/1942-1322023-RESIZED.jpg
END:VEVENT
BEGIN:VEVENT
DTSTART;TZID=America/Los_Angeles:20230719T130000
DTEND;TZID=America/Los_Angeles:20230719T140000
DTSTAMP:20260425T212135
CREATED:20230706T224839Z
LAST-MODIFIED:20230716T161135Z
UID:37389-1689771600-1689775200@www.sdmart.org
SUMMARY:Virtual Tour: The Art of Georgia O'Keeffe and Henry Moore
DESCRIPTION:Wednesday\, July 19th \n1:00 p.m. – 2:00 p.m. PT \n  \nGeorgia O’Keeffe and Henry Moore were uncannily similar in their pursuit of natural forms: bones and stones\, shells; the unity of the female body with nature. They independently sought and were inspired by the organic roots of modern abstraction\, half a world away from each other. This tour will explore these artists’ works and the connection between the themes in which they were engaged\, comparing their working methods\, exploration of found objects\, and the juxtaposition of unlikely forms. \nPlease reserve your spot by clicking on this link. All participants will be sent the Zoom link and instructions via email once you secure your place. Space is limited. \nReserve my spot! \n\nHosted by The San Diego Museum of Art Docent Council. \nFeatured: Georgia O’Keeffe\, Ram’s Head\, Blue Morning Glory\, 1938. Oil on canvas. Georgia O’Keeffe Museum. Gift of The Burnett Foundation\, 2007.1.24. © 2022 Georgia O’Keeffe Museum / Artists Rights Society (ARS)\, New York.
URL:https://www.sdmart.org/event/virtual-tour-okeeffe-and-moore-july-19/
LOCATION:CA
CATEGORIES:Tours
ATTACH;FMTTYPE=image/jpeg:https://www.sdmart.org/wp-content/uploads/2022/08/OK-Rams-Head-Blue-Morning-GLory-GOKM_resize.jpg
END:VEVENT
BEGIN:VEVENT
DTSTART;TZID=America/Los_Angeles:20230730T130000
DTEND;TZID=America/Los_Angeles:20230730T140000
DTSTAMP:20260425T212135
CREATED:20230709T224837Z
LAST-MODIFIED:20230724T201732Z
UID:37421-1690722000-1690725600@www.sdmart.org
SUMMARY:Virtual Tour: The Art of Georgia O'Keeffe and Henry Moore
DESCRIPTION:Sunday\, July 30th \n1:00 p.m. – 2:00 p.m. PT \n  \nGeorgia O’Keeffe and Henry Moore both sought inspiration from the natural world throughout their careers. They were uncannily similar in their need to be in nature and in their collection of natural forms such as bones\, stones\, and shells\, and both used these found objects as sources for their work. They independently sought and were inspired by the organic roots of modern abstraction\, half a world away from each other. This tour will explore these artists’ works and the connection between the themes in which they were engaged\, comparing their working methods\, exploration of found objects\, and the juxtaposition of unlikely forms. \nPlease reserve your spot 24 hours before the event by clicking on this link. All participants will be sent the Zoom link and instructions via email the day before the tour. Space is limited. \nReserve my spot! \n\nHosted by The San Diego Museum of Art Docent Council. \nFeatured: Georgia O’Keeffe\, Ram’s Head\, Blue Morning Glory\, 1938. Oil on canvas. Georgia O’Keeffe Museum. Gift of The Burnett Foundation\, 2007.1.24. © 2022 Georgia O’Keeffe Museum / Artists Rights Society (ARS)\, New York.
URL:https://www.sdmart.org/event/virtual-tour-okeeffe-and-moore-july-30/
LOCATION:CA
CATEGORIES:Tours
ATTACH;FMTTYPE=image/jpeg:https://www.sdmart.org/wp-content/uploads/2022/08/OK-Rams-Head-Blue-Morning-GLory-GOKM_resize.jpg
END:VEVENT
END:VCALENDAR