BEGIN:VCALENDAR
VERSION:2.0
PRODID:-//San Diego Museum of Art - ECPv6.7.0//NONSGML v1.0//EN
CALSCALE:GREGORIAN
METHOD:PUBLISH
X-ORIGINAL-URL:https://www.sdmart.org
X-WR-CALDESC:Events for San Diego Museum of Art
REFRESH-INTERVAL;VALUE=DURATION:PT1H
X-Robots-Tag:noindex
X-PUBLISHED-TTL:PT1H
BEGIN:VTIMEZONE
TZID:America/Los_Angeles
BEGIN:DAYLIGHT
TZOFFSETFROM:-0800
TZOFFSETTO:-0700
TZNAME:PDT
DTSTART:20240310T100000
END:DAYLIGHT
BEGIN:STANDARD
TZOFFSETFROM:-0700
TZOFFSETTO:-0800
TZNAME:PST
DTSTART:20241103T090000
END:STANDARD
END:VTIMEZONE
BEGIN:VEVENT
DTSTART;TZID=America/Los_Angeles:20241214T103000
DTEND;TZID=America/Los_Angeles:20241214T113000
DTSTAMP:20260421T193551
CREATED:20241121T232718Z
LAST-MODIFIED:20241218T170043Z
UID:49215-1734172200-1734175800@www.sdmart.org
SUMMARY:Books & Art: Storytime in the Library with Omid Arabian
DESCRIPTION:Saturday\, December 14\n10:30 and 11:00 a.m.\nThe San Diego Museum of Art Library \n  \n\nJoin us for an enchanting storytime with author Omid Arabian at The San Diego Museum of Art Library! \n\n\nFamilies are invited to experience the magic of Persian mysticism through captivating readings from Omid’s beloved children’s books\, inspired by the poetry of the great Rumi. Enjoy tales from The Heart’s Garden\, The Donkey’s Gone!\, and You Are Everything\, as well as insights from Omid’s translations of Rumi’s timeless works. Storytimes will take place at 10:30 a.m. and 11:00 a.m. inside the Museum’s Library\, with entry near the Panama 66 restaurant. \n\n\nThis Books & Art: Storytime in the Library is inspired by the Wonders of Creation: Art\, Science\, and Innovation in the Islamic World\, a special exhibition on view at The San Diego Museum of Art through January 5\, 2025. \n\n  \nOmid Arabian’s books are available for purchase in The Museum Store. Visit The Museum Store for artful gifting and curated selections.
URL:https://www.sdmart.org/event/books-art-storytime-in-the-library-with-omid-arabian/
LOCATION:The San Diego Museum of Art\, 1450 El Prado\, San Diego\, CA\, 92102\, United States
CATEGORIES:Families,Wonders of Creation,Workshop
ATTACH;FMTTYPE=image/jpeg:https://www.sdmart.org/wp-content/uploads/2024/11/Omid-Arabian-combo.jpg
GEO:32.732119;-117.1504179
X-APPLE-STRUCTURED-LOCATION;VALUE=URI;X-ADDRESS=The San Diego Museum of Art 1450 El Prado San Diego CA 92102 United States;X-APPLE-RADIUS=500;X-TITLE=1450 El Prado:geo:-117.1504179,32.732119
END:VEVENT
BEGIN:VEVENT
DTSTART;TZID=America/Los_Angeles:20241214T114500
DTEND;TZID=America/Los_Angeles:20241214T134500
DTSTAMP:20260421T193551
CREATED:20241209T185005Z
LAST-MODIFIED:20241218T164935Z
UID:52778-1734176700-1734183900@www.sdmart.org
SUMMARY:Community Art Workshop: Window Cards
DESCRIPTION:Saturday\, December 14\n11:45 a.m.–1:45 p.m.\nSDMA Library \n  \nJoin Museum educators for an art-making event in the Museum Library.\nExplore how artists use windows in art as a way to allow us to gain a perspective. Create your own window scene on card stock while also learning about various artists that incorporate windows in their work now on view in the Museum’s galleries.\n  \nNo reservation required. All materials will be provided.\n  \nGreat for artists of all ages\, Community Art Workshops invite artists to enjoy hands-on art making experiences inspired by the thinking and creating processes of artists on view at the Museum.
URL:https://www.sdmart.org/event/community-art-workshop-window-cards/
LOCATION:The San Diego Museum of Art\, 1450 El Prado\, San Diego\, CA\, 92102\, United States
CATEGORIES:Workshop
ATTACH;FMTTYPE=image/jpeg:https://www.sdmart.org/wp-content/uploads/2024/12/SDMA-Workshop-Window-Cards-2_web-resize.jpg
GEO:32.732119;-117.1504179
X-APPLE-STRUCTURED-LOCATION;VALUE=URI;X-ADDRESS=The San Diego Museum of Art 1450 El Prado San Diego CA 92102 United States;X-APPLE-RADIUS=500;X-TITLE=1450 El Prado:geo:-117.1504179,32.732119
END:VEVENT
END:VCALENDAR