BEGIN:VCALENDAR
VERSION:2.0
PRODID:-//San Diego Museum of Art - ECPv6.7.0//NONSGML v1.0//EN
CALSCALE:GREGORIAN
METHOD:PUBLISH
X-ORIGINAL-URL:https://www.sdmart.org
X-WR-CALDESC:Events for San Diego Museum of Art
REFRESH-INTERVAL;VALUE=DURATION:PT1H
X-Robots-Tag:noindex
X-PUBLISHED-TTL:PT1H
BEGIN:VTIMEZONE
TZID:America/Los_Angeles
BEGIN:DAYLIGHT
TZOFFSETFROM:-0800
TZOFFSETTO:-0700
TZNAME:PDT
DTSTART:20250309T100000
END:DAYLIGHT
BEGIN:STANDARD
TZOFFSETFROM:-0700
TZOFFSETTO:-0800
TZNAME:PST
DTSTART:20251102T090000
END:STANDARD
END:VTIMEZONE
BEGIN:VEVENT
DTSTART;TZID=America/Los_Angeles:20250510T120000
DTEND;TZID=America/Los_Angeles:20250510T140000
DTSTAMP:20260422T071924
CREATED:20250501T191146Z
LAST-MODIFIED:20250501T193617Z
UID:146088-1746878400-1746885600@www.sdmart.org
SUMMARY:Community Art Workshop: Modigliani Eyes
DESCRIPTION:Saturday\, May 10\nnoon–2:00 p.m.\nThe San Diego Museum of Art \nJames S. Copley Auditorium \n \n  \nJoin us in the auditorium for an afternoon of art making.\nGuided by Museum educators\, gather inspiration from The Blue-Eyed Boy by Amedeo Modigliani\, currently on view in Modern and Contemporary Art in Gallery 12. Engage in an art activity exploring color and the power and importance of the use of eyes in art. This event is free to the community. Please join us! \nNo reservation required. All materials will be provided. \n  \nGreat for artists of all ages\, Community Art Workshops invite artists to enjoy hands-on art making experiences inspired by the thinking and creating processes of artists on view at the Museum. Admission to the Museum not included. \n  \nFeatured at top right: Amedeo Modigliani (AKA Livorno Amedeo Clemente Modigliani)\, The Blue-Eyed Boy\, 1916. Oil on canvas. Gift of Ambassador and Mrs. Maxwell Gluck\, 1986.43. \n 
URL:https://www.sdmart.org/event/community-art-workshop-modigliani-eyes/
LOCATION:CA
CATEGORIES:Workshop
ATTACH;FMTTYPE=image/jpeg:https://www.sdmart.org/wp-content/uploads/2025/04/The-Blue-Eyed-Boy-by-Amedeo-Modigliani_1986.43.jpeg
END:VEVENT
END:VCALENDAR