BEGIN:VCALENDAR
VERSION:2.0
PRODID:-//San Diego Museum of Art - ECPv6.7.0//NONSGML v1.0//EN
CALSCALE:GREGORIAN
METHOD:PUBLISH
X-WR-CALNAME:San Diego Museum of Art
X-ORIGINAL-URL:https://www.sdmart.org
X-WR-CALDESC:Events for San Diego Museum of Art
REFRESH-INTERVAL;VALUE=DURATION:PT1H
X-Robots-Tag:noindex
X-PUBLISHED-TTL:PT1H
BEGIN:VTIMEZONE
TZID:America/Los_Angeles
BEGIN:DAYLIGHT
TZOFFSETFROM:-0800
TZOFFSETTO:-0700
TZNAME:PDT
DTSTART:20250309T100000
END:DAYLIGHT
BEGIN:STANDARD
TZOFFSETFROM:-0700
TZOFFSETTO:-0800
TZNAME:PST
DTSTART:20251102T090000
END:STANDARD
END:VTIMEZONE
BEGIN:VEVENT
DTSTART;TZID=America/Los_Angeles:20250719T103000
DTEND;TZID=America/Los_Angeles:20250719T120000
DTSTAMP:20260423T065013
CREATED:20250616T224749Z
LAST-MODIFIED:20250827T144151Z
UID:273762-1752921000-1752926400@www.sdmart.org
SUMMARY:Books & Art: Letter Writing Workshop
DESCRIPTION:Saturdays\, June 21\, July 19\, August 16\n10:30–11:45 a.m.\nThe San Diego Museum of Art Library \n  \nJoin us for a morning of artful reflection and handwritten connection.\nIn a fast-moving world of digital messages\, take a thoughtful pause to reconnect with the timeless art of letter-writing\, guided by creativity and meaningful conversation. \nWe will begin with a stroll through the sculpture garden\, taking time to observe\, discuss\, and respond to selected works and their creators. Together\, we will explore questions of artistic intention\, personal interpretation\, and emotional response while practicing the essential creative act of thinking deeply and expressing ourselves with care. \nYou will then be invited to write a letter to an artist\, whether living or past\, or to someone with whom you wish to share your reflections. This is a chance to slow down\, be present\, and engage meaningfully with art through writing. \nAll materials will be provided\, including guidance on how to compose\, personalize\, address\, and send your handwritten letter. \n  \nPlease RSVP here to save your spot. Registration is limited to 15 participants. Museum admission not included.
URL:https://www.sdmart.org/event/books-art-letter-writing-workshop-summersat/2025-07-19/
LOCATION:The San Diego Museum of Art\, 1450 El Prado\, San Diego\, CA\, 92102\, United States
CATEGORIES:Workshop
ATTACH;FMTTYPE=image/jpeg:https://www.sdmart.org/wp-content/uploads/2024/06/Books-and-Art_Layered-Letters-web-resize.jpg
GEO:32.732119;-117.1504179
X-APPLE-STRUCTURED-LOCATION;VALUE=URI;X-ADDRESS=The San Diego Museum of Art 1450 El Prado San Diego CA 92102 United States;X-APPLE-RADIUS=500;X-TITLE=1450 El Prado:geo:-117.1504179,32.732119
END:VEVENT
BEGIN:VEVENT
DTSTART;TZID=America/Los_Angeles:20250719T110000
DTEND;TZID=America/Los_Angeles:20250719T130000
DTSTAMP:20260423T065013
CREATED:20250227T222947Z
LAST-MODIFIED:20250227T223338Z
UID:94010-1752922800-1752930000@www.sdmart.org
SUMMARY:Community Art Workshop: Foam Printmaking
DESCRIPTION:Saturday\, July 19\n11:00 a.m.–1:00 p.m.\nThe San Diego Museum of Art \nMay S. Marcy Sculpture Garden \n  \nJoin Museum educators for an art-making event in the Museum sculpture garden.\nDiscover the art of printmaking inspired by modern Mexican printmakers. Carve your own design into foam and create bold prints while exploring the powerful imagery and themes of Mexican modernist prints in the Museum’s collection.  \nNo reservation required. All materials will be provided.   \n  \nGreat for artists of all ages\, Community Art Workshops invite artists to enjoy hands-on art making experiences inspired by the thinking and creating processes of artists on view at the Museum. Museum admission not included.
URL:https://www.sdmart.org/event/community-art-workshop-foam-printmaking-july/
LOCATION:The San Diego Museum of Art\, 1450 El Prado\, San Diego\, CA\, 92102\, United States
CATEGORIES:Access for All,Workshop
ATTACH;FMTTYPE=image/jpeg:https://www.sdmart.org/wp-content/uploads/2025/02/Community-Art-Workshop-Foam-Printmaking_DIY-sheet-image-4.jpg
GEO:32.732119;-117.1504179
X-APPLE-STRUCTURED-LOCATION;VALUE=URI;X-ADDRESS=The San Diego Museum of Art 1450 El Prado San Diego CA 92102 United States;X-APPLE-RADIUS=500;X-TITLE=1450 El Prado:geo:-117.1504179,32.732119
END:VEVENT
END:VCALENDAR