BEGIN:VCALENDAR
VERSION:2.0
PRODID:-//San Diego Museum of Art - ECPv6.7.0//NONSGML v1.0//EN
CALSCALE:GREGORIAN
METHOD:PUBLISH
X-ORIGINAL-URL:https://www.sdmart.org
X-WR-CALDESC:Events for San Diego Museum of Art
REFRESH-INTERVAL;VALUE=DURATION:PT1H
X-Robots-Tag:noindex
X-PUBLISHED-TTL:PT1H
BEGIN:VTIMEZONE
TZID:UTC
BEGIN:STANDARD
TZOFFSETFROM:+0000
TZOFFSETTO:+0000
TZNAME:UTC
DTSTART:20170101T000000
END:STANDARD
TZID:America/Los_Angeles
BEGIN:DAYLIGHT
TZOFFSETFROM:-0800
TZOFFSETTO:-0700
TZNAME:PDT
DTSTART:20170312T100000
END:DAYLIGHT
BEGIN:STANDARD
TZOFFSETFROM:-0700
TZOFFSETTO:-0800
TZNAME:PST
DTSTART:20171105T090000
END:STANDARD
TZID:America/Los_Angeles
BEGIN:DAYLIGHT
TZOFFSETFROM:-0800
TZOFFSETTO:-0700
TZNAME:PDT
DTSTART:20170312T100000
END:DAYLIGHT
BEGIN:STANDARD
TZOFFSETFROM:-0700
TZOFFSETTO:-0800
TZNAME:PST
DTSTART:20171105T090000
END:STANDARD
END:VTIMEZONE
BEGIN:VEVENT
DTSTART;TZID=UTC:20170903T130000
DTEND;TZID=UTC:20170903T130000
DTSTAMP:20260424T170235
CREATED:20170602T020015Z
LAST-MODIFIED:20170829T220507Z
UID:1765-1504443600-1504443600@www.sdmart.org
SUMMARY:Family Drop-In Day
DESCRIPTION:Beyond the Playground\nThe San Diego Museum of Art\nSunday\, 1:00 p.m.\n\n\n\n\nFamilies are invited to explore the Museum together through special activities enjoyable for both adults and children. Participants take part in art projects inspired by the Museum’s collection\, go on family-friendly\, docent-led tours\, and play Museum generated gallery games. Themes and projects change each month. \nStudents will explore abstract exercises through collage inspired by Brenda Biondo: Play\, currently on view. Play focuses on familiar subjects—the built space of the playground\, the open sky—with fresh eyes\, attuned to subtle harmonies of form and color. All materials will be provided by the Museum. \nRecommended for families with children ages 6–12. Children must be accompanied by an adult. Visitors ages 17 & under receive free admission year-round. \n\nFree after Museum admission
URL:https://www.sdmart.org/event/family-drop-in-days/
CATEGORIES:Education,Families
ATTACH;FMTTYPE=image/jpeg:https://www.sdmart.org/wp-content/uploads/2017/06/paper_sky_27_lowres.jpg
END:VEVENT
BEGIN:VEVENT
DTSTART;TZID=America/Los_Angeles:20170910T160000
DTEND;TZID=America/Los_Angeles:20170910T180000
DTSTAMP:20260424T170235
CREATED:20170810T171848Z
LAST-MODIFIED:20170828T161315Z
UID:4053-1505059200-1505066400@www.sdmart.org
SUMMARY:Irshad Khan Sitar Concert
DESCRIPTION:Join the Committee for the Arts of the Indian Subcontinent for an extraordinary sitar concert by Ustad Irshad Khan. Internationally recognized as one of the leading sitar players\, Khan is is a prominent surbahar (bass sitar) exponent of his generation. \nHailing from a lineage of Maestros\, Irshad is the son and pupil of Ustad Imrat Khan and the nephew of Ustad Vilayat Khan – both world renowned sitar players. A child prodigy\, Khan gave his first public performance at the age of seven. His national debut was at the Queen Elizabeth Hall in London\, England when he was only 13. At 18\, he made history as the youngest soloist to perform at one of the most prestigious international music festivals in London\, known as the Indian All Night Concert at the Proms. Since then he was played in over 40 nations spanning the globe. \nIrshad Khan is the founder/president of the Universal Academy for Musicians\, based in Mississauga and Mumbai. An avid scholar\, he also conducts workshops\, lectures\, and classes in various educational institutions. \nIrshad plays with a superb mastery and powerful dexterity. His phenomenal control of the intricate “gayaki-ang” (vocal) and “trantra-ang” (instrumental) styles makes Irshad Khan one of the worlds most dynamic musicians. He is the torchbearer of the younger generation of the leading school of sitar\, known as the Imdadkhani Etawa Gharana. \nWhether performing familiar works from the traditional ragas\, or exploring cultures and musical forms outside of the Indian classical tradition\, Irshad strives to play music that stimulates the imagination. This remarkable versatility allows Irshad to transcend cultural barriers\, and turn each performance into an energetic and unforgettable experience for audiences everywhere. \n \n\nTickets \n$40 Museum members / $30 CAIS members\, students with ID / $45 nonmembers \nReserved seating in the first five rows are available for $60. VIP tickets with reserved front row seating and dinner with Irshad Khan are available for $100. Contact Jas Grewal at jas@dutia.net or 858.353.0302 for reserved seating.
URL:https://www.sdmart.org/event/irshad-khan-sitar-concert/
LOCATION:James S. Copley Auditorium\, 1450 El Prado\, San Diego\, CA\, 92101\, United States
CATEGORIES:Music,Support Council
ATTACH;FMTTYPE=image/jpeg:https://www.sdmart.org/wp-content/uploads/2017/08/13047932_763621347107327_5107342363553718320_o.jpg
END:VEVENT
BEGIN:VEVENT
DTSTART;TZID=America/Los_Angeles:20170911T080000
DTEND;TZID=America/Los_Angeles:20170911T170000
DTSTAMP:20260424T170235
CREATED:20170911T222653Z
LAST-MODIFIED:20170911T222653Z
UID:4568-1505116800-1505149200@www.sdmart.org
SUMMARY:Museum Store Sunday
DESCRIPTION:Sunday\, November 26 \nThe Museum Store is proud to be a part of Museum Store Sunday\, an annual international event to shop conscientiously and support museum stores and their missions worldwide. Holiday shoppers will be able to ﬁnd quality gifts ﬁlled with inspiration and educational value. Each dollar spent at The Museum Store or Bibliotique goes directly to support the Museum’s exhibitions and educational programs.
URL:https://www.sdmart.org/event/museum-store-sunday/
ATTACH;FMTTYPE=image/jpeg:https://www.sdmart.org/wp-content/uploads/2017/06/StoreH1.jpg
END:VEVENT
BEGIN:VEVENT
DTSTART;TZID=America/Los_Angeles:20170911T080000
DTEND;TZID=America/Los_Angeles:20170911T170000
DTSTAMP:20260424T170235
CREATED:20170911T223520Z
LAST-MODIFIED:20170911T223520Z
UID:4570-1505116800-1505149200@www.sdmart.org
SUMMARY:Jewelry Artisan Showcase
DESCRIPTION:Saturday\, December 9\n11:00 a.m.–4:00 p.m. \nJoin us for an artisan showcase of local La Jolla favorite Sheri Liebert\, featuring her latest holiday designs.
URL:https://www.sdmart.org/event/jewelry-artisan-showcase/
LOCATION:The Museum Store\, 1450 El Prado\, San Diego\, CA\, 92101\, United States
ATTACH;FMTTYPE=image/jpeg:https://www.sdmart.org/wp-content/uploads/2017/06/StoreH1.jpg
GEO:32.732119;-117.1504179
X-APPLE-STRUCTURED-LOCATION;VALUE=URI;X-ADDRESS=The Museum Store 1450 El Prado San Diego CA 92101 United States;X-APPLE-RADIUS=500;X-TITLE=1450 El Prado:geo:-117.1504179,32.732119
END:VEVENT
BEGIN:VEVENT
DTSTART;TZID=UTC:20170911T103000
DTEND;TZID=UTC:20170911T103000
DTSTAMP:20260424T170235
CREATED:20170602T020239Z
LAST-MODIFIED:20170619T041337Z
UID:1768-1505125800-1505125800@www.sdmart.org
SUMMARY:Books Arts as an Art Medium
DESCRIPTION:Offsite\, Grossmont Healthcare Center Auditorium 9001 Wakarusa Street\, La Mesa\, CA 91942\nMonday\, 10:30 a.m.\n\nMichele Burgess\, Director of Brighton Press\, discusses the art of ﬁne press books and collaborations on projects that involve the book as medium. Her books are in public collections across the country and have been shown at the Musée d’Art Americain in Giverny\, France. Director Burgess works in printmaking\, painting\, sculpture\, and book arts. She teaches in the art departments at San Diego State University and the University of San Diego. \nSponsored by the Arts Education Council \n  \n\nFree
URL:https://www.sdmart.org/event/books-arts-as-an-art-medium/
LOCATION:Grossmont Healthcare Center Auditorium\, 9001 Wakarusa Street\, La Mesa\, CA\, 91942\, United States
CATEGORIES:Education
ATTACH;FMTTYPE=image/jpeg:https://www.sdmart.org/wp-content/uploads/2017/06/bauman_photographers_00144-2561230846-o.jpg
GEO:32.7815161;-117.0040487
X-APPLE-STRUCTURED-LOCATION;VALUE=URI;X-ADDRESS=Grossmont Healthcare Center Auditorium 9001 Wakarusa Street La Mesa CA 91942 United States;X-APPLE-RADIUS=500;X-TITLE=9001 Wakarusa Street:geo:-117.0040487,32.7815161
END:VEVENT
BEGIN:VEVENT
DTSTART;TZID=UTC:20170915T100000
DTEND;TZID=UTC:20170915T100000
DTSTAMP:20260424T170235
CREATED:20170522T092340Z
LAST-MODIFIED:20170906T190232Z
UID:1041-1505469600-1505469600@www.sdmart.org
SUMMARY:A Closer Look at Latin American Art in the Pérez Simón Collection
DESCRIPTION:Guest Lecture & Tour Series\nRoxana Velásquez\, Maruja Baldwin Executive Director at The San Diego Museum of Art\, kicks off the 2017-18 Guest Lecture & Tour Series by giving attendees a first look at the upcoming exhibition Modern Masters from Latin America: The Pérez Simón Collection (opening October 21). The exhibition celebrates the multifaceted history of Latin American modernism from the late 1800s to the first decade of this century\, showcasing works of seminal figures from countries including Argentina\, Chile\, Colombia\, Cuba\, Mexico\, Peru\, Brazil\, and Uruguay. Among the artists featured in this exhibition are Fernando Botero\, Alfredo Castañeda\, Pedro Figari\, Gunther Gerzso\, Félix González-Torres\, Frida Kahlo\, Wifredo Lam\, Roberto Matta\, Alfredo Ramos Martínez\, Diego Rivera\, Kazuya Sakai\, David Alfaro Siqueiros\, Jesús Rafael Soto\, Lino Eneas Spilimbergo\, Rufino Tamayo\, and Joaquín Torres-García. \nSee the full list of speakers for the 2017-18 Guest Lecture and Tour Series. \n\nTickets: $13 members / $16 nonmembers / $8 seniors\, military / $5 students \nSeries Tickets: $99 members / $126 nonmembers / $54 seniors\, military / $20 students \nLearn about the art world all year long! To purchase series tickets please call 619.696.1935. \n\nFeatured: Mario Carreño Morales\, Young Girls with Shells (Jóvenes con conchas)\, 1945. Duco on Canvas. Colección Pérez Simón\, Mexico © Rafael Doniz.
URL:https://www.sdmart.org/event/a-closer-look-at-latin-american-art-in-the-perez-simon-collection/
LOCATION:James S. Copley Auditorium\, 1450 El Prado\, San Diego\, CA\, 92101\, United States
CATEGORIES:Guest Lecture Series,Lecture-old
ATTACH;FMTTYPE=image/jpeg:https://www.sdmart.org/wp-content/uploads/2017/05/calendar-event.jpg
END:VEVENT
BEGIN:VEVENT
DTSTART;TZID=UTC:20170916T090000
DTEND;TZID=UTC:20170916T090000
DTSTAMP:20260424T170235
CREATED:20170522T092512Z
LAST-MODIFIED:20170802T152404Z
UID:1045-1505552400-1505552400@www.sdmart.org
SUMMARY:Mini Monet: Plein-Air Painting Workshop
DESCRIPTION:Offsite\, Balboa Park Lily Pond (Meet at the Museum)\nSaturday\, 9:00 a.m. – 1:00 p.m.\nTHIS WORKSHOPS HAS SOLD OUT \n\n\n\n\nCreate a series of small-scale works of art inspired by the exhibition Reﬂections on Monet in this pleinair painting workshop led by Museum Educator Alyson Blum. The workshop will begin with an exclusive\, before-hours tour of the exhibition\, followed by instruction on multiple media\, including acrylic paint and water-soluble oil pastels\, at the picturesque Balboa Park Lily Pond. \nCan’t join this workshop? Purchase tickets to the next Mini Monet: Plein-Air Painting Workshop on Saturday\, September 23. Same program presented both days. \nWorkshop fee includes all supplies. Open to all skill levels. This workshop will take place outdoors and it is recommended that participants bring water and a hat for shade. Workshop may be canceled or rescheduled due to inclement weather. \nWorkshop Cancellation Policy: Cancellations must be made at least 72 hours prior to class time to receive a full refund. After the 72-hour mark\, no refunds will be given. \n\n$40 members & students / $45 seniors & military / $50 nonmembers\n\n\nClaude Monet\, Le Bassin des Nympheas\, 1904\, Oil on Canvas. Denver Art Museum Collection. Funds from Helen Dill bequest.
URL:https://www.sdmart.org/event/mini-monet-plein-air-painting-workshop/
LOCATION:Balboa Park Lily Pond
CATEGORIES:Workshop-old
ATTACH;FMTTYPE=image/jpeg:https://www.sdmart.org/wp-content/uploads/2017/05/1935_14_lowres-2.jpg
END:VEVENT
BEGIN:VEVENT
DTSTART;TZID=America/Los_Angeles:20170917T140000
DTEND;TZID=America/Los_Angeles:20170917T153000
DTSTAMP:20260424T170235
CREATED:20170824T154544Z
LAST-MODIFIED:20170913T213047Z
UID:4235-1505656800-1505662200@www.sdmart.org
SUMMARY:Casta Paintings of 18th Century Mexico: Africa in the Diaspora\, the Mixing of People\, and the Building of a New World
DESCRIPTION:The African and Pacific Arts Council present a talk by art historian and SDSU Professor Emerita Dr. Janet Brody Esser in The San Diego Museum of Art’s boardroom. Refreshments will be provided. \nFree for APAC members\, youth 6 & under\, college students\, full time with ID / $4.50 youth\, ages 7-17 / $5 SDMA members / $10 nonmembers \nFeatured: An African Man and a Spanish Woman Produce a Mulatto. Anon. Mexico.\n 
URL:https://www.sdmart.org/event/casta-paintings-18th-century-mexico-africa-diaspora-mixing-people-building-new-world/
LOCATION:The San Diego Museum of Art\, 1450 El Prado\, San Diego\, CA\, 92102\, United States
CATEGORIES:Lecture-old,Support Council
ATTACH;FMTTYPE=image/jpeg:https://www.sdmart.org/wp-content/uploads/2017/08/Capture-1.jpg
GEO:32.732119;-117.1504179
X-APPLE-STRUCTURED-LOCATION;VALUE=URI;X-ADDRESS=The San Diego Museum of Art 1450 El Prado San Diego CA 92102 United States;X-APPLE-RADIUS=500;X-TITLE=1450 El Prado:geo:-117.1504179,32.732119
END:VEVENT
BEGIN:VEVENT
DTSTART;TZID=UTC:20170918T093000
DTEND;TZID=UTC:20170918T093000
DTSTAMP:20260424T170235
CREATED:20170602T015544Z
LAST-MODIFIED:20170619T041907Z
UID:1757-1505727000-1505727000@www.sdmart.org
SUMMARY:American Art: A Fresh Look
DESCRIPTION:Offsite\, St. Peter’s Episcopal Church\, Maiden Lane\, Del Mar\, CA 92014\nMonday\, 9:30 a.m.\n\nMuseum docent Sherry Reed offers a look at the highlights of the reinstallation of the American Art galleries. The selection from the Museum’s collection\, curated by Deputy Director for Curatorial Affairs Anita Feldman\, represents major artists and movements of American art\, from landscapes to minimalism. \nSponsored by the North County Chapter \n\nFree NCC members / $10 guests\n\nRobert Henri\, Portrait of Mrs. Robert Henri\, 1914. Oil on canvas. Gift of Mrs. George Heyneman. 1959.7.
URL:https://www.sdmart.org/event/american-art-a-fresh-look/
LOCATION:St. Peter’s Episcopal Church\, Maiden Lane\, Del Mar\, CA\, 92014\, United States
CATEGORIES:Education
ATTACH;FMTTYPE=image/jpeg:https://www.sdmart.org/wp-content/uploads/2017/06/1959-7.jpg
GEO:32.9576935;-117.2639356
X-APPLE-STRUCTURED-LOCATION;VALUE=URI;X-ADDRESS=St. Peter’s Episcopal Church Maiden Lane Del Mar CA 92014 United States;X-APPLE-RADIUS=500;X-TITLE=Maiden Lane:geo:-117.2639356,32.9576935
END:VEVENT
BEGIN:VEVENT
DTSTART;TZID=America/Los_Angeles:20170918T093000
DTEND;TZID=America/Los_Angeles:20170918T220000
DTSTAMP:20260424T170235
CREATED:20170821T204754Z
LAST-MODIFIED:20170821T204754Z
UID:4173-1505727000-1505772000@www.sdmart.org
SUMMARY:American Art: A Fresh Look
DESCRIPTION:From 4\,000 works in the The San Diego Museum of Art’s collection of American Art\, Deputy Director for Curatorial Affairs and Education\, Anita Feldman\, has gleaned the best of the best representing major artists and movements that depict the art of America. From landscapes to minimalism\, docent Sherry Reed will walk you through the highlights of this reinstallation. \nFree to North County Chapter members / $10 nonmembers
URL:https://www.sdmart.org/event/american-art-fresh-look/
LOCATION:St. Peter’s Episcopal Church\, Maiden Lane\, Del Mar\, CA\, 92014\, United States
CATEGORIES:Lecture-old,Support Council
GEO:32.9576935;-117.2639356
X-APPLE-STRUCTURED-LOCATION;VALUE=URI;X-ADDRESS=St. Peter’s Episcopal Church Maiden Lane Del Mar CA 92014 United States;X-APPLE-RADIUS=500;X-TITLE=Maiden Lane:geo:-117.2639356,32.9576935
END:VEVENT
BEGIN:VEVENT
DTSTART;TZID=UTC:20170919T120000
DTEND;TZID=UTC:20170919T120000
DTSTAMP:20260424T170235
CREATED:20170602T015700Z
LAST-MODIFIED:20170619T042057Z
UID:1761-1505822400-1505822400@www.sdmart.org
SUMMARY:ArtStop: Claude Monet
DESCRIPTION:Museum Galleries\nTuesday\, 12:00 p.m.\n\nJoin us on the third Tuesday of each month during Resident’s Free Tuesday for an ArtStop. Led by Museum curators and educators\, these enlightening and informative 15-minute tours focus on one to three works on view in the galleries. \nTours meet at noon in the first floor rotunda. \nFree after Museum admission. \nClaude Monet\, Le Bassin des Nymphéas\, 1904. Oil on canvas. Denver Art Museum. Funds from Helen Dill bequest.
URL:https://www.sdmart.org/event/artstop-claude-monet/
CATEGORIES:Education
ATTACH;FMTTYPE=image/jpeg:https://www.sdmart.org/wp-content/uploads/2017/06/321654.jpg
END:VEVENT
BEGIN:VEVENT
DTSTART;TZID=America/Los_Angeles:20170921T180000
DTEND;TZID=America/Los_Angeles:20170921T220000
DTSTAMP:20260424T170235
CREATED:20170821T180534Z
LAST-MODIFIED:20170921T215102Z
UID:4021-1506016800-1506031200@www.sdmart.org
SUMMARY:Culture & Cocktails: South Pacific
DESCRIPTION:Join us for an end of summer bash at Culture & Cocktails: South Pacific! Culture & Cocktails celebrates the Oceania region\, known for housing some of the world’s most diverse nations\, unique wildlife\, dense jungles and coastal swamps\, and rich and varied art forms. Oceania consists of four sub regions: Australasia\, Micronesia\, Polynesia\, and the Melanesia region that includes the country Papua New Guinea. Be sure the visit Art of Papua New Guinea from the Valerie Franklin Collection\, to see examples of art from this region. \nEnjoy tropical cocktails\, live music\, and performances highlighting different cultures of the South Pacific\, savory eats and treats\, art-making activities inspired by Papua New Guinea\, and more. Bring a friend\, meet someone new\, and experience art in a whole new way at Culture & Cocktails! \n  \n\nSavor a coconut-pineapple Pink Horchata Chi Chi signature cocktail inspired by the classic 1950s tiki rum libation complete with a new twist – horchata vodka\nEnjoy performances highlighting the various dance styles from the Polynesian islands of Tahiti\, Hawaii\, and New Zealand by Motu Nehenehe Polynesian Dancers\nA common form of Melanesian jewelry\, kapkap (circular shell discs)\, are valuable ornaments used for battles and acted as symbols of wealth and status during festivals. Find inspiration in The Art of Papua New Guinea and use shells to create your own kapkap accessory.\nPart smoothie\, part milkshake\, blended to perfection and served in a pineapple. Pineapple Crush will be serving up two refreshing options available for purchase.\nFeeling hungry? Sprinkles Cupcakes are giving sweet samplings of their most popular flavors including Sprinkle\, Lemon Coconut\, Dark Chocolate\, Red Velvet\, and Banana\, and Temaki Express Truck will have their signature bowls\, chicken salads\, acai bowls\, and more available for purchase.\nDJ Carlo is making his Culture & Cocktails debut with an extensive collection of tropical music\, from vintage 1950’s tiki classics such as Martin Denny and Les Baxter\, mixed with modern music\nGet your very own airbrush tattoo inspired by the pacific islands or a one-of-a-kind mini sculpture created by Recycled Palm Leaf artist William J Dorsett\nLocal jewelry artist Sheri Liebert will showcase her new Tahitian collection and other designs inspired by the South Pacific\n\n\nFeatured (left to right): Malagan plaque\, 19th Century. Wood. Valerie Franklin Collection. | Mask (lor)\, 19th Century. Wood. Valerie Franklin Collection. |  Canoe prow shield with mask\, 19th-20th Century. Wood. Valerie Franklin Collection.\n\nTickets\nONLINE TICKETING HAS CLOSED. A limited number of tickets will be available for purchase tonight at 5:o0 p.m.\nPurchased at the door (day of): $10 members / $35 nonmembers \n\n21+ event. IDs required for entry—no exceptions.\nEntrance to Culture & Cocktails is first-come\, first-served.\nA limited number of presale e-tickets are available online until capacity has been reached.\nMembership does not guarantee discounted tickets or entrance to this event.\nMembers and attendees must have an e-ticket (digital or printed) and valid ID for entry.\nOnline ticketing closes at 2:00 p.m. the day of the event.\nBags may be subject to inspection.\nNo refunds or exchanges.\nRead more on the Culture & Cocktails FAQ.\n\n Not a member? Join today for discounted access to Culture & Cocktails and more. \n\n\nGallery Collective VIP Lounge\n  \nJoin the artfully social for a VIP experience at Culture & Cocktails with the Gallery Collective! \nGallery Collective members enjoy complimentary tickets (2 with registration)\, an exclusive entrance line\, and access to a private VIP Lounge with an open bar exclusively for members of the Gallery Collective and their guests. Malahat Spirits Co. is hosting a signature cocktail exclusively for members of the Gallery Collective featuring Malahat’s award-winning rum spirits. Interested in joining\, upgrading your membership\, or want more information? Contact Lilli-Mari Andresen\, Manager of Circle and Gallery Donor Programs\, at landresen@sdmart.org. \n  \n  \n\nEvent Sponsors\n           
URL:https://www.sdmart.org/event/culture-cocktails-south-pacific/
CATEGORIES:Culture & Cocktails,Summer Program
ATTACH;FMTTYPE=image/jpeg:https://www.sdmart.org/wp-content/uploads/2017/08/IMG_9087.jpg
END:VEVENT
BEGIN:VEVENT
DTSTART;TZID=UTC:20170923T090000
DTEND;TZID=UTC:20170923T090000
DTSTAMP:20260424T170235
CREATED:20170522T092640Z
LAST-MODIFIED:20170920T154740Z
UID:1049-1506157200-1506157200@www.sdmart.org
SUMMARY:Mini Monet: Plein-Air Painting Workshop
DESCRIPTION:Offsite\, Balboa Park Lily Pond (Meet at the Museum)\nSaturday\, 9:00 a.m.\n\nTHIS EVENT HAS SOLD OUT. See more upcoming workshops.\n\n\n\n\n\nCreate a series of small-scale works of art inspired by the exhibition Reﬂections on Monet in this plein air painting workshop led by Museum Educator Alyson Blum. The workshop will begin with an exclusive\, before-hours tour of the exhibition\, followed by instruction on multiple media\, including acrylic paint and water-soluble oil pastels\, at the picturesque Balboa Park Lily Pond. \nWorkshop fee includes all supplies. Open to all skill levels. This workshop will take place outdoors and it is recommended that participants bring water and a hat for shade. Workshop may be canceled or rescheduled due to inclement weather. \nWorkshop Cancellation Policy: Cancellations must be made at least 72 hours prior to class time to receive a full refund. After the 72-hour mark\, no refunds will be given. \n\n\n$40 members & students / $45 seniors & military / $50 nonmembers \n\nClaude Monet\, Le Bassin des Nympheas\, 1904\, Oil on Canvas. Denver Art Museum Collection. Funds from Helen Dill bequest.
URL:https://www.sdmart.org/event/mini-monet-plein-air-painting-workshop-2/
LOCATION:Balboa Park Lily Pond
CATEGORIES:Workshop-old
ATTACH;FMTTYPE=image/jpeg:https://www.sdmart.org/wp-content/uploads/2017/05/1935_14_lowres-2.jpg
END:VEVENT
BEGIN:VEVENT
DTSTART;TZID=UTC:20170928T130000
DTEND;TZID=UTC:20170928T130000
DTSTAMP:20260424T170235
CREATED:20170602T015859Z
LAST-MODIFIED:20170619T042425Z
UID:1763-1506603600-1506603600@www.sdmart.org
SUMMARY:How the West Was Won: Marketing Japan in North America\, 1855–1915
DESCRIPTION:Boardroom\nThursday\, 1:00 p.m.\n\nThe opening of Japan in the 1850s to trade with Western nations inspired “Japonism\,” the widespread public enthusiasm in North America and Europe for “artistic” Japanese and Japanese-style consumer goods affordable by all economic classes. This illustrated talk by Will Chandler\, former Curator of Decorative Arts at the Museum\, surveys the ways in which Japanese exporters invented new kinds of artistic products to help pay for modernization\, and how American merchants presented Japanese culture and goods to attract buyers. \nSponsored by the Asian Arts Council \n  \n\nFree AAC members / $10 Museum members / $12 nonmembers / $8 students
URL:https://www.sdmart.org/event/how-the-west-was-won-marketing-japan-in-north-america-1855-1915/
CATEGORIES:Education,Lecture-old
ATTACH;FMTTYPE=image/jpeg:https://www.sdmart.org/wp-content/uploads/2017/05/Internships.H1.jpg
END:VEVENT
END:VCALENDAR