BEGIN:VCALENDAR
VERSION:2.0
PRODID:-//San Diego Museum of Art - ECPv6.7.0//NONSGML v1.0//EN
CALSCALE:GREGORIAN
METHOD:PUBLISH
X-WR-CALNAME:San Diego Museum of Art
X-ORIGINAL-URL:https://www.sdmart.org
X-WR-CALDESC:Events for San Diego Museum of Art
REFRESH-INTERVAL;VALUE=DURATION:PT1H
X-Robots-Tag:noindex
X-PUBLISHED-TTL:PT1H
BEGIN:VTIMEZONE
TZID:America/Los_Angeles
BEGIN:DAYLIGHT
TZOFFSETFROM:-0800
TZOFFSETTO:-0700
TZNAME:PDT
DTSTART:20170312T100000
END:DAYLIGHT
BEGIN:STANDARD
TZOFFSETFROM:-0700
TZOFFSETTO:-0800
TZNAME:PST
DTSTART:20171105T090000
END:STANDARD
TZID:America/Los_Angeles
BEGIN:DAYLIGHT
TZOFFSETFROM:-0800
TZOFFSETTO:-0700
TZNAME:PDT
DTSTART:20170312T100000
END:DAYLIGHT
BEGIN:STANDARD
TZOFFSETFROM:-0700
TZOFFSETTO:-0800
TZNAME:PST
DTSTART:20171105T090000
END:STANDARD
TZID:UTC
BEGIN:STANDARD
TZOFFSETFROM:+0000
TZOFFSETTO:+0000
TZNAME:UTC
DTSTART:20170101T000000
END:STANDARD
END:VTIMEZONE
BEGIN:VEVENT
DTSTART;TZID=America/Los_Angeles:20171105T130000
DTEND;TZID=America/Los_Angeles:20171105T150000
DTSTAMP:20260424T040944
CREATED:20170911T175754Z
LAST-MODIFIED:20171103T205911Z
UID:4534-1509886800-1509894000@www.sdmart.org
SUMMARY:Family Drop-In Day: Investigating Murals
DESCRIPTION:Sunday\, November 5\n1:00 – 3:00 p.m. \nFamilies are invited to investigate murals together through special activities enjoyable for both adults and children. Participants take part in art projects inspired by the Museum’s collection\, go on family-friendly\, docent-led tours\, and play Museum-generated gallery games. Themes and projects change each month. Recommended for families with children ages 6-12. Children must be accompanied by an adult. \nFree with Museum admission. Visitors ages 17 & under receive free Museum admission.
URL:https://www.sdmart.org/event/family-drop-day-investigating-murals/
LOCATION:The San Diego Museum of Art\, 1450 El Prado\, San Diego\, CA\, 92102\, United States
CATEGORIES:Education,Families
ATTACH;FMTTYPE=image/jpeg:https://www.sdmart.org/wp-content/uploads/2017/09/IMG_1337.jpg
GEO:32.732119;-117.1504179
X-APPLE-STRUCTURED-LOCATION;VALUE=URI;X-ADDRESS=The San Diego Museum of Art 1450 El Prado San Diego CA 92102 United States;X-APPLE-RADIUS=500;X-TITLE=1450 El Prado:geo:-117.1504179,32.732119
END:VEVENT
BEGIN:VEVENT
DTSTART;TZID=America/Los_Angeles:20171105T140000
DTEND;TZID=America/Los_Angeles:20171105T170000
DTSTAMP:20260424T040944
CREATED:20170911T225132Z
LAST-MODIFIED:20171103T165613Z
UID:4573-1509890400-1509901200@www.sdmart.org
SUMMARY:Musical ArtStop
DESCRIPTION:Sunday\, November 5\n2:00 – 5:00 p.m. \nTour the Museum through music! Travel through the collections as San Diego Youth Symphony soloists present 15-minute performances throughout the Museum inspired by works of art on view in the galleries.
URL:https://www.sdmart.org/event/musical-artstop-2/
LOCATION:The San Diego Museum of Art\, 1450 El Prado\, San Diego\, CA\, 92102\, United States
CATEGORIES:Families,Music,Tours
ATTACH;FMTTYPE=image/jpeg:https://www.sdmart.org/wp-content/uploads/2017/09/IMG_1390.jpg
GEO:32.732119;-117.1504179
X-APPLE-STRUCTURED-LOCATION;VALUE=URI;X-ADDRESS=The San Diego Museum of Art 1450 El Prado San Diego CA 92102 United States;X-APPLE-RADIUS=500;X-TITLE=1450 El Prado:geo:-117.1504179,32.732119
END:VEVENT
BEGIN:VEVENT
DTSTART;TZID=America/Los_Angeles:20171106T103000
DTEND;TZID=America/Los_Angeles:20171106T120000
DTSTAMP:20260424T040944
CREATED:20170911T213549Z
LAST-MODIFIED:20170911T213614Z
UID:4551-1509964200-1509969600@www.sdmart.org
SUMMARY:Kantha: Embroidery Identities of Bengal at the Mingei International Museum
DESCRIPTION:Monday\, November 6\n10:30 a.m. \nSDMA Arts Education Council members only \nMembers of the Arts Education Council are invited for a private docent tour at the Mingei\, to see an exhibition of approximately 40 kantha—a term used across the Indian subcontinent to denote decorative stitched quilting made from recycled sari. Most often given as a token of love\, to daughters on the occasion of their marriage\, or as a gift for a newborn child or grown son\, they can be the work of two or more generations in one family\, thus they are treasured as family heirlooms. \nSponsored by the Arts Education Council
URL:https://www.sdmart.org/event/kantha-embroidery-identities-bengal-mingei-international-museum/
LOCATION:Balboa Park
CATEGORIES:Support Council,Tours
END:VEVENT
BEGIN:VEVENT
DTSTART;TZID=America/Los_Angeles:20171109T110000
DTEND;TZID=America/Los_Angeles:20171109T110000
DTSTAMP:20260424T040944
CREATED:20171025T181813Z
LAST-MODIFIED:20171025T181813Z
UID:5018-1510225200-1510225200@www.sdmart.org
SUMMARY:Museum Opens at 11:00 a.m. Today
DESCRIPTION:Due to a staff event\, the Museum will open at 11:00 a.m. instead of 10:00 a.m. Thank you for your understanding.
URL:https://www.sdmart.org/event/museum-opens-1100-m-today/
END:VEVENT
BEGIN:VEVENT
DTSTART;TZID=America/Los_Angeles:20171110T180000
DTEND;TZID=America/Los_Angeles:20171110T203000
DTSTAMP:20260424T040944
CREATED:20171027T195653Z
LAST-MODIFIED:20171106T191559Z
UID:5033-1510336800-1510345800@www.sdmart.org
SUMMARY:Conversing with the Gods: about the painter Manaku (older brother of Nainsukh) and his work
DESCRIPTION:Friday\, November 10\n6:00 p.m. Registration\n6:30 p.m. Dinner\n7:30 p.m. Lecture \nLearn about the artistic journey of the 18th century painter\, Manaku\, coming from an uncommonly talented family that lived in an obscure little village in the hills of northern India. Endowed with soaring imagination and great painterly skills\, this man – with a name that literally means a ruby\, that ‘stone of fame and mystique’\, whose glow keeps hinting at an inner fire – was capable of painting giant rings of time upon timeless waters\, envisioning the world of gods and demons littered with cosmic battles and earthly triumphs\, but also gazing\, with tender eyes\, upon the world of two lovers in which there is tortured loneliness at one moment\, but\, in the next\, ‘her garlands fall on his chest and glisten like white cranes on a dark cloud.’ \nThis lecture is led by Dr. B.N. Goswamy\, distinguished art historian and Professor Emeritus of Art History at the Panjab University\, Chandigarh. \nTickets include full Indian dinner \nSponsored by the Committee for the Arts of the Indian Subcontinent \n$30 CAIS members and full time students / $40 member / $45 nonmember
URL:https://www.sdmart.org/event/conversing-gods-painter-manaku-older-brother-nainsukh-work/
LOCATION:Royal India Miramar\, 8990 Miramar Road\, #200\, San Diego\, CA\, 92126\, United States
CATEGORIES:Lecture-old,Support Council
ATTACH;FMTTYPE=image/jpeg:https://www.sdmart.org/wp-content/uploads/2017/10/manaku_fromguler.jpg
GEO:32.8953877;-117.132369
X-APPLE-STRUCTURED-LOCATION;VALUE=URI;X-ADDRESS=Royal India Miramar 8990 Miramar Road #200 San Diego CA 92126 United States;X-APPLE-RADIUS=500;X-TITLE=8990 Miramar Road\, #200:geo:-117.132369,32.8953877
END:VEVENT
BEGIN:VEVENT
DTSTART;TZID=America/Los_Angeles:20171111T090000
DTEND;TZID=America/Los_Angeles:20171111T130000
DTSTAMP:20260424T040944
CREATED:20170906T202117Z
LAST-MODIFIED:20171029T163929Z
UID:4419-1510390800-1510405200@www.sdmart.org
SUMMARY:Explorations in Shape\, Composition & Texture: Mixed Media Constructions Workshop
DESCRIPTION:Saturday\, November 11\n9:00 a.m.–1:00 p.m.\nMuseum Art School (Meet at the Museum) \nCreate your own constructive composition\, layering the ﬁgurative and the abstract. Explore the balance of nature and reason found in the work of Joaquín Torres-García using a variety of materials including acrylic paint\, canvas\, and modeling paste. Attendees will enjoy a docent-led museum tour\, and experiment with a variety of surface texture and patina methods to construct symbolic relief compositions inspired by the golden ratio divisions and pictographic symbols seen within Torres-García’s work. The workshop begins with an exclusive\, before-hours tour of the exhibition Modern Masters from Latin America: The Peréz Simón Collection. Participants will then be led through a hands-on workshop by Museum Educator Alyson Blum. \n$65 members\, students / $70 seniors\, military / $75 nonmembers \nWorkshop Cancellation Policy: Cancellations must be made at least 72 hours prior to class time to receive a full refund. After the 72-hour mark\, no refunds will be given.\nFeatured: Joaquín Torres-García\, Composition on Sun (Composición con sol)\, 1943.Oil on fibreboard on chipboard. Colección Pérez Simón\, Mexico © Rafael Doniz. Courtesy of the Estate of Joaquín Torres-García.
URL:https://www.sdmart.org/event/explorations-shape-composition-texture-mixed-media-constructions-workshop/
LOCATION:The San Diego Museum of Art\, 1450 El Prado\, San Diego\, CA\, 92102\, United States
CATEGORIES:Workshop-old
ATTACH;FMTTYPE=image/jpeg:https://www.sdmart.org/wp-content/uploads/2017/07/Composición-con-sol_lowres-1.jpg
GEO:32.732119;-117.1504179
X-APPLE-STRUCTURED-LOCATION;VALUE=URI;X-ADDRESS=The San Diego Museum of Art 1450 El Prado San Diego CA 92102 United States;X-APPLE-RADIUS=500;X-TITLE=1450 El Prado:geo:-117.1504179,32.732119
END:VEVENT
BEGIN:VEVENT
DTSTART;TZID=America/Los_Angeles:20171111T100000
DTEND;TZID=America/Los_Angeles:20171111T113000
DTSTAMP:20260424T040944
CREATED:20170906T220154Z
LAST-MODIFIED:20171106T173635Z
UID:4444-1510394400-1510399800@www.sdmart.org
SUMMARY:Art of Reading Book Club
DESCRIPTION:Saturday\, November 11\n10:00 a.m. \n\n\nClub attendees will discuss The Lady with an Ostrich-Feather Fan: The Story of the Yusupov Rembrandts with the author Frederick R. Andresen. Follow the journey of Rembrandt’s pair of portraits of a Dutch couple about to be married\, through events such as the French Revolution and the ravage of Napoleon’s assault of Russia\, as they make their way to the collection of the The National Gallery of Art in Washington\, DC. \nSpace is limited. RSVP at 619.696.1941.
URL:https://www.sdmart.org/event/art-reading-book-club/
LOCATION:Museum Boardroom
CATEGORIES:Member Event
ATTACH;FMTTYPE=image/jpeg:https://www.sdmart.org/wp-content/uploads/2017/09/26210375._UY500_SS500_.jpg
END:VEVENT
BEGIN:VEVENT
DTSTART;TZID=America/Los_Angeles:20171111T190000
DTEND;TZID=America/Los_Angeles:20171111T230000
DTSTAMP:20260424T040944
CREATED:20170920T191601Z
LAST-MODIFIED:20171106T173715Z
UID:4660-1510426800-1510441200@www.sdmart.org
SUMMARY:Western Standard Time Ska Orchestra at Panama 66
DESCRIPTION:Panama 66 & San Diego City Soul Club present WESTERN STANDARD TIME SKA ORCHESTRA featuring Greg Lee of Hepcat and special guests Mochillero All-Stars. \nMochilero All-Starts 7:00 p.m.\nSD City Soul Club DJ\nWestern Standard Time 9:00 p.m. \nAll Ages/Early Show\n$15 General Admission\n$20 At the Door (limited)
URL:https://www.sdmart.org/event/western-standard-time-ska-orchestra-panama-66/
CATEGORIES:Music,Panama 66
ATTACH;FMTTYPE=image/jpeg:https://www.sdmart.org/wp-content/uploads/2017/09/skaska.jpg
END:VEVENT
BEGIN:VEVENT
DTSTART;TZID=America/Los_Angeles:20171113T190000
DTEND;TZID=America/Los_Angeles:20171113T210000
DTSTAMP:20260424T040944
CREATED:20171003T195034Z
LAST-MODIFIED:20171003T195103Z
UID:4790-1510599600-1510606800@www.sdmart.org
SUMMARY:Artist Talk: James Kendall Higgins
DESCRIPTION:James Kendall Higgins\, known for his minimalist painting style\, has spent more than three decades working with architects and interior designers with emphasis in fine art\, graphics\, product design\, packaging\,residential and hospitality lighting and furniture design. His works are in numerous private and corporate collections worldwide. For more information & location of event\, contact Robin J. Lipman at tomayto@aol.com. \nFree for CAC members/1st time guests \nSponsored by the Contemporary Arts Committee.
URL:https://www.sdmart.org/event/artist-talk-james-kendall-higgins-2/
CATEGORIES:Artist Talk,Lecture-old,Support Council
END:VEVENT
BEGIN:VEVENT
DTSTART;TZID=America/Los_Angeles:20171116T080000
DTEND;TZID=America/Los_Angeles:20171116T180000
DTSTAMP:20260424T040944
CREATED:20170906T213849Z
LAST-MODIFIED:20171112T143126Z
UID:4442-1510819200-1510855200@www.sdmart.org
SUMMARY:Bus Tour: Bowers Museum of Art & Chen Art Gallery
DESCRIPTION:Thursday\, November 16\nBus leaves Old Naval Hospital at 8:00 a.m.; picks up at La Costa at 8:30 a.m. \nJoin the Asian Arts Council in a visit to the Bowers Museum for the exhibition Empress Dowager Cixi: Selections from the Summer Palace\, and a tour at the private collection in the Chen Art Gallery. Empress Dowager Cixi (1835–1908) was a notorious politician\, but also is known as a connoisseur\, patron\, and even creator of art in the early twentieth century. This exhibition\, through a groundbreaking partnership with the Summer Palace Museum in Beijing\, reconstructs the matriarch’s everyday life in the Summer Palace\, presenting her multi-faceted roles through over 100 objects that have never before been seen in the United States. \nThe Chen Art Gallery displays an impressive array of over 1000 artifacts spanning 5000 years of Chinese history from Neolithic pottery to early 20th century creations. For questions and reservation contact Lily Birmingham: lbirmingham@san.rr.com. \nSponsored by the Asian Arts Council \n$85 AAC members / $95 nonmembers
URL:https://www.sdmart.org/event/bus-tour-bowers-museum-art-chen-art-gallery/
CATEGORIES:Bus Tours,Support Council,Tours
ATTACH;FMTTYPE=image/png:https://www.sdmart.org/wp-content/uploads/2017/09/bowers.png
END:VEVENT
BEGIN:VEVENT
DTSTART;TZID=America/Los_Angeles:20171116T180000
DTEND;TZID=America/Los_Angeles:20171116T200000
DTSTAMP:20260424T040944
CREATED:20170906T204136Z
LAST-MODIFIED:20171112T143222Z
UID:4426-1510855200-1510862400@www.sdmart.org
SUMMARY:Teen Art Café: Modern Masters from Latin America
DESCRIPTION:Thursday\, November 16\n6:00 – 8:00 p.m. \nTeen artists meet and mingle with their peers and explore Latin American masterpieces in an after-hours visit to Modern Masters from Latin America: The Pérez Simón Collection and Frida and Me. Teens will get the chance to participate in 3 different art-making workshops led by Museum Educators\, and also get to strike a pose with friends in a themed photo booth. Light refreshments will be served. This program is open to middle school and high school students only. \nFor more information\, email teenartcafe@sdmart.org. \nFree for teens / Pre-registration not required \nFeatured: Joaquín Torres-García\, Composition on Sun (Composición con sol)\, 1943.Oil on fibreboard on chipboard. Colección Pérez Simón\, Mexico © Rafael Doniz. Courtesy of the Estate of Joaquín Torres-García.
URL:https://www.sdmart.org/event/teen-art-cafe-modern-masters-latin-america/
LOCATION:James S. Copley Auditorium\, 1450 El Prado\, San Diego\, CA\, 92101\, United States
CATEGORIES:Families,Teens
ATTACH;FMTTYPE=image/jpeg:https://www.sdmart.org/wp-content/uploads/2017/07/Composición-con-sol_lowres-1.jpg
END:VEVENT
BEGIN:VEVENT
DTSTART;TZID=UTC:20171117T100000
DTEND;TZID=UTC:20171117T100000
DTSTAMP:20260424T040944
CREATED:20170602T020511Z
LAST-MODIFIED:20171112T143728Z
UID:1771-1510912800-1510912800@www.sdmart.org
SUMMARY:Moore to Kapoor: The British Sculpture Revolution
DESCRIPTION:Guest Lecture and Tour Series\n\nSpeaker: Anita Feldman\, Deputy Director for Curatorial Affairs and Education at The San Diego Museum of Art \nSee the full list of speakers for the 2017-18 Guest Lecture and Tour Series. \nThis lecture series focuses on works of art on view in the Museum and topics of interest in the broader art world. Lectures are followed by docent-led tours. \n\nTickets: $13 members / $16 nonmembers / $8 seniors and military / $5 students\n\n\nFeatured: Bruce McLean\, Fallen Warrior\, 1969\, photograph. Image courtesy of the artist.
URL:https://www.sdmart.org/event/british-sculpture-revolution/
LOCATION:James S. Copley Auditorium\, 1450 El Prado\, San Diego\, CA\, 92101\, United States
CATEGORIES:Education,Guest Lecture Series
ATTACH;FMTTYPE=image/jpeg:https://www.sdmart.org/wp-content/uploads/2017/06/MCLEAN-2011-0013_Fallen_Warrior_cropped.jpg
END:VEVENT
BEGIN:VEVENT
DTSTART;TZID=America/Los_Angeles:20171118T150000
DTEND;TZID=America/Los_Angeles:20171118T230000
DTSTAMP:20260424T040944
CREATED:20171107T232217Z
LAST-MODIFIED:20171114T222022Z
UID:5113-1511017200-1511046000@www.sdmart.org
SUMMARY:Panama66 closes at 1:30 p.m. today
DESCRIPTION:Panama66 closes at 1:30 p.m. today due to a private event. We thank you for your understanding.
URL:https://www.sdmart.org/event/panama66-closes-300-p-m-today/
END:VEVENT
BEGIN:VEVENT
DTSTART;TZID=America/Los_Angeles:20171121T190000
DTEND;TZID=America/Los_Angeles:20171121T190000
DTSTAMP:20260424T040944
CREATED:20171011T185316Z
LAST-MODIFIED:20171119T150017Z
UID:4849-1511290800-1511290800@www.sdmart.org
SUMMARY:Art of Élan: Latin American Voices
DESCRIPTION:Tuesday\, November 21\n7:00 p.m. \nArt of Élan’s gallery concert series at The San Diego Museum of Art kicks off with a special Thanksgiving week concert that draws inspiration from Modern Masters from Latin America: The Pérez Simón Collection. This exhibition charts a trajectory from the late 1800s to the first decade of this century\, showcasing the work of seminal figures from countries including Argentina\, Chile\, Colombia\, Cuba\, Mexico\, Peru\, Brazil\, and Uruguay.  The concert will feature works by Tania Leon\, Gabriela Ortiz\, Heitor Villa-Lobos\, among others. \n\nTo purchase an Art of Élan series pass for members or non-members\, please add all 3 concert tickets to your cart.
URL:https://www.sdmart.org/event/art-elan-latin-american-voices/
LOCATION:The San Diego Museum of Art\, 1450 El Prado\, San Diego\, CA\, 92102\, United States
CATEGORIES:Music
ATTACH;FMTTYPE=image/jpeg:https://www.sdmart.org/wp-content/uploads/2017/10/OA6A0240.jpg
GEO:32.732119;-117.1504179
X-APPLE-STRUCTURED-LOCATION;VALUE=URI;X-ADDRESS=The San Diego Museum of Art 1450 El Prado San Diego CA 92102 United States;X-APPLE-RADIUS=500;X-TITLE=1450 El Prado:geo:-117.1504179,32.732119
END:VEVENT
BEGIN:VEVENT
DTSTART;VALUE=DATE:20171123
DTEND;VALUE=DATE:20171124
DTSTAMP:20260424T040944
CREATED:20171031T234040Z
LAST-MODIFIED:20171107T232512Z
UID:5076-1511395200-1511481599@www.sdmart.org
SUMMARY:Museum & Panama66 are Closed
DESCRIPTION:The Museum and Panama66 are closed today due to the Thanksgiving holiday.
URL:https://www.sdmart.org/event/museum-is-closed/
END:VEVENT
BEGIN:VEVENT
DTSTART;VALUE=DATE:20171124
DTEND;VALUE=DATE:20171125
DTSTAMP:20260424T040944
CREATED:20171117T174917Z
LAST-MODIFIED:20171119T151032Z
UID:5230-1511481600-1511567999@www.sdmart.org
SUMMARY:Members' Appreciation Day
DESCRIPTION:Members of participating Southern California cultural institutions are allowed free admission to our museum with Membership ID\, and a 20% off discount in the Museum Store and Bibliotique (inside Panama 66) from November 24-26.
URL:https://www.sdmart.org/event/members-appreciation-day-2/
LOCATION:The San Diego Museum of Art\, 1450 El Prado\, San Diego\, CA\, 92102\, United States
CATEGORIES:Member Event,Museum Store
ATTACH;FMTTYPE=image/jpeg:https://www.sdmart.org/wp-content/uploads/2017/05/IMG_2748.jpg
GEO:32.732119;-117.1504179
X-APPLE-STRUCTURED-LOCATION;VALUE=URI;X-ADDRESS=The San Diego Museum of Art 1450 El Prado San Diego CA 92102 United States;X-APPLE-RADIUS=500;X-TITLE=1450 El Prado:geo:-117.1504179,32.732119
END:VEVENT
BEGIN:VEVENT
DTSTART;VALUE=DATE:20171125
DTEND;VALUE=DATE:20171126
DTSTAMP:20260424T040944
CREATED:20171117T174914Z
LAST-MODIFIED:20171119T151200Z
UID:5231-1511568000-1511654399@www.sdmart.org
SUMMARY:Members' Appreciation Day
DESCRIPTION:Members of participating Southern California cultural institutions are allowed free admission to our museum with Membership ID\, and a 20% off discount in the Museum Store and Bibliotique (inside Panama 66) from November 24-26.
URL:https://www.sdmart.org/event/members-appreciation-day/
LOCATION:The San Diego Museum of Art\, 1450 El Prado\, San Diego\, CA\, 92102\, United States
CATEGORIES:Member Event,Museum Store
ATTACH;FMTTYPE=image/jpeg:https://www.sdmart.org/wp-content/uploads/2017/05/IMG_2748.jpg
GEO:32.732119;-117.1504179
X-APPLE-STRUCTURED-LOCATION;VALUE=URI;X-ADDRESS=The San Diego Museum of Art 1450 El Prado San Diego CA 92102 United States;X-APPLE-RADIUS=500;X-TITLE=1450 El Prado:geo:-117.1504179,32.732119
END:VEVENT
BEGIN:VEVENT
DTSTART;VALUE=DATE:20171126
DTEND;VALUE=DATE:20171127
DTSTAMP:20260424T040944
CREATED:20171117T174919Z
LAST-MODIFIED:20171119T151324Z
UID:5232-1511654400-1511740799@www.sdmart.org
SUMMARY:Members' Appreciation Day
DESCRIPTION:Members of participating Southern California cultural institutions are allowed free admission to our museum with Membership ID\, and a 20% off discount in the Museum Store and Bibliotique (inside Panama 66) from November 24-26.
URL:https://www.sdmart.org/event/members-appreciation-day-3/
LOCATION:The San Diego Museum of Art\, 1450 El Prado\, San Diego\, CA\, 92102\, United States
CATEGORIES:Member Event,Museum Store
ATTACH;FMTTYPE=image/jpeg:https://www.sdmart.org/wp-content/uploads/2017/05/IMG_2748.jpg
GEO:32.732119;-117.1504179
X-APPLE-STRUCTURED-LOCATION;VALUE=URI;X-ADDRESS=The San Diego Museum of Art 1450 El Prado San Diego CA 92102 United States;X-APPLE-RADIUS=500;X-TITLE=1450 El Prado:geo:-117.1504179,32.732119
END:VEVENT
BEGIN:VEVENT
DTSTART;VALUE=DATE:20171126
DTEND;VALUE=DATE:20171127
DTSTAMP:20260424T040944
CREATED:20171118T001948Z
LAST-MODIFIED:20171119T150823Z
UID:5258-1511654400-1511740799@www.sdmart.org
SUMMARY:Museum Store Sunday
DESCRIPTION:Museums make our communities better! \nWhen you make a purchase in your museum store\, you directly support that museum’s ability to enrich the culture of your community. The San Diego Museum of Art is proud to be a part of Museum Store Sunday\, an international event! We invite you to shop at The Museum Store and Bibliotique\, along with any of your other favorite museum stores on November 26\, 2017. Receive a 20% off discount at our stores if you are currently a member.
URL:https://www.sdmart.org/event/museum-store-sunday-2/
LOCATION:The Museum Store\, 1450 El Prado\, San Diego\, CA\, 92101\, United States
CATEGORIES:Museum Store
ATTACH;FMTTYPE=image/jpeg:https://www.sdmart.org/wp-content/uploads/2017/08/Lumio-Small.jpg
GEO:32.732119;-117.1504179
X-APPLE-STRUCTURED-LOCATION;VALUE=URI;X-ADDRESS=The Museum Store 1450 El Prado San Diego CA 92101 United States;X-APPLE-RADIUS=500;X-TITLE=1450 El Prado:geo:-117.1504179,32.732119
END:VEVENT
END:VCALENDAR