BEGIN:VCALENDAR
VERSION:2.0
PRODID:-//San Diego Museum of Art - ECPv6.7.0//NONSGML v1.0//EN
CALSCALE:GREGORIAN
METHOD:PUBLISH
X-ORIGINAL-URL:https://www.sdmart.org
X-WR-CALDESC:Events for San Diego Museum of Art
REFRESH-INTERVAL;VALUE=DURATION:PT1H
X-Robots-Tag:noindex
X-PUBLISHED-TTL:PT1H
BEGIN:VTIMEZONE
TZID:America/Los_Angeles
BEGIN:DAYLIGHT
TZOFFSETFROM:-0800
TZOFFSETTO:-0700
TZNAME:PDT
DTSTART:20180311T100000
END:DAYLIGHT
BEGIN:STANDARD
TZOFFSETFROM:-0700
TZOFFSETTO:-0800
TZNAME:PST
DTSTART:20181104T090000
END:STANDARD
END:VTIMEZONE
BEGIN:VEVENT
DTSTART;TZID=America/Los_Angeles:20181201T100000
DTEND;TZID=America/Los_Angeles:20181201T170000
DTSTAMP:20260421T050214
CREATED:20180913T201020Z
LAST-MODIFIED:20181130T194605Z
UID:10177-1543658400-1543683600@www.sdmart.org
SUMMARY:Artisan Showcase: Almudena Solana
DESCRIPTION:Saturday\, December 1\n10:00 a.m.–5:00 p.m. \nThis Museum Store Artisan Showcase features Almudena Solana\, a Spanish scarf designer and owner of Fabric Poetry.
URL:https://www.sdmart.org/event/artisan-showcase-almudena-solana/
LOCATION:The Museum Store\, 1450 El Prado\, San Diego\, CA\, 92101\, United States
CATEGORIES:Museum Store
ATTACH;FMTTYPE=image/jpeg:https://www.sdmart.org/wp-content/uploads/2018/09/MG_9441.jpg
GEO:32.732119;-117.1504179
X-APPLE-STRUCTURED-LOCATION;VALUE=URI;X-ADDRESS=The Museum Store 1450 El Prado San Diego CA 92101 United States;X-APPLE-RADIUS=500;X-TITLE=1450 El Prado:geo:-117.1504179,32.732119
END:VEVENT
BEGIN:VEVENT
DTSTART;TZID=America/Los_Angeles:20181202T130000
DTEND;TZID=America/Los_Angeles:20181202T150000
DTSTAMP:20260421T050214
CREATED:20180913T205139Z
LAST-MODIFIED:20181130T004300Z
UID:10202-1543755600-1543762800@www.sdmart.org
SUMMARY:Family Drop-In Day: Investigating Portraiture
DESCRIPTION:Sunday\, December 2\n1:00–3:00 p.m.\nGallery 16 \nPlease join us for Family Drop-In this Sunday! A Museum educator will lead families in a portraiture workshop. Artists will be encouraged to compose overlapping geometric and/or organic shapes to create a portrait collage. \nFamilies are invited to explore the Museum together through special activities enjoyable for both adults and children. Participants take part in art projects inspired by the Museum’s collection\, go on family-friendly\, docent-led tours\, and play Museum-generated gallery games. Themes and projects change each month. Recommended for families with children ages 6–12. Children must be accompanied by an adult. \nFREE with Museum admission. Visitors ages 17 & under receive free Museum admission. \n\n\nFeatured: Italo Scanga\, “Head\,” 1986. Wood. Gift of the Italo Scanga Foundation. 2003.52
URL:https://www.sdmart.org/event/family-drop-in-day-investigating-portraiture/
LOCATION:The San Diego Museum of Art\, 1450 El Prado\, San Diego\, CA\, 92102\, United States
CATEGORIES:Families,Teens
ATTACH;FMTTYPE=image/jpeg:https://www.sdmart.org/wp-content/uploads/2018/09/2003-52_header.jpg
GEO:32.732119;-117.1504179
X-APPLE-STRUCTURED-LOCATION;VALUE=URI;X-ADDRESS=The San Diego Museum of Art 1450 El Prado San Diego CA 92102 United States;X-APPLE-RADIUS=500;X-TITLE=1450 El Prado:geo:-117.1504179,32.732119
END:VEVENT
BEGIN:VEVENT
DTSTART;TZID=America/Los_Angeles:20181203T093000
DTEND;TZID=America/Los_Angeles:20181203T110000
DTSTAMP:20260421T050215
CREATED:20180913T175614Z
LAST-MODIFIED:20180913T175614Z
UID:10113-1543829400-1543834800@www.sdmart.org
SUMMARY:20th-Century Printmaking
DESCRIPTION:Monday\, December 3\n9:30 a.m. Social time\n10:00 a.m. Lecture\nSt. Peter’s Episcopal Church\, Del Mar \nAllie Arnell\, Museum docent\, presents a review of modern American prints from 1920 to 1948 from the Museum’s collection\, and focus on the roaring twenties through World War II. \nFree NCC members | $10 nonmembers \nSponsored by the North County Chapter
URL:https://www.sdmart.org/event/20th-century-printmaking/
LOCATION:St. Peter’s Episcopal Church\, Maiden Lane\, Del Mar\, CA\, 92014\, United States
CATEGORIES:Lecture-old,Support Council
GEO:32.9576935;-117.2639356
X-APPLE-STRUCTURED-LOCATION;VALUE=URI;X-ADDRESS=St. Peter’s Episcopal Church Maiden Lane Del Mar CA 92014 United States;X-APPLE-RADIUS=500;X-TITLE=Maiden Lane:geo:-117.2639356,32.9576935
END:VEVENT
BEGIN:VEVENT
DTSTART;TZID=America/Los_Angeles:20181207T170000
DTEND;TZID=America/Los_Angeles:20181207T210000
DTSTAMP:20260421T050215
CREATED:20180109T002720Z
LAST-MODIFIED:20181207T211753Z
UID:6216-1544202000-1544216400@www.sdmart.org
SUMMARY:December Nights
DESCRIPTION:December 7–8\n5:00–9:00 p.m. \nThe Museum will be closed during the day and open at 5:00 p.m. for December Nights. \nJoin in this long-running tradition of concerts in the galleries as the Museum celebrates December Nights in Balboa Park. \nPerformance Schedule\nDecember 7:\nThe Fitch Gallery\n5:00 p.m. La Jolla Renaissance Singers\n7:00 p.m. Schola Pacifica \nDecember 8:\nThe Fitch Gallery\n5:00 p.m. Courtly Noyse\n7:00 p.m. In aChord \nFree admission during December Nights \nPlease note that Tim Shaw: Beyond Reason will be closed during December Nights.
URL:https://www.sdmart.org/event/december-nights/2018-12-07/
CATEGORIES:Families,Music
ATTACH;FMTTYPE=image/jpeg:https://www.sdmart.org/wp-content/uploads/2018/01/IMG_1894.jpg
END:VEVENT
BEGIN:VEVENT
DTSTART;TZID=America/Los_Angeles:20181210T190000
DTEND;TZID=America/Los_Angeles:20181210T210000
DTSTAMP:20260421T050215
CREATED:20180913T195911Z
LAST-MODIFIED:20180913T195911Z
UID:10167-1544468400-1544475600@www.sdmart.org
SUMMARY:CAC Potluck Holiday Party
DESCRIPTION:Monday\, December 10\n7:00–9:00 p.m.\nDel Mar home of artist Maidy Morhous \nAlthough known primarily for her bronze sculpture\, Maidy Morhous expresses her creativity in other art forms. This is an informal conversation with the artist. Guests are requested to bring a finger-food platter or a bottle of wine. \nFree CAC members and spouses | $10 Museum members | $15 nonmembers \nContact Gerri Brech at 858.674.0838 or gerrib@san.rr.com to RSVP and receive location details. \nSponsored by the Contemporary Arts Committee
URL:https://www.sdmart.org/event/cac-potluck-holiday-party/
CATEGORIES:Artist Talk,Support Council
END:VEVENT
BEGIN:VEVENT
DTSTART;TZID=America/Los_Angeles:20181215T100000
DTEND;TZID=America/Los_Angeles:20181215T170000
DTSTAMP:20260421T050215
CREATED:20180913T201225Z
LAST-MODIFIED:20181205T232644Z
UID:10180-1544868000-1544893200@www.sdmart.org
SUMMARY:Artisan Showcase: Sheri Liebert
DESCRIPTION:Saturday\, December 15\n10:00 a.m.–5:00 p.m. \nThis Museum Store Artisan Showcase features La Jolla designer and Museum favorite Sheri Liebert. \nAward winning jewelry designer\, Sheri Liebert works out of her studio in La Jolla and is best known for her bold\, contemporary\, yet timelessly elegant pieces. Sheri began her career as a jewelry designer over 20 years ago pursuing a vision of creating jewelry that appeals to sophisticated women while striving for a timeless elegance. As always\, the artist’s mark is on each one-of-a-kind handmade piece. The originality and clarity of Sheri’s designs give a Zen-like quality to each piece of jewelry\, which exudes fine craftsmanship. Join us\, and Sheri\, during this showcase!
URL:https://www.sdmart.org/event/artisan-showcase-sheri-liebert/
LOCATION:The Museum Store\, 1450 El Prado\, San Diego\, CA\, 92101\, United States
CATEGORIES:Museum Store
ATTACH;FMTTYPE=image/jpeg:https://www.sdmart.org/wp-content/uploads/2018/09/sheri_blueeyedagate_cuff.jpg
GEO:32.732119;-117.1504179
X-APPLE-STRUCTURED-LOCATION;VALUE=URI;X-ADDRESS=The Museum Store 1450 El Prado San Diego CA 92101 United States;X-APPLE-RADIUS=500;X-TITLE=1450 El Prado:geo:-117.1504179,32.732119
END:VEVENT
BEGIN:VEVENT
DTSTART;TZID=America/Los_Angeles:20181218T120000
DTEND;TZID=America/Los_Angeles:20181218T123000
DTSTAMP:20260421T050215
CREATED:20180828T223847Z
LAST-MODIFIED:20180828T224106Z
UID:9845-1545134400-1545136200@www.sdmart.org
SUMMARY:ArtStop: Mary Cassatt
DESCRIPTION:Tuesday\, December 18\nnoon \nJoin us on the third Tuesday of each month during Resident’s Free Tuesday for an ArtStop. Led by Museum curators and educators\, these enlightening and informative 15-minute tours\nfocus on up to three works on view in the galleries. Tours meet at noon in the first floor rotunda. \nFree after Museum admission. \nFeatured: Mary Cassatt\, Simone in a Blue Bonnet (No. 1)\, ca. 1903. Oil on canvas. Bequest of Mrs. Henry A. Everett. 1938.20
URL:https://www.sdmart.org/event/artstop-mary-cassatt/
LOCATION:The San Diego Museum of Art\, 1450 El Prado\, San Diego\, CA\, 92102\, United States
CATEGORIES:Tours
ATTACH;FMTTYPE=image/jpeg:https://www.sdmart.org/wp-content/uploads/2018/08/1938.20_crop.jpg
GEO:32.732119;-117.1504179
X-APPLE-STRUCTURED-LOCATION;VALUE=URI;X-ADDRESS=The San Diego Museum of Art 1450 El Prado San Diego CA 92102 United States;X-APPLE-RADIUS=500;X-TITLE=1450 El Prado:geo:-117.1504179,32.732119
END:VEVENT
BEGIN:VEVENT
DTSTART;VALUE=DATE:20181225
DTEND;VALUE=DATE:20181226
DTSTAMP:20260421T050215
CREATED:20181008T194535Z
LAST-MODIFIED:20181008T194634Z
UID:10446-1545696000-1545782399@www.sdmart.org
SUMMARY:The Museum is Closed
DESCRIPTION:Happy Holidays! The Museum is closed in observance of Christmas Day on Tuesday\, December 25\, 2018.
URL:https://www.sdmart.org/event/the-museum-is-closed-5/
ATTACH;FMTTYPE=image/jpeg:https://www.sdmart.org/wp-content/uploads/2018/10/1962_10.jpg
END:VEVENT
BEGIN:VEVENT
DTSTART;TZID=America/Los_Angeles:20181226T100000
DTEND;TZID=America/Los_Angeles:20181226T190000
DTSTAMP:20260421T050215
CREATED:20181127T220431Z
LAST-MODIFIED:20181127T230104Z
UID:11121-1545818400-1545850800@www.sdmart.org
SUMMARY:Extended Holiday Hours
DESCRIPTION:The Museum is open with extended holiday hours in conjunction with the Holiday Food Truck Festival from December 26–30 in Balboa Park. \n  \nNOW OPEN:\nWednesday\, December 26\, 10:00 a.m.–7:00 p.m. \nThursday\, December 27\, 10:00 a.m.–7:00 p.m. \nFriday\, December 28\,  including regular Art After Hours\, 10:00 a.m.–8:00 p.m \nSaturday\, December 29\, 10:00 a.m.–7:00 p.m. \nSunday\, December 30\, 12:00 p.m.–7:00 p.m. \nMonday\, December 31\, 10:00 a.m.–5:00 p.m. \nWednesday\, January 2\, 10:00 a.m.–5:00 p.m. \nPlease note that the Museum is regularly closed on Wednesdays.
URL:https://www.sdmart.org/event/the-museum-is-open/2018-12-26/
LOCATION:The San Diego Museum of Art\, 1450 El Prado\, San Diego\, CA\, 92102\, United States
ATTACH;FMTTYPE=image/jpeg:https://www.sdmart.org/wp-content/uploads/2018/11/IMG_1607.jpg
GEO:32.732119;-117.1504179
X-APPLE-STRUCTURED-LOCATION;VALUE=URI;X-ADDRESS=The San Diego Museum of Art 1450 El Prado San Diego CA 92102 United States;X-APPLE-RADIUS=500;X-TITLE=1450 El Prado:geo:-117.1504179,32.732119
END:VEVENT
END:VCALENDAR