BEGIN:VCALENDAR
VERSION:2.0
PRODID:-//San Diego Museum of Art - ECPv6.7.0//NONSGML v1.0//EN
CALSCALE:GREGORIAN
METHOD:PUBLISH
X-ORIGINAL-URL:https://www.sdmart.org
X-WR-CALDESC:Events for San Diego Museum of Art
REFRESH-INTERVAL;VALUE=DURATION:PT1H
X-Robots-Tag:noindex
X-PUBLISHED-TTL:PT1H
BEGIN:VTIMEZONE
TZID:America/Los_Angeles
BEGIN:DAYLIGHT
TZOFFSETFROM:-0800
TZOFFSETTO:-0700
TZNAME:PDT
DTSTART:20190310T100000
END:DAYLIGHT
BEGIN:STANDARD
TZOFFSETFROM:-0700
TZOFFSETTO:-0800
TZNAME:PST
DTSTART:20191103T090000
END:STANDARD
END:VTIMEZONE
BEGIN:VEVENT
DTSTART;TZID=America/Los_Angeles:20190505T120000
DTEND;TZID=America/Los_Angeles:20190505T130000
DTSTAMP:20260421T080602
CREATED:20190319T221000Z
LAST-MODIFIED:20190429T174631Z
UID:13234-1557057600-1557061200@www.sdmart.org
SUMMARY:Student Tours: Young Art 2019
DESCRIPTION:Sunday\, May 5\nnoon–1:00 p.m.\nGallery 14/15 \nThe Museum will be hosting “Young Art Student Tours\,” a unique opportunity for students whose works are exhibited in the Museum to speak to the public about the artwork they are displaying. Students will be stationed by their works to speak to visitors about the content of their piece\, the process of creating their artwork\, and their classroom experience. \nPlease note: The time of this event has been changed to start at noon. This event was previously listed as 11:30 a.m.–12:30 p.m.
URL:https://www.sdmart.org/event/student-tours-young-art-2019/
LOCATION:The San Diego Museum of Art\, 1450 El Prado\, San Diego\, CA\, 92102\, United States
CATEGORIES:Education,Educators,Teens,Tours
ATTACH;FMTTYPE=image/png:https://www.sdmart.org/wp-content/uploads/2019/03/4F0A8198.MP4.20_57_11_05.Still001.png
GEO:32.732119;-117.1504179
X-APPLE-STRUCTURED-LOCATION;VALUE=URI;X-ADDRESS=The San Diego Museum of Art 1450 El Prado San Diego CA 92102 United States;X-APPLE-RADIUS=500;X-TITLE=1450 El Prado:geo:-117.1504179,32.732119
END:VEVENT
BEGIN:VEVENT
DTSTART;TZID=America/Los_Angeles:20190505T130000
DTEND;TZID=America/Los_Angeles:20190505T150000
DTSTAMP:20260421T080602
CREATED:20190123T231703Z
LAST-MODIFIED:20190425T171322Z
UID:12516-1557061200-1557068400@www.sdmart.org
SUMMARY:Family Drop-In Day: Still Lifes - More than Food and Flowers
DESCRIPTION:Sunday\, May 5\n1:00–3:00 p.m.\nLower rotunda / Select galleries \nExplore and learn more about the art in the galleries through activities designed for families to enjoy together. Themes and projects change each month.\nRecommended for families with children ages 6–12. Children must be accompanied by an adult. \nFree with Museum admission \nFeatured: Georges Braque\, Still Life\, 1927. Oil on canvas. Gift of Earle W. Grant. 1966.260.
URL:https://www.sdmart.org/event/family-drop-in-day-still-lifes-more-than-food-and-flowers/
LOCATION:The San Diego Museum of Art\, 1450 El Prado\, San Diego\, CA\, 92102\, United States
CATEGORIES:Families
ATTACH;FMTTYPE=image/jpeg:https://www.sdmart.org/wp-content/uploads/2019/01/1966.260_800px.jpg
GEO:32.732119;-117.1504179
X-APPLE-STRUCTURED-LOCATION;VALUE=URI;X-ADDRESS=The San Diego Museum of Art 1450 El Prado San Diego CA 92102 United States;X-APPLE-RADIUS=500;X-TITLE=1450 El Prado:geo:-117.1504179,32.732119
END:VEVENT
BEGIN:VEVENT
DTSTART;TZID=America/Los_Angeles:20190507T190000
DTEND;TZID=America/Los_Angeles:20190507T210000
DTSTAMP:20260421T080602
CREATED:20180802T213158Z
LAST-MODIFIED:20181112T235324Z
UID:9330-1557255600-1557262800@www.sdmart.org
SUMMARY:Art of Élan: On Dry Ground
DESCRIPTION:Tuesday\, May 7\n7:00 p.m.\nMuseum Rotunda \nThe final concert of the season draws inspiration from the thought-provoking “square-within-a-square” arrangement by Bauhaus artist Josef Albers. The simple\, yet spiritually uplifting artwork reminds us of the inherent beauty in everyday shapes\, colors and sounds\, with musical works by J.S. Bach\, François Couperin\, Arvo Pärt\, Kevin Puts and David Lang. \nThis concert is inspired by Josef Albers’ Homage to the Square: On Dry Ground (1963)\, on view indefinitely as part of the Museum’s permanent collection. \n$40 member | $45 student\, senior\, military | $50 general admission \n\n\nThis is a part of Art of Élan’s 12th season concert series called Ways of Listening. For the full schedule of concerts look here.
URL:https://www.sdmart.org/event/art-of-elan-on-dry-ground/
LOCATION:The San Diego Museum of Art\, 1450 El Prado\, San Diego\, CA\, 92102\, United States
CATEGORIES:Art of Elan,Music
ATTACH;FMTTYPE=image/jpeg:https://www.sdmart.org/wp-content/uploads/2018/08/AoEJan2017-09638.jpg
GEO:32.732119;-117.1504179
X-APPLE-STRUCTURED-LOCATION;VALUE=URI;X-ADDRESS=The San Diego Museum of Art 1450 El Prado San Diego CA 92102 United States;X-APPLE-RADIUS=500;X-TITLE=1450 El Prado:geo:-117.1504179,32.732119
END:VEVENT
BEGIN:VEVENT
DTSTART;TZID=America/Los_Angeles:20190510T140000
DTEND;TZID=America/Los_Angeles:20190510T160000
DTSTAMP:20260421T080602
CREATED:20190115T015134Z
LAST-MODIFIED:20190117T182450Z
UID:12311-1557496800-1557504000@www.sdmart.org
SUMMARY:Drawing in the Galleries: Exploring Curvilinear and Rectilinear Form
DESCRIPTION:Friday\, May 10\n2:00–4:00 p.m. \nThis event has been cancelled.\nExploring Curvilinear and Rectilinear Form\nGallery Visit: Frank Stella\, Flin Flon VIII\, Gallery 13 \nDraw from objects on view in the Museum galleries while being guided by expert drawing instructor Omar Montano. Topics change with each monthly workshop. Open to teens and adults. \n$10 members | $15 nonmembers (single class)\n$32 for any 4 classes (exclusively for members) \nThere will be no class in April due to Art Alive. \nFeatured: Frank Stella\, Flin Flon VIII\, 1970. Acrylic on canvas. Museum Purchase with Resale Funds from art given by Mrs. Frederick E. Davies and Mrs. Albert Gallatin Wheeler. 1979.19
URL:https://www.sdmart.org/event/drawing-in-the-galleries-exploring-curvilinear-and-rectilinear-form/
LOCATION:The San Diego Museum of Art\, 1450 El Prado\, San Diego\, CA\, 92102\, United States
CATEGORIES:Workshop-old
ATTACH;FMTTYPE=image/jpeg:https://www.sdmart.org/wp-content/uploads/2019/01/1979.19.jpeg
GEO:32.732119;-117.1504179
X-APPLE-STRUCTURED-LOCATION;VALUE=URI;X-ADDRESS=The San Diego Museum of Art 1450 El Prado San Diego CA 92102 United States;X-APPLE-RADIUS=500;X-TITLE=1450 El Prado:geo:-117.1504179,32.732119
END:VEVENT
BEGIN:VEVENT
DTSTART;TZID=America/Los_Angeles:20190511T100000
DTEND;TZID=America/Los_Angeles:20190511T120000
DTSTAMP:20260421T080602
CREATED:20190123T230302Z
LAST-MODIFIED:20190508T015548Z
UID:12504-1557568800-1557576000@www.sdmart.org
SUMMARY:Art of Reading Book Club
DESCRIPTION:Saturday\, May 11\n10:00 a.m.\nMuseum Boardroom \nCome enjoy coffee and bagels as you explore art-based titles. The lively and illuminating talk with fellow museum members is always enlightening. A docent tour of related works of art follows the discussion. \nThe book discussed will be The Collector of Lives: Giorgio Vasari and the Invention of Art by Ingrid Drake Rowland and Noah Charney\, a lively introduction to a seminal figure in the very human story of art itself. \nFree for members | $15 nonmembers \nSpace is limited. Please RSVP at 619.696.1941
URL:https://www.sdmart.org/event/art-of-reading-book-club-5/
LOCATION:Museum Boardroom
CATEGORIES:Book Club
END:VEVENT
BEGIN:VEVENT
DTSTART;TZID=America/Los_Angeles:20190512T130000
DTEND;TZID=America/Los_Angeles:20190512T160000
DTSTAMP:20260421T080602
CREATED:20190131T180448Z
LAST-MODIFIED:20190424T233524Z
UID:12564-1557666000-1557676800@www.sdmart.org
SUMMARY:Musical ArtStops
DESCRIPTION:Sunday\, May 12\n1:00 p.m.\nMuseum galleries \nTour the Museum through music! Travel through the collections as San Diego Youth Symphony soloists present 15-minute performances throughout the Museum inspired by works of art on view in the galleries. \nFree with Museum admission.
URL:https://www.sdmart.org/event/musical-artstops-2/
LOCATION:The San Diego Museum of Art\, 1450 El Prado\, San Diego\, CA\, 92102\, United States
CATEGORIES:Families,Music,Teens
ATTACH;FMTTYPE=image/jpeg:https://www.sdmart.org/wp-content/uploads/2019/01/IMG_1384.jpg
GEO:32.732119;-117.1504179
X-APPLE-STRUCTURED-LOCATION;VALUE=URI;X-ADDRESS=The San Diego Museum of Art 1450 El Prado San Diego CA 92102 United States;X-APPLE-RADIUS=500;X-TITLE=1450 El Prado:geo:-117.1504179,32.732119
END:VEVENT
BEGIN:VEVENT
DTSTART;TZID=America/Los_Angeles:20190516T170000
DTEND;TZID=America/Los_Angeles:20190516T190000
DTSTAMP:20260421T080602
CREATED:20190123T210801Z
LAST-MODIFIED:20190131T004303Z
UID:12493-1558026000-1558033200@www.sdmart.org
SUMMARY:All the Emperor's Eunuchs: The Untold Story of Imperial Eunuchs in Late 17th-Century Mughal India
DESCRIPTION:Thursday\, May 16\n5:00 p.m.\nUC San Diego campus \nThis talk\, presented by Dr. Munis Faruqui\, offers the first serious scholarly attempt to grapple with the complicated and overlooked role of eunuchs in Mughal India during the reign of Emperor Aurangzeb (1658–1707). \nLocation:\nSequoyah Hall\, Room 103\nUC San Diego campus \nFree admission \nSponsored by the South Asian Arts Council and the South Asia Initiative (SAI) at UC San Diego
URL:https://www.sdmart.org/event/all-the-emperors-eunuchs-the-untold-story-of-imperial-eunuchs-in-late-17th-century-mughal-india/
CATEGORIES:Lecture-old,Support Council
END:VEVENT
BEGIN:VEVENT
DTSTART;TZID=America/Los_Angeles:20190517T100000
DTEND;TZID=America/Los_Angeles:20190517T120000
DTSTAMP:20260421T080602
CREATED:20180614T224639Z
LAST-MODIFIED:20190516T165406Z
UID:8862-1558087200-1558094400@www.sdmart.org
SUMMARY:Guest Lecture & Tour Series: Female Artists of the 20th Century until 1950 
DESCRIPTION:Friday\, May 17\n10:00 a.m.\nJames S. Copley Auditorium \nCornelia Feye\, author and publisher\, will speak on the subject of female artists of the 20th century. \nThe 20th century began with an explosion of new discoveries and artistic styles all over Europe. The trauma of World War I further prompted the development of art forms from Expressionism\, Fauvism\, to Cubism\, Dadaism\, and Surrealism. Women were actively involved in these new approaches to art. This lecture will explore the work of Susanne Valadon\, Paula Moderson-Becker\, Gabriele Münter\, Emily Carr\, Sonia Delaunay\, Georgia O’Keeffe\, Hilma af Klint\, Käthe Kollwitz\, Alice Neel\, Frida Kahlo\, Dorothea Tanning and others. \nAfter her lecture\, Cornelia Feye will be signing her newest book Private Universe inside Bibliotique\, the Museum’s boutique shop (located across the sculpture court from the auditorium). Her book will be available for sale in Bibliotique for $12.00. Members will receive their discount\, as with all purchases! Private Universe is “a coming of age novel about a young woman’s spiritual quest\, combining mystery\, art history\, complex relationships\, world travel\, and the search for meaning. It is a story of survival and self-discovery.” \n\nLight refreshments including coffee\, tea and bakery treats will be available starting at 9:20 a.m. for ticket holders to this Guest Lecture. \nThis lecture is presented as a part of the Guest Lecture & Tour series\, which focuses on works of art on view in the Museum as well as topics of interest in the broader art world. Lectures are followed by docent-led tours. \n$13 members | $16 nonmembers | $8 seniors and military | $5 students \nSponsored by The San Diego Museum of Art Docent Council \nFeatured: Gabriele Münter\, Tutzing\, 1908. Oil on artist’s board. Gift from the Estate of Vance E. Kondon and Liesbeth Giesberger. 2011.120
URL:https://www.sdmart.org/event/female-artists-of-the-20th-century-until-1950/
LOCATION:James S. Copley Auditorium\, 1450 El Prado\, San Diego\, CA\, 92101\, United States
CATEGORIES:Guest Lecture Series,Lecture-old
ATTACH;FMTTYPE=image/jpeg:https://www.sdmart.org/wp-content/uploads/2018/06/2011-120.jpg
END:VEVENT
BEGIN:VEVENT
DTSTART;TZID=America/Los_Angeles:20190517T100000
DTEND;TZID=America/Los_Angeles:20190517T200000
DTSTAMP:20260421T080602
CREATED:20190510T232445Z
LAST-MODIFIED:20190510T232559Z
UID:14064-1558087200-1558123200@www.sdmart.org
SUMMARY:Art Museum Day
DESCRIPTION:Friday\, May 17\n10:00 a.m.–8:00 p.m. \nThe Museum will be open with FREE general admission from 10:00 a.m.–8:00 p.m. on Friday\, May 17 for Art Museum Day. \n\nFor the 10th anniversary year of Art Museum Day\, The San Diego Museum of Art will join the Association of Art Museum Directors (AAMD) and hundreds of institutions across North America in offering great opportunities for our audiences. This year\, the Museum will offer free general admission to recognize the arts and the important role that art museums play in their communities. The Museum also invites visitors to share their Art Museum Day experiences via social media\, with the hashtag #ArtMuseumDay. \nAAMD’s Art Museum Day is an opportunity to focus attention on the role of art museums in North America. The initiative is an extension of the International Council of Museums’s (ICOM) International Museum Day\, a global program embracing all different types of museums. Last year\, the San Diego Museum of Art—along with more than 150 other AAMD member museums of varying sizes across the United States\, Canada\, and Mexico—participated in Art Museum Day. \nA comprehensive list of participating AAMD member art museums will be available on the AAMD website. Note that while AAMD’s Art Museum Day and ICOM’s International Museum Day are formally held each year on May 18\, some institutions\, like the San Diego Museum of Art\, shift their events to adjacent dates.
URL:https://www.sdmart.org/event/art-museum-day-2/
LOCATION:The San Diego Museum of Art\, 1450 El Prado\, San Diego\, CA\, 92102\, United States
CATEGORIES:Art After Hours,Other
ATTACH;FMTTYPE=image/jpeg:https://www.sdmart.org/wp-content/uploads/2019/05/BaumanPhotographers_0629.jpg
GEO:32.732119;-117.1504179
X-APPLE-STRUCTURED-LOCATION;VALUE=URI;X-ADDRESS=The San Diego Museum of Art 1450 El Prado San Diego CA 92102 United States;X-APPLE-RADIUS=500;X-TITLE=1450 El Prado:geo:-117.1504179,32.732119
END:VEVENT
BEGIN:VEVENT
DTSTART;TZID=America/Los_Angeles:20190518T100000
DTEND;TZID=America/Los_Angeles:20190518T120000
DTSTAMP:20260421T080602
CREATED:20190123T232043Z
LAST-MODIFIED:20190402T190505Z
UID:12519-1558173600-1558180800@www.sdmart.org
SUMMARY:Members' Preview - Art and Empire: The Golden Age of Spain
DESCRIPTION:Saturday\, May 18\n10:00 a.m.–Noon \nEnjoy this members-only benefit for the opening of Art and Empire: The Golden Age of Spain. Be among the first to see this historic exhibition of works by masters of the Golden Age\, including paintings\, bejeweled crowns\, and beautifully crafted furniture made during a time of unparalleled artistic production.\n \nFree and exclusively for members\n  \nFeatured: Sebastián López de Arteaga (Mexico\, born Spain\, 1610–1652)\, Apparition of Saint Michael on Mount Gargano\, ca. 1650. Oil on canvas\, 75 x 61 in. (190.5 x 154.9 cm) Denver Art Museum\, Gift of Frank Barrows Freyer Collection by exchange and Gift of Frederick & Jan Mayer\, 1994.27
URL:https://www.sdmart.org/event/members-preview-art-and-empire-the-golden-age-of-spain/
LOCATION:The San Diego Museum of Art\, 1450 El Prado\, San Diego\, CA\, 92102\, United States
CATEGORIES:Exhibitions,Member Event
ATTACH;FMTTYPE=image/jpeg:https://www.sdmart.org/wp-content/uploads/2018/11/Sebastian_Lopez_de_Arteaga_-_Saint_Michael_and_the_Bull_-_Google_Art_Project_1200px.jpg
GEO:32.732119;-117.1504179
X-APPLE-STRUCTURED-LOCATION;VALUE=URI;X-ADDRESS=The San Diego Museum of Art 1450 El Prado San Diego CA 92102 United States;X-APPLE-RADIUS=500;X-TITLE=1450 El Prado:geo:-117.1504179,32.732119
END:VEVENT
BEGIN:VEVENT
DTSTART;TZID=America/Los_Angeles:20190520T180000
DTEND;TZID=America/Los_Angeles:20190520T200000
DTSTAMP:20260421T080602
CREATED:20190404T175016Z
LAST-MODIFIED:20190502T211647Z
UID:13564-1558375200-1558382400@www.sdmart.org
SUMMARY:Art & Empire: The Golden Age of Spain Tour
DESCRIPTION:Monday\, May 20\n6:00 p.m. \nReservations are full. Waiting List only.\nCircle and Gallery Collective members are invited to join us for a private tour of the upcoming exhibition\, Art & Empire: The Golden Age of Spain (opens May 18) with Michael Brown\, Ph.D.\, Curator of European Art. More details as the event nears. Event subject to change. \nRSVP required. Click the button below to RSVP by May 13. \nFeatured image: Diego Rodríguez de Silva y Velázquez\, Kitchen Maid with the Supper at Emmaus\, 1619–20. Oil on canvas. National Gallery of Ireland\, Presented\, Sir Alfred and Lady Beit\, 1987 (Beit Collection)
URL:https://www.sdmart.org/event/art-empire-the-golden-age-of-spain-tour/
LOCATION:The San Diego Museum of Art\, 1450 El Prado\, San Diego\, CA\, 92102\, United States
ATTACH;FMTTYPE=image/jpeg:https://www.sdmart.org/wp-content/uploads/2018/11/Velázquez-Kitchen-Maid.jpg
GEO:32.732119;-117.1504179
X-APPLE-STRUCTURED-LOCATION;VALUE=URI;X-ADDRESS=The San Diego Museum of Art 1450 El Prado San Diego CA 92102 United States;X-APPLE-RADIUS=500;X-TITLE=1450 El Prado:geo:-117.1504179,32.732119
END:VEVENT
BEGIN:VEVENT
DTSTART;TZID=America/Los_Angeles:20190521T120000
DTEND;TZID=America/Los_Angeles:20190521T123000
DTSTAMP:20260421T080602
CREATED:20190131T184322Z
LAST-MODIFIED:20190513T235613Z
UID:12579-1558440000-1558441800@www.sdmart.org
SUMMARY:ArtStop: Art and Empire: The Golden Age of Spain
DESCRIPTION:Tuesday\, May 21\nnoon\nGallery 4 \nJoin us on the third Tuesday of each month during Resident’s Free Tuesday for an ArtStop. Led by Museum curators and educators\, these enlightening and informative 15-minute tours focus on up to three works on view in the galleries. Tours meet at noon in the first floor rotunda. \nPlease note that admission into the Art and Empire: The Golden Age of Spain exhibition requires an additional $5 charge for ages 7+. Members receive free admission. \nFree after general Museum admission and Art and Empire: The Golden Age of Spain surcharge. \nFeatured: Sebastián López de Arteaga (Mexico\, born Spain\, 1610–1652)\, Apparition of Saint Michael on Mount Gargano\, ca. 1650. Oil on canvas\, 75 x 61 in. (190.5 x 154.9 cm) Denver Art Museum\, Gift of Frank Barrows Freyer Collection by exchange and Gift of Frederick & Jan Mayer\, 1994.27
URL:https://www.sdmart.org/event/artstop-art-and-empire-the-golden-age-of-spain/
LOCATION:The San Diego Museum of Art\, 1450 El Prado\, San Diego\, CA\, 92102\, United States
CATEGORIES:Tours
ATTACH;FMTTYPE=image/jpeg:https://www.sdmart.org/wp-content/uploads/2018/11/Sebastian_Lopez_de_Arteaga_-_Saint_Michael_and_the_Bull_-_Google_Art_Project_1200px.jpg
GEO:32.732119;-117.1504179
X-APPLE-STRUCTURED-LOCATION;VALUE=URI;X-ADDRESS=The San Diego Museum of Art 1450 El Prado San Diego CA 92102 United States;X-APPLE-RADIUS=500;X-TITLE=1450 El Prado:geo:-117.1504179,32.732119
END:VEVENT
BEGIN:VEVENT
DTSTART;TZID=America/Los_Angeles:20190526T070000
DTEND;TZID=America/Los_Angeles:20190526T190000
DTSTAMP:20260421T080602
CREATED:20190418T174035Z
LAST-MODIFIED:20190520T163111Z
UID:13706-1558854000-1558897200@www.sdmart.org
SUMMARY:Bus Trip to LACMA and The Broad
DESCRIPTION:Sunday\, May 26\n7:00 a.m.–7:00 p.m. \nMore seats added!\nThe African and Pacific Arts Council is hosting a bus trip to the Los Angeles County Museum of Art to view the exhibition Charles White: A Retrospective\, as well as a trip to The Broad to view the exhibition Soul of a Nation: Art in the Age of Black Power 1963-1983. Cost includes bus trip\, admission\, and docent tour. Lunch is not provided. For more information\, email Denise Rogers at derogers@sdccd.edu. \n\nSchedule\n10:00 a.m. | LACMA – Docent Tour of Charles White: A Retrospective \n12:30 p.m. | Lunch at LACMA \n2:00 p.m. | The Broad – Docent Tour of Soul of a Nation: Art in the Age of Black Power\, along with a tour of the Museum \n5:00 p.m. | Depart for San Diego \n\nPick Up Locations\nBalboa Park \nUpdate: Bus will leave the parking lot (southeast lot) at Park Blvd and President’s Way (near Naval Hospital) in Balboa Park at 7:00 a.m. (Changed from the San Diego Museum of Art) \nNorth County \nBus will pick up at Interstate 5 Park and Ride at Birmingham Dr. exit\, Encinitas at 7:30 a.m. \n\n$115 Support Council members\, SDMA members\, nonmembers\, military\, seniors | $75 students \nSponsored by the African and Pacific Arts Council
URL:https://www.sdmart.org/event/bus-trip-to-lacma-and-the-broad/
CATEGORIES:Bus Tours
ATTACH;FMTTYPE=image/jpeg:https://www.sdmart.org/wp-content/uploads/2019/04/barbara_jones-hogu_unite_first_state_1969.jpg
END:VEVENT
BEGIN:VEVENT
DTSTART;TZID=America/Los_Angeles:20190527T100000
DTEND;TZID=America/Los_Angeles:20190527T170000
DTSTAMP:20260421T080602
CREATED:20190123T232307Z
LAST-MODIFIED:20190521T185208Z
UID:12522-1558951200-1558976400@www.sdmart.org
SUMMARY:Memorial Day Book Sale
DESCRIPTION:Monday\, May 27\n10:00 a.m.–5:00 p.m. \nJoin us at the Museum Store and Bibliotique for this one day sale! Take 25% off all books in stock!\nPlease note: no additional discounts apply. \nThis sale excludes the Museum’s publication for Art and Empire: The Golden Age of Spain.
URL:https://www.sdmart.org/event/memorial-day-book-sale/
LOCATION:The Museum Store\, 1450 El Prado\, San Diego\, CA\, 92101\, United States
CATEGORIES:Museum Store
ATTACH;FMTTYPE=image/jpeg:https://www.sdmart.org/wp-content/uploads/2019/01/Capture.jpg
GEO:32.732119;-117.1504179
X-APPLE-STRUCTURED-LOCATION;VALUE=URI;X-ADDRESS=The Museum Store 1450 El Prado San Diego CA 92101 United States;X-APPLE-RADIUS=500;X-TITLE=1450 El Prado:geo:-117.1504179,32.732119
END:VEVENT
BEGIN:VEVENT
DTSTART;TZID=America/Los_Angeles:20190529T173000
DTEND;TZID=America/Los_Angeles:20190529T210000
DTSTAMP:20260421T080602
CREATED:20190503T222635Z
LAST-MODIFIED:20190516T211451Z
UID:14009-1559151000-1559163600@www.sdmart.org
SUMMARY:"The Great Mysore Bhagavata in the Edwin Binney 3rd Collection” Illustrated lecture by Dr. B.N. Goswamy
DESCRIPTION:Wednesday\, May 29\n5:30–9:00 p.m.\nRoyal India Banquet Hall\n8990 Miramar Rd. #200\nSan Diego\, CA 92126 \nThis event has been canceled.\nDue to unforeseen circumstances\, Dr. Goswamy is unable to travel at this time. Ticket holders can expect a notice of refund through email. \n\nOne of the gems in the Edwin Binney 3rd collection at The San Diego Museum of Art is the Bhāgavata Purāna (Ancient Stories of the Lord)\, referred to as the Mysore Manuscript\, dated around 1825. For the first time the manuscript is published with every illustration discussed in detail. The forthcoming book The Great Mysore Bhāgavata by the renowned scholar\, Dr. B.N. Goswamy\, will be a complete study of nearly 200 illustrations. \nDr. B.N.  Goswamy will be in San Diego to unveil this publication. Please join us to celebrate this occasion at the restaurant Royal India. There will be a wine reception prior to the presentation by Dr. B.N Goswamy followed by an Indian dinner. This is a great opportunity to mingle with Dr. B. N Goswamy and other like minded art enthusiasts. \nLocation: Royal India Banquet Hall\, 8990 Miramar Rd. #200\, San Diego\, CA 92126 \n\nTickets\n$50 Support council member\, SDMA member\, nonmember\, college\, youth | $150 VIP | $360 for table of eight \n\nSponsored by the South Asian Arts Council (SAAC) \nFeatured: Mysore\, Bhagavata Purana\, ca. 1840. Opaque watercolor and gold on paper. Edwin Binney 3rd Collection. 1990.1402.
URL:https://www.sdmart.org/event/the-great-mysore-bhagavata-in-the-edwin-binney-3rd-collection-illustrated-lecture-by-dr-b-n-goswamy/
CATEGORIES:Lecture-old,Support Council
ATTACH;FMTTYPE=image/jpeg:https://www.sdmart.org/wp-content/uploads/2019/05/1990-1402_Page-0033_1.jpg
END:VEVENT
BEGIN:VEVENT
DTSTART;TZID=America/Los_Angeles:20190530T130000
DTEND;TZID=America/Los_Angeles:20190530T150000
DTSTAMP:20260421T080602
CREATED:20190123T211134Z
LAST-MODIFIED:20190123T211134Z
UID:12497-1559221200-1559228400@www.sdmart.org
SUMMARY:Fragrant Visions: Painting Chinese Buddhist Ritual
DESCRIPTION:Thursday\, May 30\n1:00–3:00 p.m.\nMuseum Boardroom \nThe Huntington’s Phillip E. Bloom\, Ph.D.\, provides a glimpse into the multi-sensory experience of Chinese Buddhist rituals—the fragrance of incense\, the sounds of rhythmic chanting and clattering cymbals—through close reading of a series of 12th-century paintings. \nFree AAC members | $10 Museum members | $12 nonmembers | $8 students \nSponsored by the Asian Arts Council
URL:https://www.sdmart.org/event/fragrant-visions-painting-chinese-buddhist-ritual/
LOCATION:Museum Boardroom
CATEGORIES:Lecture-old,Support Council
END:VEVENT
BEGIN:VEVENT
DTSTART;TZID=America/Los_Angeles:20190531T170000
DTEND;TZID=America/Los_Angeles:20190531T200000
DTSTAMP:20260421T080602
CREATED:20190528T182652Z
LAST-MODIFIED:20190528T182915Z
UID:14372-1559322000-1559332800@www.sdmart.org
SUMMARY:No Art After Hours
DESCRIPTION:There will be no Art After Hours this Friday\, May 31 due to the Friends’ Lecture & Reception. The Museum will close at 5:00 p.m. on Friday.
URL:https://www.sdmart.org/event/no-art-after-hours-2/
LOCATION:The San Diego Museum of Art\, 1450 El Prado\, San Diego\, CA\, 92102\, United States
CATEGORIES:Art After Hours
GEO:32.732119;-117.1504179
X-APPLE-STRUCTURED-LOCATION;VALUE=URI;X-ADDRESS=The San Diego Museum of Art 1450 El Prado San Diego CA 92102 United States;X-APPLE-RADIUS=500;X-TITLE=1450 El Prado:geo:-117.1504179,32.732119
END:VEVENT
BEGIN:VEVENT
DTSTART;TZID=America/Los_Angeles:20190531T180000
DTEND;TZID=America/Los_Angeles:20190531T200000
DTSTAMP:20260421T080602
CREATED:20190404T215735Z
LAST-MODIFIED:20190528T181919Z
UID:13558-1559325600-1559332800@www.sdmart.org
SUMMARY:Friends' Lecture & Reception - Art and Empire: The Golden Age of Spain (SOLD OUT)
DESCRIPTION:Friday\, May 31\n6:00–8:00 p.m.\nJames S. Copley Auditorium \nSOLD OUT\nJoin Michael A. Brown\, Curator of European Art\, for a behind-the-scenes look at this ground-breaking exhibition. There are many “invisible” factors involved in organizing such a major exhibition\, from negotiating international loans\, to traveling with priceless works of art\, to the design and construction of the galleries. This look “behind the curtain” will offer great insight and an extraordinary view of this process that very few get a chance to see. \nReception following in the Museum Rotunda. \nExclusively for Friend level members and above. \n\nFREE member benefit for Friend\, Sponsor\, Gallery\, and Circle members* \n*Friend\, Sponsor\, Gallery\, and Circle members\, please register as soon as possible to ensure your seat\, as this lecture is expected to sell out. \nTickets ordered online will be sent to your inbox. Please print out or bring your ticket on your phone to present at the entrance. For further information\, call 619.696.1941 or email membership@sdmart.org.
URL:https://www.sdmart.org/event/friends-lecture-reception-art-empire-the-golden-age-of-spain/
LOCATION:James S. Copley Auditorium\, 1450 El Prado\, San Diego\, CA\, 92101\, United States
CATEGORIES:Exhibitions,Lecture-old,Member Event
ATTACH;FMTTYPE=image/jpeg:https://www.sdmart.org/wp-content/uploads/2018/11/Sebastian_Lopez_de_Arteaga_-_Saint_Michael_and_the_Bull_-_Google_Art_Project_1200px.jpg
END:VEVENT
END:VCALENDAR