BEGIN:VCALENDAR
VERSION:2.0
PRODID:-//San Diego Museum of Art - ECPv6.7.0//NONSGML v1.0//EN
CALSCALE:GREGORIAN
METHOD:PUBLISH
X-ORIGINAL-URL:https://www.sdmart.org
X-WR-CALDESC:Events for San Diego Museum of Art
REFRESH-INTERVAL;VALUE=DURATION:PT1H
X-Robots-Tag:noindex
X-PUBLISHED-TTL:PT1H
BEGIN:VTIMEZONE
TZID:America/Los_Angeles
BEGIN:DAYLIGHT
TZOFFSETFROM:-0800
TZOFFSETTO:-0700
TZNAME:PDT
DTSTART:20210314T100000
END:DAYLIGHT
BEGIN:STANDARD
TZOFFSETFROM:-0700
TZOFFSETTO:-0800
TZNAME:PST
DTSTART:20211107T090000
END:STANDARD
END:VTIMEZONE
BEGIN:VEVENT
DTSTART;TZID=America/Los_Angeles:20210707T110000
DTEND;TZID=America/Los_Angeles:20210707T120000
DTSTAMP:20260425T073137
CREATED:20210706T225320Z
LAST-MODIFIED:20210706T230659Z
UID:27696-1625655600-1625659200@www.sdmart.org
SUMMARY:Virtual Tour: Art of Persia – NEW
DESCRIPTION:Wednesday\, July 7\n11:00 a.m. – noon PT \n  \nExplore the culture of ancient Persia (modern day Iran) as we look at works of art made in bronze\, clay\, and paper dating from about 1\,000 BCE to the 17th century CE. Learn how Persians lived\, their love of fashion and poetry\, and their contributions in the field of medicine and science that still benefit us today. \nPlease reserve your spot by clicking on this link. All participants will be sent the Zoom link and instructions via email once you secure your place. Space is limited. \nReserve my spot! \n\nHosted by The San Diego Museum of Art Docent Council. \nFeatured: Reza Abbasi\, A standing youth in a striped coat(detail)\, ca. 1610. Opaque watercolor on paper. Gift of Edwin Binney 3rd\, 1971.66.
URL:https://www.sdmart.org/event/virtual-tour-art-of-persia-new/
CATEGORIES:Docent Council,Tours
ATTACH;FMTTYPE=image/jpeg:https://www.sdmart.org/wp-content/uploads/2021/07/A-standing-youth-in-a-striped-coat-by-Reza-Abbasi-1971.66-landscape-detail.jpg
END:VEVENT
BEGIN:VEVENT
DTSTART;TZID=America/Los_Angeles:20210708T180000
DTEND;TZID=America/Los_Angeles:20210708T190000
DTSTAMP:20260425T073137
CREATED:20210429T181133Z
LAST-MODIFIED:20210629T232908Z
UID:26111-1625767200-1625770800@www.sdmart.org
SUMMARY:Artist Roundtable: Generations of Pride
DESCRIPTION:Thursday\, July 8\n6:00 p.m. PT\nSpeakers: Betty Bangs (she/her)\, Jax Elton (he/they)\, Nico Standifer (he/him)\, and Vanessa Dubois (she/her)\nFree online event\, registration required\n \n  \nJoin the Museum\, San Diego Pride\, and a panel of young artists from the Pride community as they share their work\, practice\, and experiences in using art to express their own identities. \n  \nRegister now to save your spot. Space is limited.\nAll participants will be sent the Zoom link and instructions via email once you secure your place.  \nLive ASL translation will be provided during the online event. \n  \nSpeaker Bios: \nBetty Bangs\nI am Betty Bangs born and raised in San Diego. I am a Chicana Artist. I have two amazing children. I have assisted painting on murals at Chicano Park. My paintings are body positive art. Beautiful people the way I see them. The medium I mostly work with is acrylic on canvas\, I am very passionate about my community\, and cultura. My community\, cultura\, and my lifestyle inspire my art. By day I work as an Advocate for victims of crime and by night I am an all-vinyl DJ. \nJax Elton\nMy name is Jax\, I am 14 years old\, and I use he/they pronouns. I’m a transmasculine\, gender non-conforming\, bisexual young person. I like to devote my free time to advocating for trans youth through volunteer spaces and social media. I often do this through my art\, as it is a form of self-expression. My art can act as a way to get messages across or to blow off steam. Art is essential to my queer experiences and has helped get me through a handful of events. \nNico Standifer\nMy name is Nico Standifer. My pronouns are he/him. I am 17 years old. I love dogs\, the beach\, and hanging out with friends. I also love to draw and my favorite medium is digital art. \nVanessa Dubois\nHi\, my name is Vanessa Dubois. Art has always been part of my life\, specifically drawing and painting\, and I have always been interested in photography. I am a complete self-taught photographer\, and my art is improving with every picture I take. My focus is event photography with an emphasis on drag queens. I love movements\, lights\, and capturing memories. \nI grew up in France\, and\, shortly after moving to California\, I had my own coming out moment. I have been documenting the beautiful LGBTQ community one click at a time\, taking photos for San Diego Pride\, the LGBT Center\, the Lambda Archives\, and pretty much capturing every LGBTQ event in San Diego. \nFeatured at top right: Larry Rivers\, Living at the Movies\, 1974. Screenprint. Gift of Argosy Partners and Bond Street Partners\, 1980.82.
URL:https://www.sdmart.org/event/artist-roundtable-generations-of-pride/
CATEGORIES:Artist Talk
ATTACH;FMTTYPE=image/jpeg:https://www.sdmart.org/wp-content/uploads/2021/04/Living-at-the-Movies-by-Larry-Rivers-1980.82.jpg
END:VEVENT
BEGIN:VEVENT
DTSTART;TZID=America/Los_Angeles:20210710T100000
DTEND;TZID=America/Los_Angeles:20210710T120000
DTSTAMP:20260425T073137
CREATED:20210621T210409Z
LAST-MODIFIED:20210621T213546Z
UID:27421-1625911200-1625918400@www.sdmart.org
SUMMARY:The Importance of Being Empress: Race\, Labor\, and Ornamental Indians
DESCRIPTION:Saturday\, July 10\n10:00 a.m.–noon p.m. PT\nSpeaker: Dr. Siddhartha Shah\, Director of Education and Civic Engagement\, and the Curator of South Asian Art at the Peabody Essex Museum in Salem\, Massachusetts \n  \nAt her home on the Isle of Wight\, Queen Victoria constructed a miniaturized and domesticated India over which she reigned as Empress. She commissioned an elaborate Durbar Room inspired by the grand meeting halls of Mughal India\, filled a corridor with nearly one hundred paintings of Indian heads\, and further outfitted her home with a staff of Indian men who breathed life into her most outrageous imperial fantasies. Dr. Shah’s research centers on portraits and public spectacles preserved in Queen Victoria’s personal photo albums. The manner in which the Queen displayed her Indians exposes striking parallels with slave portraits of the 16th-18th centuries. As such\, his study positions Victoria’s self-fashioning as Empress of India within a centuries-old convention of displaying black and brown servants and slaves to fulfill contrasting social and chromatic effects—Indian people as decorative props\, arranged in a symbolic and picturesque power play of light and dark\, domination\, and subordination. \n  \nPlease reserve your spot by clicking on this link. All participants will be sent the Zoom link and instructions via email once you secure your place. Space is limited. \nReserve my spot! \n  \nSponsored by the South Asian Arts Council. \n  \nFeatured: Queen Victoria (1819-1901) with her Indian attendants\, Mustafa and Chidda (detail)\, 1896. Gelatin silver photographic print pasted onto card. Royal Collection Trust.
URL:https://www.sdmart.org/event/the-importance-of-being-empress-race-labor-and-ornamental-indians/
CATEGORIES:Lecture-old,Support Council
ATTACH;FMTTYPE=image/jpeg:https://www.sdmart.org/wp-content/uploads/2021/06/SAAC-July-Lecture-Queen-Victoria-1819-1901-with-her-Indian-attendants-Mustafa-and-Chidda-1896.jpg
END:VEVENT
BEGIN:VEVENT
DTSTART;TZID=America/Los_Angeles:20210713T130000
DTEND;TZID=America/Los_Angeles:20210713T140000
DTSTAMP:20260425T073137
CREATED:20210707T205715Z
LAST-MODIFIED:20210707T210433Z
UID:27721-1626181200-1626184800@www.sdmart.org
SUMMARY:Virtual Tour: Toulouse-Lautrec\, the Artist of Bohemian Paris – NEW
DESCRIPTION:Tuesday\, July 13\n1:00 p.m. – 2:00 p.m. PT \n  \nHenri de Toulouse-Lautrec’s immersion in the colorful and theatrical life of Paris in the end of the 19th century allowed him to produce a collection of enticing\, elegant\, and provocative images of the modern\, sometimes decadent affairs and protagonists of those times. The San Diego Museum of Art holds an important collection of those images that we are happy to share with our visitors during this virtual tour. \nPlease reserve your spot by clicking on this link. All participants will be sent the Zoom link and instructions via email once you secure your place. Space is limited. \nReserve my spot! \n\nHosted by The San Diego Museum of Art Docent Council. \nFeatured: Henri de Toulouse-Lautrec\, Moulin Rouge—La Goulue\, 1891. Lithograph\, poster on paper. Gift of the Baldwin M. Baldwin Foundation\, 1987.19.
URL:https://www.sdmart.org/event/virtual-tour-toulouse-lautrec-the-art-of-bohemian-paris-july-13/
CATEGORIES:Tours
ATTACH;FMTTYPE=image/jpeg:https://www.sdmart.org/wp-content/uploads/2021/06/Moulin-Rouge—La-Goulue-by-de-Toulouse-Lautrec-1987-19-web-resize.jpg
END:VEVENT
BEGIN:VEVENT
DTSTART;TZID=America/Los_Angeles:20210713T180000
DTEND;TZID=America/Los_Angeles:20210713T180000
DTSTAMP:20260425T073137
CREATED:20210517T191617Z
LAST-MODIFIED:20210518T211637Z
UID:26473-1626199200-1626199200@www.sdmart.org
SUMMARY:Virtual SDMA+ Amber St. James: Art Is a Drag
DESCRIPTION:Tuesday\, July 13\n6:00 p.m. PT \nEnjoy this electrifying video performance by Amber St. James—writer\, activist\, drag queen\, and self-described “proud queer glamazon icon” as they bring their high-energy combination of dance\, drama\, and joyful self-expression to the Museum. \nThe Virtual SDMA+ Amber St. James online performance will be shared on The San Diego Museum of Art YouTube channel. \n  \n Virtual SDMA+ are unique online experiences offered by The San Diego Museum of Art in collaboration with other local arts institutions to inspire a robust appreciation of the arts and a deeper exploration of the SDMA permanent collection. Learn more about Virtual SDMA+ programming. \n  \nImage at top right courtesy of Amber St. James.
URL:https://www.sdmart.org/event/virtual-sdma-amber-st-james-art-is-a-drag/
CATEGORIES:SDMA+
ATTACH;FMTTYPE=image/jpeg:https://www.sdmart.org/wp-content/uploads/2021/05/Amber-St.-James.jpg
END:VEVENT
BEGIN:VEVENT
DTSTART;TZID=America/Los_Angeles:20210717T130000
DTEND;TZID=America/Los_Angeles:20210717T140000
DTSTAMP:20260425T073137
CREATED:20210707T204728Z
LAST-MODIFIED:20210707T205015Z
UID:27715-1626526800-1626530400@www.sdmart.org
SUMMARY:Virtual Tour: Cranach to Canaletto: Masterpieces from the Bemberg Foundation
DESCRIPTION:Saturday\, July 17\n1:00–2:00 p.m. PT \n  \nTour a selection of stunning Old Master paintings from the more than seventy-five works presented in Cranach to Canaletto: Masterpieces from the Bemberg Foundation.  These works\, exemplifying themes of portraiture\, landscape\, mythology\, and domestic environments\, reflect the unique personal taste of the connoisseur who assembled this remarkable private collection\, Georges Bemberg. \nPlease reserve your spot by clicking on this link. All participants will be sent the Zoom link and instructions via email once you secure your place. Space is limited. \nReserve my spot! \n\nHosted by The San Diego Museum of Art Docent Council. \nFeatured: Lucas Cranach. Portrait of Sibylle de Clève\, Elector of Saxe (detail)\, 1531. Oil on panel. Collection from the Fondation Bemberg. © Fondation Bemberg and RMN.
URL:https://www.sdmart.org/event/virtual-tour-cranach-to-canaletto-masterpieces-from-the-bemberg-collection-july-17/
CATEGORIES:Tours
ATTACH;FMTTYPE=image/jpeg:https://www.sdmart.org/wp-content/uploads/2021/04/Lucas-Cranach-Portrait-of-Sibylle-de-Cleve-Elector-of-Saxe-1531-Bemberg-Foundation-resize-SQUARE.jpg
END:VEVENT
BEGIN:VEVENT
DTSTART;TZID=America/Los_Angeles:20210719T090000
DTEND;TZID=America/Los_Angeles:20210719T120000
DTSTAMP:20260425T073137
CREATED:20210507T231624Z
LAST-MODIFIED:20210507T235500Z
UID:26299-1626685200-1626696000@www.sdmart.org
SUMMARY:Virtual Summer Camp: Julie Sourisa Art Exploration Week (Grades 1–2)
DESCRIPTION:July 19–23\, 2021\nMonday – Friday: 9:00 a.m.–12:00 p.m. and a special exhibition session on Friday from 1:00 p.m.–2:00 p.m.\nGrades 1–2 \nExplore the elements of art through a variety of multimedia projects inspired by works on view during virtual visits to the Museum. From the Modern and Contemporary galleries to outdoor sculpture\, learn about master artists and play art games with new friends. \nVirtual Summer Camps are led by artists instructors and allow young artists to explore art activities\, a variety of media\, and take virtual trips to the Museum to view exhibitions. \nProgram Fees\n$100 members | $120 nonmembers \nVisit the Virtual Summer Youth Programs webpage to learn more and register for Virtual Summer Camp.
URL:https://www.sdmart.org/event/virtual-summer-camp-julie-sourisa-art-exploration-week-grades-1-2/
CATEGORIES:Education,Families,Summer Program
ATTACH;FMTTYPE=image/jpeg:https://www.sdmart.org/wp-content/uploads/2020/02/2019-Summer-Camp_MG_9160-compress-CROP-square.jpg
END:VEVENT
BEGIN:VEVENT
DTSTART;TZID=America/Los_Angeles:20210719T090000
DTEND;TZID=America/Los_Angeles:20210719T120000
DTSTAMP:20260425T073137
CREATED:20210507T231841Z
LAST-MODIFIED:20210507T232458Z
UID:26304-1626685200-1626696000@www.sdmart.org
SUMMARY:Virtual Summer Camp: Line\, Shapes\, and Design (Grades 3–5)
DESCRIPTION:July 19–23\, 2021\nMonday – Friday: 9:00 a.m.–12:00 p.m. and a special exhibition session on Friday from 1:00 p.m.–2:00 p.m.\nGrades 3–5 \nGet your creativity flowing while exploring the elements of art through painting\, printmaking\, and sculpting. Learn through virtual visits to the Modern and Contemporary galleries and special exhibitions. \nVirtual Summer Camps are led by artists instructors and allow young artists to explore art activities\, a variety of media\, and take virtual trips to the Museum to view exhibitions. \nProgram Fees\n$100 members | $120 nonmembers \nVisit the Virtual Summer Youth Programs webpage to learn more and register for Virtual Summer Camp.
URL:https://www.sdmart.org/event/virtual-summer-camp-line-shapes-design-grades-3-5/
CATEGORIES:Education,Families,Summer Program
ATTACH;FMTTYPE=image/jpeg:https://www.sdmart.org/wp-content/uploads/2020/09/Virtual-SDMA-Camp-4-web.jpg
END:VEVENT
BEGIN:VEVENT
DTSTART;TZID=America/Los_Angeles:20210720T130000
DTEND;TZID=America/Los_Angeles:20210720T140000
DTSTAMP:20260425T073137
CREATED:20210707T205140Z
LAST-MODIFIED:20210707T205620Z
UID:27718-1626786000-1626789600@www.sdmart.org
SUMMARY:Virtual Tour: Renaissance and Baroque Art
DESCRIPTION:Tuesday\, July 20\n1:00 p.m. –2:00 p.m. PT \n  \nThe Museum’s renowned collection of European art of the Renaissance and Baroque eras is the focus of this inspiring docent-led tour\, which will chronicle the development of new styles and techniques in the 14th through 17th centuries. It examines diverse artworks ranging from devotional subjects to portraiture\, landscapes\, and still lifes created in Italy\, Spain\, the Netherlands\, France\, and Germany. \nPlease reserve your spot by clicking on this link. All participants will be sent the Zoom link and instructions via email once you secure your place. Space is limited. \nReserve my spot! \n\nHosted by The San Diego Museum of Art Docent Council. \nFeatured: Giorgione (Giorgio da Castelfranco). Portrait of a Man\, 1506. Oil on panel. Gift of Anne R. and Amy Putnam. 1941.100.
URL:https://www.sdmart.org/event/virtual-tour-renaissance-and-baroque-art-july-20/
CATEGORIES:Tours
ATTACH;FMTTYPE=image/jpeg:https://www.sdmart.org/wp-content/uploads/2020/04/Portrait-of-a-Man-by-Giorgione-Giorgio-da-Castelfranco-1941.100.jpg
END:VEVENT
BEGIN:VEVENT
DTSTART;TZID=America/Los_Angeles:20210724T130000
DTEND;TZID=America/Los_Angeles:20210724T140000
DTSTAMP:20260425T073137
CREATED:20210706T230811Z
LAST-MODIFIED:20210706T231120Z
UID:27706-1627131600-1627135200@www.sdmart.org
SUMMARY:Virtual Tour: California Dreamin’ - NEW
DESCRIPTION:Saturday\, July 24\n1:00 p.m.–2:00 p.m. PT \n  \nLive the dream as you explore works of art of California and by Californians.  Experience the natural beauty and the wonderful diversity of the people and places of the Golden State. \nPlease reserve your spot by clicking on this link. All participants will be sent the Zoom link and instructions via email once you secure your place. Space is limited. \nReserve my spot! \n\nHosted by The San Diego Museum of Art Docent Council. \nFeatured: Alfred Richard Mitchell. La Jolla Cove. 1950. Oil on canvas. Gift of the artist. 1965.26.
URL:https://www.sdmart.org/event/virtual-tour-california-dreamin-july-24-2021/
CATEGORIES:Tours
ATTACH;FMTTYPE=image/jpeg:https://www.sdmart.org/wp-content/uploads/2018/03/ljcove.jpg
END:VEVENT
BEGIN:VEVENT
DTSTART;TZID=America/Los_Angeles:20210726T090000
DTEND;TZID=America/Los_Angeles:20210726T120000
DTSTAMP:20260425T073137
CREATED:20210507T233432Z
LAST-MODIFIED:20210507T233440Z
UID:26310-1627290000-1627300800@www.sdmart.org
SUMMARY:Virtual Summer Camp: Exploring Recycled Art Materials (Grades 1–2)
DESCRIPTION:July 26–30\, 2021\nMonday – Friday: 9:00 a.m.–12:00 p.m. and a special exhibition session on Friday from 1:00 p.m.–2:00 p.m.\nGrades 1–2 \nCreate works of art with recycled materials found in your everyday life. Find inspiration in the unique jewelry\, masks\, and sculptures on view in the Museum and construct your own masterpieces. Virtually visit the permanent collection galleries and special exhibitions to get inspired. \nVirtual Summer Camps are led by artists instructors and allow young artists to explore art activities\, a variety of media\, and take virtual trips to the Museum to view exhibitions. \nProgram Fees\n$100 members | $120 nonmembers \nVisit the Virtual Summer Youth Programs webpage to learn more and register for Virtual Summer Camp.
URL:https://www.sdmart.org/event/virtual-summer-camp-exploring-recycled-art-materials-grades-1-2/
CATEGORIES:Education,Families,Summer Program
ATTACH;FMTTYPE=image/jpeg:https://www.sdmart.org/wp-content/uploads/2021/05/SDMA-Summer-Camp-2014-1-resize.jpg
END:VEVENT
BEGIN:VEVENT
DTSTART;TZID=America/Los_Angeles:20210726T090000
DTEND;TZID=America/Los_Angeles:20210726T120000
DTSTAMP:20260425T073137
CREATED:20210507T233513Z
LAST-MODIFIED:20210507T234848Z
UID:26314-1627290000-1627300800@www.sdmart.org
SUMMARY:Virtual Summer Camp: Build It\, Shape It\, Sculpt It (Grades 3–5)
DESCRIPTION:July 26–30\, 2021\nMonday – Friday: 9:00 a.m.–12:00 p.m. and a special exhibition session on Friday from 1:00 p.m.–2:00 p.m.\nGrades 1–2 \nCreate sculptural works of art with materials such as clay\, wood\, wire\, and recyclable materials while virtually exploring volume and scale in works on view at the Museum\, including the May S. Marcy Sculpture Garden and the Art of the Open Air installation. \nVirtual Summer Camps are led by artists instructors and allow young artists to explore art activities\, a variety of media\, and take virtual trips to the Museum to view exhibitions. \nProgram Fees\n$100 members | $120 nonmembers \nVisit the Virtual Summer Youth Programs webpage to learn more and register for Virtual Summer Camp.
URL:https://www.sdmart.org/event/virtual-summer-camp-build-shape-sculpt-grades-3-5/
CATEGORIES:Education,Families,Summer Program
ATTACH;FMTTYPE=image/jpeg:https://www.sdmart.org/wp-content/uploads/2021/05/Summer-Camp-2010-Photos-002.jpg
END:VEVENT
BEGIN:VEVENT
DTSTART;TZID=America/Los_Angeles:20210728T130000
DTEND;TZID=America/Los_Angeles:20210728T140000
DTSTAMP:20260425T073137
CREATED:20210706T231324Z
LAST-MODIFIED:20210706T231843Z
UID:27709-1627477200-1627480800@www.sdmart.org
SUMMARY:Virtual Tour: Cranach to Canaletto: Masterpieces from the Bemberg Foundation
DESCRIPTION:Wednesday\, July 28\n1:00–2:00 p.m. PT \n  \nTour a selection of stunning Old Master paintings from the more than seventy-five works presented in Cranach to Canaletto: Masterpieces from the Bemberg Foundation.  These works\, exemplifying themes of portraiture\, landscape\, mythology\, and domestic environments\, reflect the unique personal taste of the connoisseur who assembled this remarkable private collection\, Georges Bemberg. \nPlease reserve your spot by clicking on this link. All participants will be sent the Zoom link and instructions via email once you secure your place. Space is limited. \nReserve my spot! \n\nHosted by The San Diego Museum of Art Docent Council. \nFeatured: Lucas Cranach. Portrait of Sibylle de Clève\, Elector of Saxe (detail)\, 1531. Oil on panel. Collection from the Fondation Bemberg. © Fondation Bemberg and RMN.
URL:https://www.sdmart.org/event/virtual-tour-cranach-to-canaletto-masterpieces-from-the-bemberg-collection-july-28/
CATEGORIES:Tours
ATTACH;FMTTYPE=image/jpeg:https://www.sdmart.org/wp-content/uploads/2021/04/Lucas-Cranach-Portrait-of-Sibylle-de-Cleve-Elector-of-Saxe-1531-Bemberg-Foundation-resize-SQUARE.jpg
END:VEVENT
BEGIN:VEVENT
DTSTART;TZID=America/Los_Angeles:20210729T130000
DTEND;TZID=America/Los_Angeles:20210729T140000
DTSTAMP:20260425T073137
CREATED:20210621T221010Z
LAST-MODIFIED:20210621T221457Z
UID:27432-1627563600-1627567200@www.sdmart.org
SUMMARY:New Fragrances: The Huntington’s Expanded Chinese Gardens
DESCRIPTION:Thursday\, July 29\n1:00–2:00 p.m. PT\nSpeaker: Phillip Bloom\, June and Simon K.C. Li Curator of the Chinese Garden and Director of the Center for East Asian Garden Studies at The Huntington Library\, Art Museum\, and Botanical Gardens\n \n  \nLiu Fang Yuan (the Garden of Flowing Fragrance) located on the grounds of the Huntington Library\, Art Museum\, and Botanical Gardens in San Marino\, California is arguably the finest Suzhou-style scholar’s garden outside of China. In the fall of 2020\, the garden celebrated the opening of several new features\, including a dramatic courtyard for the display of penjing (miniature trees similar to bonsai)\, intricate pavilions\, and winding corridors. As the pandemic is gradually tamed\, an art gallery and scholar’s studio will soon open to the public\, as well. This lecture will introduce the garden’s new features and elucidate the insights that they provide into Chinese garden history. \nPhillip E. Bloom is the June and Simon K.C. Li Curator of the Chinese Garden and director of the Center for East Asian Garden Studies at The Huntington Library\, Art Museum\, and Botanical Gardens in San Marino\, California. A specialist in Buddhist art\, ritual\, and landscape design of the Song dynasty\, he received his Ph.D. in art history from Harvard University in 2013. Prior to moving to The Huntington in 2017\, he was assistant professor of East Asian art history at Indiana University\, Bloomington. His publications have appeared in The Art Bulletin\, Archives of Asian Art\, Orientations\, and edited volumes in English\, Chinese\, and Japanese. Since joining The Huntington as a curator\, he has helped in overseeing the recent expansion of the Chinese Garden\, including the creation of a small art gallery; his first exhibition\, “A Garden of Words: The Calligraphy of Liu Fang Yuan” will open there this fall. \n  \nPlease reserve your spot by clicking on this link. All participants will be sent the Zoom link and instructions via email once you secure your place. Space is limited. \nReserve my spot! \n  \nSponsored by the Asian Arts Council. \n  \nFeatured: Liu Fang Yuan 流芳園\, or the Garden of Flowing Fragrance\, at The Huntington Library\, Art Museum\, and Botanical Gardens
URL:https://www.sdmart.org/event/new-fragrances-the-huntingtons-expanded-chinese-gardens/
CATEGORIES:Lecture-old,Support Council
ATTACH;FMTTYPE=image/jpeg:https://www.sdmart.org/wp-content/uploads/2021/06/AAC-July-2021-lecture_21-07-IMG_6828n.jpg
END:VEVENT
BEGIN:VEVENT
DTSTART;TZID=America/Los_Angeles:20210729T140000
DTEND;TZID=America/Los_Angeles:20210729T150000
DTSTAMP:20260425T073137
CREATED:20210719T161628Z
LAST-MODIFIED:20210913T204650Z
UID:27835-1627567200-1627570800@www.sdmart.org
SUMMARY:Virtual Tour: Everything You See Could Be a Lie:  The Photorealistic Drawings of Ana de Alvear
DESCRIPTION:Thursday\, July 29\n2:00 p.m.–3:00 p.m. PT \n  \nDon’t be fooled. There is more to these still-life images than initially meets the eye. Join a docent-led virtual tour of Everything You See Could Be a Lie: The Photorealistic Drawings of Ana de Alvear to learn how the Madrid-based multidisciplinary artist challenges long-held opinions about what constitutes art and how art is made\, raises questions about modern society\, and invites viewers to dig deep and examine their own identities. \nPlease reserve your spot by clicking on this link. All participants will be sent the Zoom link and instructions via email once you secure your place. Space is limited. \nReserve my spot! \n\nHosted by The San Diego Museum of Art Docent Council. \nFeatured: Ana de Alvear\, Romantic/Eight Butterflies One Ladybug\, 2014. Colored pencil on paper. Courtesy of the artist.
URL:https://www.sdmart.org/event/virtual-tour-everything-you-see-could-be-a-lie-photorealistic-drawings-ana-de-alvear/
CATEGORIES:Tours
ATTACH;FMTTYPE=image/jpeg:https://www.sdmart.org/wp-content/uploads/2021/05/Ana-de-Alvear-Romantico-resized.jpg
END:VEVENT
END:VCALENDAR