BEGIN:VCALENDAR
VERSION:2.0
PRODID:-//San Diego Museum of Art - ECPv6.7.0//NONSGML v1.0//EN
CALSCALE:GREGORIAN
METHOD:PUBLISH
X-WR-CALNAME:San Diego Museum of Art
X-ORIGINAL-URL:https://www.sdmart.org
X-WR-CALDESC:Events for San Diego Museum of Art
REFRESH-INTERVAL;VALUE=DURATION:PT1H
X-Robots-Tag:noindex
X-PUBLISHED-TTL:PT1H
BEGIN:VTIMEZONE
TZID:America/Los_Angeles
BEGIN:DAYLIGHT
TZOFFSETFROM:-0800
TZOFFSETTO:-0700
TZNAME:PDT
DTSTART:20260308T100000
END:DAYLIGHT
BEGIN:STANDARD
TZOFFSETFROM:-0700
TZOFFSETTO:-0800
TZNAME:PST
DTSTART:20261101T090000
END:STANDARD
END:VTIMEZONE
BEGIN:VEVENT
DTSTART;TZID=America/Los_Angeles:20260312T103000
DTEND;TZID=America/Los_Angeles:20260312T113000
DTSTAMP:20260425T151317
CREATED:20250909T202422Z
LAST-MODIFIED:20250909T202422Z
UID:672003-1773311400-1773315000@www.sdmart.org
SUMMARY:Books & Art: Storytime in the Library
DESCRIPTION:Second Thursdays\, monthly\n10:30 and 11:00 a.m.\nThe San Diego Museum of Art Library \n  \nGather to listen to exciting storytelling in The San Diego Museum of Art Library.\nFamilies are invited to come and enjoy lively storytelling\, songs\, and readings of some of our favorite art-inspired children’s books. Readings are at 10:30 a.m. and 11:00 a.m. inside The San Diego Museum of Art Library with entry near the Panama 66 restaurant.
URL:https://www.sdmart.org/event/books-art-storytime-library-2026/2026-03-12/
LOCATION:The San Diego Museum of Art\, 1450 El Prado\, San Diego\, CA\, 92102\, United States
CATEGORIES:Access for All,Families
ATTACH;FMTTYPE=image/jpeg:https://www.sdmart.org/wp-content/uploads/2025/05/Storytime-in-the-Library-2025_IMG_4695-square-crop.jpg
GEO:32.732119;-117.1504179
X-APPLE-STRUCTURED-LOCATION;VALUE=URI;X-ADDRESS=The San Diego Museum of Art 1450 El Prado San Diego CA 92102 United States;X-APPLE-RADIUS=500;X-TITLE=1450 El Prado:geo:-117.1504179,32.732119
END:VEVENT
BEGIN:VEVENT
DTSTART;TZID=America/Los_Angeles:20260314T093000
DTEND;TZID=America/Los_Angeles:20260314T110000
DTSTAMP:20260425T151317
CREATED:20260223T230041Z
LAST-MODIFIED:20260225T191919Z
UID:662960-1773480600-1773486000@www.sdmart.org
SUMMARY:Member Mornings at MOPA@SDMA
DESCRIPTION:Saturday\, March 14\n9:30–11:00 a.m.\nMuseum of Photographic Arts at The San Diego Museum of Art (MOPA@SDMA) \n  \nJoin us at on Saturday\, March 14\, from 9:30–11:00 a.m. for Member Mornings at MOPA@SDMA\, a new semi-annual event for members. We’re celebrating the recently opened exhibition Graciela Iturbide: Photographs from Colecciones Fundación Mapfre. Enjoy coffee and tea while mingling with fellow members before joining a guided docent tour. Additionally\, the MOPA@SDMA Store will be offering 20% all store items. \n  \nNo RSVP required; use your membership card to check in at the MOPA@SDMA admission desk. \n  \nFeatured: Graciela Iturbide\, Nuestra Señora de las Iguanas\, Juchitán\, Oaxaca\, México (Our Lady of the Iguanas\, Juchitán\, Oaxaca\, Mexico) (detail)\, 1979. Gelatin silver print. Colecciones Fundación Mapfre. © Graciela Iturbide
URL:https://www.sdmart.org/event/member-mornings-at-mopasdma-iturbide/
LOCATION:Museum of Photographic Arts at The San Diego Museum of Art\, 1649 El Prado\, San Diego\, CA\, 92101\, United States
CATEGORIES:Member Event
ATTACH;FMTTYPE=image/jpeg:https://www.sdmart.org/wp-content/uploads/2025/09/La-Nuestra-Senora-de-las-Iguanas-Juchitan-Oaxaca-Mexico-Our-Lady-of-the-Iguanas-Juchitan-Oaxaca-Mexico-by-Graciela-Iturbide-M-2018-003-003.jpg
END:VEVENT
BEGIN:VEVENT
DTSTART;TZID=America/Los_Angeles:20260314T103000
DTEND;TZID=America/Los_Angeles:20260314T113000
DTSTAMP:20260425T151317
CREATED:20251216T194027Z
LAST-MODIFIED:20260402T184842Z
UID:559723-1773484200-1773487800@www.sdmart.org
SUMMARY:Family Art Adventures
DESCRIPTION:Saturdays at 10:30 a.m. \n  \nFamily Art Adventures bring the Museum collection to life for families.\nFamily Art Adventures are dynamic free guided tours specially designed for families with school-aged children ages 5 to 12. Tours are offered the second and fourth Saturdays of each month at 10:30 a.m. Family tour themes change monthly\, and each family tour is followed by a hands-on art-making activity. All materials are provided. \nFree with Museum admission. RSVP requested. \nRSVP Now
URL:https://www.sdmart.org/event/family-art-adventures-march-2026/2026-03-14/
LOCATION:The San Diego Museum of Art\, 1450 El Prado\, San Diego\, CA\, 92102\, United States
CATEGORIES:Families,Tours
ATTACH;FMTTYPE=image/jpeg:https://www.sdmart.org/wp-content/uploads/2025/05/SDMA-Family-Tours_square.jpg
GEO:32.732119;-117.1504179
X-APPLE-STRUCTURED-LOCATION;VALUE=URI;X-ADDRESS=The San Diego Museum of Art 1450 El Prado San Diego CA 92102 United States;X-APPLE-RADIUS=500;X-TITLE=1450 El Prado:geo:-117.1504179,32.732119
END:VEVENT
BEGIN:VEVENT
DTSTART;TZID=America/Los_Angeles:20260317T100000
DTEND;TZID=America/Los_Angeles:20260317T170000
DTSTAMP:20260425T151317
CREATED:20251216T195237Z
LAST-MODIFIED:20251216T195237Z
UID:559755-1773741600-1773766800@www.sdmart.org
SUMMARY:Resident Free Tuesday
DESCRIPTION:Tuesday\n10:00 a.m.–5:00 p.m. \n  \nThe San Diego Museum of Art offers free admission to San Diego County residents (with ID) on the third Tuesday of every month. \nA valid ID is required for admission and certain restrictions apply as Resident Free Tuesdays tend to be busy. We ask that you not bring food\, beverages\, backpacks\, or other oversized items. \n  \nPlan for your visit and see our top tips for visiting the Museum.
URL:https://www.sdmart.org/event/resident-free-tuesday-2026/2026-03-17/
LOCATION:The San Diego Museum of Art\, 1450 El Prado\, San Diego\, CA\, 92102\, United States
ATTACH;FMTTYPE=image/jpeg:https://www.sdmart.org/wp-content/uploads/2017/05/VisitorswithDisabilities.H1.jpg
GEO:32.732119;-117.1504179
X-APPLE-STRUCTURED-LOCATION;VALUE=URI;X-ADDRESS=The San Diego Museum of Art 1450 El Prado San Diego CA 92102 United States;X-APPLE-RADIUS=500;X-TITLE=1450 El Prado:geo:-117.1504179,32.732119
END:VEVENT
BEGIN:VEVENT
DTSTART;TZID=America/Los_Angeles:20260317T103000
DTEND;TZID=America/Los_Angeles:20260317T123000
DTSTAMP:20260425T151317
CREATED:20260312T165936Z
LAST-MODIFIED:20260312T165936Z
UID:672007-1773743400-1773750600@www.sdmart.org
SUMMARY:Books & Art: Found Object Books
DESCRIPTION:Tuesdays\, March 17 and May 19\n10:30 a.m.–12:30 p.m.\nMOPA@SDMA Atrium \n  \nJoin us for a hands-on morning of reflection\, storytelling\, and creative making inspired by the photography of Graciela Iturbide. Drawing from her poetic images of landscapes\, objects\, and communities\, this workshop invites participants to explore the relationship between people and the natural world through the creation of organic\, nature-inspired books. The program will begin with an educator-led tour of the exhibition\, offering close-looking opportunities and conversation to deepen engagement with Iturbide’s work.  \nDuring this workshop\, participants will create one-of-a-kind handmade books using natural materials such as dried leaves\, shells\, and wood. Guided by museum educators\, you will explore simple bookmaking techniques while considering how organic forms\, textures\, and found elements can hold memory and meaning. Each book will become a tactile archive\, an intimate meditation on place\, environment\, and personal connection.  \nAll materials will be provided.  \nPlease RSVP here to reserve your spot. Registration is limited to 15 participants.  \nRegistration is limited to 15 people. Workshop held during Resident Free Tuesday\, which grants free admission to San Diego County residents (with ID) on the third Tuesday of every month. Museum admission for nonresidents is not included. Participants under the age of 18 must be accompanied by an adult for the duration of the workshop. 
URL:https://www.sdmart.org/event/books-art-found-object-books/2026-03-17/
LOCATION:Museum of Photographic Arts at The San Diego Museum of Art\, 1649 El Prado\, San Diego\, CA\, 92101\, United States
CATEGORIES:Workshop
ATTACH;FMTTYPE=image/jpeg:https://www.sdmart.org/wp-content/uploads/2026/03/Books-Art-Workshop-Found-Object-Book_IMG_2778_resize-rotated-e1773248092564.jpg
END:VEVENT
BEGIN:VEVENT
DTSTART;TZID=America/Los_Angeles:20260317T130000
DTEND;TZID=America/Los_Angeles:20260317T150000
DTSTAMP:20260425T151317
CREATED:20251218T200003Z
LAST-MODIFIED:20260410T235938Z
UID:624421-1773752400-1773759600@www.sdmart.org
SUMMARY:Live Model Drawing
DESCRIPTION:Monthly\, Third Tuesdays\n1:00–3:00 p.m.\nMuseum Art Studio \n  \nJoin us for a live model drawing session.\nCome engage in figure drawing in the SDMA Museum Art Studio! Exercise and develop your drawing skills through observation of a live\, clothed model while exploring your creativity. Drawing materials will be provided or you can bring your own. No oil paints or solvents please! \nThis is a pay-what-you-wish event. Please RSVP here to save your spot. Registration is limited to 20 people per session. Registration is limited to 20 people per session. Meet at the House of Hospitality\, near the Prado restaurant entrance at 12:50 p.m. and look for the OPEN STUDIO sign. \n  \nArtists under the age of 18 must be accompanied by an adult for the duration of the Live Model Drawing Session. Museum admission not included.
URL:https://www.sdmart.org/event/live-model-drawing-3/2026-03-17/
LOCATION:The San Diego Museum of Art\, 1450 El Prado\, San Diego\, CA\, 92102\, United States
CATEGORIES:Workshop
ATTACH;FMTTYPE=image/jpeg:https://www.sdmart.org/wp-content/uploads/2025/06/live-model.jpg
GEO:32.732119;-117.1504179
X-APPLE-STRUCTURED-LOCATION;VALUE=URI;X-ADDRESS=The San Diego Museum of Art 1450 El Prado San Diego CA 92102 United States;X-APPLE-RADIUS=500;X-TITLE=1450 El Prado:geo:-117.1504179,32.732119
END:VEVENT
BEGIN:VEVENT
DTSTART;TZID=America/Los_Angeles:20260320T100000
DTEND;TZID=America/Los_Angeles:20260320T113000
DTSTAMP:20260425T151317
CREATED:20260227T014831Z
LAST-MODIFIED:20260227T014831Z
UID:662988-1774000800-1774006200@www.sdmart.org
SUMMARY:“Sin Poder Mirar” – The Eye/I as Surrealistic Oracle and Existential Portal in 20th and 21st Century Art
DESCRIPTION:Friday\, March 20\n10:00 a.m.\nSpeaker: Dr. William Nericcio\, Professor of English & Comparative Literature and Director of Master of Arts in Liberal Arts and Sciences at San Diego State University\nMOPA@SDMA Joan and Irwin Jacobs Theater \n  \nDirector of San Diego State University’s longest-running Interdisciplinary and Cultural Studies graduate program\, MALAS (the Master of Arts in Liberal Arts and Sciences program)\, Dr. William Nericcio is Professor of English and Comparative Literature at SDSU. Dr. Nericcio will lead the audience through an engaging exploration spanning the writing of Carlos Fuentes and Jean-Paul Sartre and including works presently on view at The San Diego Museum of Art\, considering what it means to be “sin poder mirar\,” or to exist without the power to see. \nFollowing the lecture\, guests are invited to enjoy a guided tour led by our docent team. \n  \nPlease note\, this lecture is in-person only and held at the state-of-the-art MOPA@SDMA Joan and Irwin Jacobs Theater in Balboa Park. \n$10 members and students | $15 seniors and military | $25 nonmembers \nSave My Spot \n  \nThis lecture is presented as a part of the Guest Lecture Series\, which offers a platform for renowned scholars and experts from the art world to share their insights and knowledge on topics related to art history\, art theory\, and the museum’s collections. \nSponsored by The San Diego Museum of Art Docent Council. \n  \nFeatured at top right: Diego Rivera\, The Hands of Dr. Moore (detail)\, 1940. Oil on canvas. Bequest of Mrs. E. Clarence Moore\, 1970.20.
URL:https://www.sdmart.org/event/sin-poder-mirar-the-eye-i-as-surrealistic-oracle-and-existential-portal-in-20th-and-21st-century-art/
LOCATION:Museum of Photographic Arts at The San Diego Museum of Art\, 1649 El Prado\, San Diego\, CA\, 92101\, United States
CATEGORIES:Guest Lecture Series,Lecture
ATTACH;FMTTYPE=image/jpeg:https://www.sdmart.org/wp-content/uploads/2020/05/The-Hands-of-Dr.-Moore-by-Diego-Rivera-1970.20.jpeg
END:VEVENT
BEGIN:VEVENT
DTSTART;TZID=America/Los_Angeles:20260321T073000
DTEND;TZID=America/Los_Angeles:20260321T193000
DTSTAMP:20260425T151317
CREATED:20260225T231844Z
LAST-MODIFIED:20260225T231844Z
UID:662963-1774078200-1774121400@www.sdmart.org
SUMMARY:Bus Tour: Geffen Contemporary at MOCA & LA Arts District
DESCRIPTION:Saturday\, March 21\n7:30 a.m.–7:30 p.m. \n  \nJoin us for an educational and entertaining trip to The Geffen Contemporary at MOCA to see the MONUMENTS exhibition and explore the LA Arts District!\nMONUMENTS at The Geffen Contemporary at MOCA \nThe MONUMENTS exhibition marks the recent wave of monument removals as an historic moment. The exhibition reflects on the histories and legacies of post-Civil War America as they continue to resonate today\, bringing together a selection of decommissioned monuments\, many of which are Confederate\, with contemporary artworks borrowed and newly created for the occasion. \nLA Arts District \nExplore the Los Angeles Arts District\, including a guided tour of the Hauser & Wirth gallery\, currently featuring the following two exhibitions: \n\nWorks of art by Los Angeles-based artist Christina Quarles created in the wake of the wildfires in Altadena and reflecting an acute sense of displacement.\nDestiny is a Rose\, the Eileen Harris Norton collection\, with more than 80 works that together reflect Harris Norton’s prescient vision and commitment to social justice and learning\, including such artists as Mark Bradford\, \, Glenn Ligon\, Betye Saar\, Lorna Simpson\, and Jack Whitten\, among others.\n\nEnjoy lunch at a nearby restaurant of your choice and discover smaller galleries in the area. A sheet of gallery and lunch suggestions will be provided upon tour signup. \nTour ticket includes travel to The Geffen Contemporary at MOCA and the LA Arts District\, admission and guided tours of MONUMENTS and Hauser & Wirth Downtown LA\, and morning and afternoon snacks. Lunch not included. \n  \nSave My Spot \n  \n\nSchedule\n7:30 a.m. | Coffee and breakfast treats available \n7:45 a.m. | Arrive in Balboa Park \n8:00 a.m. | Bus departs from Balboa Park (from the South Inspiration Point Parking Lot\, across from Park Blvd.) \n8:30 a.m. | Bus picks up guests at the La Costa Park and Ride (710 La Costa Avenue) \n11:00 a.m. | Arrive at Geffen Contemporary at MOCA\, admission and private tour included \n12:45 p.m. | Bus transportation from Geffen Contemporary to the LA Arts District \n1:00 p.m. | Lunch in LA Arts District \n3:00 p.m. | Guided tour of Hauser & Wirth exhibitions\, admission and private tour included \n4:30 p.m. | Depart Hauser & Wirth for San Diego\, snack tray and small bottle of wine or non-alcoholic drink provided \n7:00 p.m. | Estimated arrival at La Costa Park and Ride \n7:30 p.m. | Estimated arrival at Balboa Park \n  \n\nPick-Up Locations\nBalboa Park\n \nBus will leave from the South Inspiration Point Parking Lot\, across from Park Blvd. \nPlease arrange your own parking in the South Inspiration Park lot: $5 for San Diego residents and $10 for non-residents. \nCoffee and breakfast treats will be available from 7:30 a.m. \nBus will leave promptly at 8:00 a.m. \nNorth County \nBus will pick up at the La Costa Park and Ride (710 La Costa Avenue). \nPlease arrive no later than 8:15 a.m. \nBus will leave promptly at 8:30 a. m. \n  \n\nSave My Spot \n$130 SDMA members and docents | $140 nonmembers \nSeats are limited. \n  \n  \nSponsored by The San Diego Museum of Art Docent Council. \n 
URL:https://www.sdmart.org/event/bus-tour-geffen-contemporary-at-moca-la-arts-district/
CATEGORIES:Bus Tours
ATTACH;FMTTYPE=image/png:https://www.sdmart.org/wp-content/uploads/2026/02/Geffin-MOCA-Monuments_square.png
END:VEVENT
BEGIN:VEVENT
DTSTART;TZID=America/Los_Angeles:20260328T080000
DTEND;TZID=America/Los_Angeles:20260328T190000
DTSTAMP:20260425T151317
CREATED:20251121T004604Z
LAST-MODIFIED:20251121T004604Z
UID:514796-1774684800-1774724400@www.sdmart.org
SUMMARY:Asian Arts Council Bus Tour: The Huntington
DESCRIPTION:Saturday\, March 28\n8:00 a.m.–7:00 p.m. \n  \nJoin the Asian Arts Council for an educational and entertaining chartered bus trip to The Huntington (formerly Huntington Library\, Art Museum\, and Botanical Garden).\nTravel to The Huntington to enjoy a spring day in the gardens and see special exhibition the eight directions of the wind: Edmund de Waal. \n  \n$125 AAC and Museum members | $135 nonmembers \nGet Bus Tour Tickets \n  \n\nSchedule\n\n7:45 a.m. | Arrive in Balboa Park \n8:00 a.m. | Bus departs from the Balboa Park Old Naval Hospital parking lot (located at Park Blvd. and Presidents Way) \n8:30 a.m. | Bus departs from La Costa Park & Ride (located at 710 La Costa Ave.\, Encinitas\, CA 92024) \n11:00 a.m. | Estimated arrival at The Huntington \n10:30 a.m.–2:45 p.m. | View the eight directions of the wind: Edmund de Waal\, walk The Huntington gardens\, and enjoy lunch available for purchase at The Huntington restaurants. \n4:00 p.m. | Depart The Huntington \n6:30 p.m. | Estimated arrival at La Costa Park & Ride \n7:00 p.m. | Estimated arrival at Balboa Park Old Naval Hospital parking lot \n\n  \nNote\, lunch will be available for purchase at The Huntington. Make reservations at least two weeks in advance at the Rose Garden Tea Room (626.683.8131) or eat at the informal cafes on site. \n  \n\nPick-Up Locations\nSan Diego \nBus will leave from the Old Naval Hospital parking lot (located at Park Blvd. and Presidents Way) at 8:00 a.m. \nNorth County \nBus will leave from the La Costa Park & Ride (located at 710 La Costa Ave.\, Encinitas\, CA 92024) at 8:30 a.m. \n  \n\n  \n$125 AAC and Museum members | $135 nonmembers \nGet Bus Tour Tickets \n  \nSponsored by the Asian Arts Council. Image courtesy of The Huntington.
URL:https://www.sdmart.org/event/asian-arts-council-bus-tour-the-huntington/
CATEGORIES:Bus Tours,Support Council
ATTACH;FMTTYPE=image/jpeg:https://www.sdmart.org/wp-content/uploads/2025/11/AAC_25-11-17_Pagoda-huntington.org-event-second-sundays-growing-and-knowing.jpg
END:VEVENT
BEGIN:VEVENT
DTSTART;TZID=America/Los_Angeles:20260328T103000
DTEND;TZID=America/Los_Angeles:20260328T113000
DTSTAMP:20260425T151317
CREATED:20251216T194027Z
LAST-MODIFIED:20260402T184843Z
UID:695985-1774693800-1774697400@www.sdmart.org
SUMMARY:Family Art Adventures
DESCRIPTION:Saturdays at 10:30 a.m. \n  \nFamily Art Adventures bring the Museum collection to life for families.\nFamily Art Adventures are dynamic free guided tours specially designed for families with school-aged children ages 5 to 12. Tours are offered the second and fourth Saturdays of each month at 10:30 a.m. Family tour themes change monthly\, and each family tour is followed by a hands-on art-making activity. All materials are provided. \nFree with Museum admission. RSVP requested. \nRSVP Now
URL:https://www.sdmart.org/event/family-art-adventures-march-2026/2026-03-28/
LOCATION:The San Diego Museum of Art\, 1450 El Prado\, San Diego\, CA\, 92102\, United States
CATEGORIES:Families,Tours
ATTACH;FMTTYPE=image/jpeg:https://www.sdmart.org/wp-content/uploads/2025/05/SDMA-Family-Tours_square.jpg
GEO:32.732119;-117.1504179
X-APPLE-STRUCTURED-LOCATION;VALUE=URI;X-ADDRESS=The San Diego Museum of Art 1450 El Prado San Diego CA 92102 United States;X-APPLE-RADIUS=500;X-TITLE=1450 El Prado:geo:-117.1504179,32.732119
END:VEVENT
END:VCALENDAR