BEGIN:VCALENDAR
VERSION:2.0
PRODID:-//San Diego Museum of Art - ECPv6.7.0//NONSGML v1.0//EN
CALSCALE:GREGORIAN
METHOD:PUBLISH
X-WR-CALNAME:San Diego Museum of Art
X-ORIGINAL-URL:https://www.sdmart.org
X-WR-CALDESC:Events for San Diego Museum of Art
REFRESH-INTERVAL;VALUE=DURATION:PT1H
X-Robots-Tag:noindex
X-PUBLISHED-TTL:PT1H
BEGIN:VTIMEZONE
TZID:America/Los_Angeles
BEGIN:DAYLIGHT
TZOFFSETFROM:-0800
TZOFFSETTO:-0700
TZNAME:PDT
DTSTART:20260308T100000
END:DAYLIGHT
BEGIN:STANDARD
TZOFFSETFROM:-0700
TZOFFSETTO:-0800
TZNAME:PST
DTSTART:20261101T090000
END:STANDARD
END:VTIMEZONE
BEGIN:VEVENT
DTSTART;TZID=America/Los_Angeles:20260502T103000
DTEND;TZID=America/Los_Angeles:20260502T113000
DTSTAMP:20260425T151403
CREATED:20260408T181723Z
LAST-MODIFIED:20260408T181723Z
UID:700196-1777717800-1777721400@www.sdmart.org
SUMMARY:Family Art Adventures: Early Childhood
DESCRIPTION:Saturdays at 10:30 a.m. \n  \nFamily Art Adventures bring the Museum collection to life for families with young children ages 3 to 5.\nFamily Art Adventures: Early Childhood are dynamic\, free guided tours specially designed for families with young children ages 3 to 5. Discover art through storytelling\, color exploration and movement. Tours are offered the first Saturdays of each month at 10:30 a.m. Family tour themes change monthly\, and each family tour is followed by a hands-on art-making activity. All materials are provided. \nFree with Museum admission. RSVP requested. \nRSVP Now
URL:https://www.sdmart.org/event/family-art-adventures-early-childhood/2026-05-02/
LOCATION:The San Diego Museum of Art\, 1450 El Prado\, San Diego\, CA\, 92102\, United States
CATEGORIES:Families
ATTACH;FMTTYPE=image/jpeg:https://www.sdmart.org/wp-content/uploads/2026/04/FamilyArtAdventure_0842_Early-Childood-Tour_web-resize.jpg
GEO:32.732119;-117.1504179
X-APPLE-STRUCTURED-LOCATION;VALUE=URI;X-ADDRESS=The San Diego Museum of Art 1450 El Prado San Diego CA 92102 United States;X-APPLE-RADIUS=500;X-TITLE=1450 El Prado:geo:-117.1504179,32.732119
END:VEVENT
BEGIN:VEVENT
DTSTART;TZID=America/Los_Angeles:20260509T101500
DTEND;TZID=America/Los_Angeles:20260509T120000
DTSTAMP:20260425T151403
CREATED:20260310T162944Z
LAST-MODIFIED:20260310T162944Z
UID:670472-1778321700-1778328000@www.sdmart.org
SUMMARY:Art of Reading Book Club
DESCRIPTION:Saturday\, May 9\n10:15 a.m.–noon\nSDMA Boardroom \n  \nBe part of the Art of Reading Book Club\, where art\, literature\, and art history converge.\nJoin fellow Museum Members as we discuss\, The Devil in Montmartre A Mystery in Fin de Siècle by Gary Inbinder. A murder shocks Montmartre—and Paris fears Jack the Ripper has arrived. Amid the glitter of the 1889 World’s Fair\, Inspector Achille Lefebvre races to catch the “Paris Ripper\,” with Toulouse-Lautrec considered one of his suspects. Coffee and light snacks will be served. The book club will be followed by a docent-led tour of art works relating to the book. \n\nCoffee and light snacks will be served. The book club will be followed by a docent-led tour of art works relating to the book. \n\n\nPlease save your spot by Wednesday\, May 6\, by clicking here. Prior to entry all participants are required to check in at the SDMA rotunda admissions desk\, after which you will meet in the Museum boardroom. \n\n  \nSave My Spot \nFree for members | $25 for nonmembers \nClick here to purchase The Devil in Montmartre A Mystery in Fin de Siècle by Gary Inbinder from The Museum Store.
URL:https://www.sdmart.org/event/art-of-reading-book-club-32/
LOCATION:The San Diego Museum of Art\, 1450 El Prado\, San Diego\, CA\, 92102\, United States
CATEGORIES:Book Club
ATTACH;FMTTYPE=image/jpeg:https://www.sdmart.org/wp-content/uploads/2026/03/The-Devil-in-Montmartre-A-Mystery-in-Fin-de-Siecle-by-Gary-Inbinder-book-cover.jpg
GEO:32.732119;-117.1504179
X-APPLE-STRUCTURED-LOCATION;VALUE=URI;X-ADDRESS=The San Diego Museum of Art 1450 El Prado San Diego CA 92102 United States;X-APPLE-RADIUS=500;X-TITLE=1450 El Prado:geo:-117.1504179,32.732119
END:VEVENT
BEGIN:VEVENT
DTSTART;TZID=America/Los_Angeles:20260509T103000
DTEND;TZID=America/Los_Angeles:20260509T113000
DTSTAMP:20260425T151403
CREATED:20251216T194027Z
LAST-MODIFIED:20260402T184844Z
UID:695987-1778322600-1778326200@www.sdmart.org
SUMMARY:Family Art Adventures
DESCRIPTION:Saturdays at 10:30 a.m. \n  \nFamily Art Adventures bring the Museum collection to life for families.\nFamily Art Adventures are dynamic free guided tours specially designed for families with school-aged children ages 5 to 12. Tours are offered the second and fourth Saturdays of each month at 10:30 a.m. Family tour themes change monthly\, and each family tour is followed by a hands-on art-making activity. All materials are provided. \nFree with Museum admission. RSVP requested. \nRSVP Now
URL:https://www.sdmart.org/event/family-art-adventures-march-2026/2026-05-09/
LOCATION:The San Diego Museum of Art\, 1450 El Prado\, San Diego\, CA\, 92102\, United States
CATEGORIES:Families,Tours
ATTACH;FMTTYPE=image/jpeg:https://www.sdmart.org/wp-content/uploads/2025/05/SDMA-Family-Tours_square.jpg
GEO:32.732119;-117.1504179
X-APPLE-STRUCTURED-LOCATION;VALUE=URI;X-ADDRESS=The San Diego Museum of Art 1450 El Prado San Diego CA 92102 United States;X-APPLE-RADIUS=500;X-TITLE=1450 El Prado:geo:-117.1504179,32.732119
END:VEVENT
BEGIN:VEVENT
DTSTART;TZID=America/Los_Angeles:20260514T103000
DTEND;TZID=America/Los_Angeles:20260514T113000
DTSTAMP:20260425T151403
CREATED:20250909T202422Z
LAST-MODIFIED:20250909T202422Z
UID:672005-1778754600-1778758200@www.sdmart.org
SUMMARY:Books & Art: Storytime in the Library
DESCRIPTION:Second Thursdays\, monthly\n10:30 and 11:00 a.m.\nThe San Diego Museum of Art Library \n  \nGather to listen to exciting storytelling in The San Diego Museum of Art Library.\nFamilies are invited to come and enjoy lively storytelling\, songs\, and readings of some of our favorite art-inspired children’s books. Readings are at 10:30 a.m. and 11:00 a.m. inside The San Diego Museum of Art Library with entry near the Panama 66 restaurant.
URL:https://www.sdmart.org/event/books-art-storytime-library-2026/2026-05-14/
LOCATION:The San Diego Museum of Art\, 1450 El Prado\, San Diego\, CA\, 92102\, United States
CATEGORIES:Access for All,Families
ATTACH;FMTTYPE=image/jpeg:https://www.sdmart.org/wp-content/uploads/2025/05/Storytime-in-the-Library-2025_IMG_4695-square-crop.jpg
GEO:32.732119;-117.1504179
X-APPLE-STRUCTURED-LOCATION;VALUE=URI;X-ADDRESS=The San Diego Museum of Art 1450 El Prado San Diego CA 92102 United States;X-APPLE-RADIUS=500;X-TITLE=1450 El Prado:geo:-117.1504179,32.732119
END:VEVENT
BEGIN:VEVENT
DTSTART;TZID=America/Los_Angeles:20260514T110000
DTEND;TZID=America/Los_Angeles:20260514T130000
DTSTAMP:20260425T151403
CREATED:20260411T001342Z
LAST-MODIFIED:20260411T001342Z
UID:709967-1778756400-1778763600@www.sdmart.org
SUMMARY:Community Art Workshop
DESCRIPTION:Monthly\, Second Thursdays\n11:00 a.m.–1:00 p.m.\nMay S. Marcy Sculpture Garden \n  \nGreat for artists of all ages. Community Art Workshops invite artists to enjoy hands-on art making experiences inspired by the thinking and creating processes of artists on view at the Museum. Artists under the age of 18 must be accompanied by an adult for the duration of the workshop. \n  \nPlease join us! No reservation is required. All materials are provided. Free with Museum admission. \nGreat for artists of all ages. Community Art Workshops invite artists to enjoy hands-on art making experiences inspired by the thinking and creating processes of artists on view at the Museum. Artists under the age of 18 must be accompanied by an adult for the duration of the workshop. Museum admission not included
URL:https://www.sdmart.org/event/community-art-workshop-thurs26/2026-05-14/
LOCATION:The San Diego Museum of Art\, 1450 El Prado\, San Diego\, CA\, 92102\, United States
CATEGORIES:Access for All,Families,Workshop
ATTACH;FMTTYPE=image/jpeg:https://www.sdmart.org/wp-content/uploads/2025/04/Pantea-Karimi-Community-Art-Workshop_baumanphotographers_010_web-resize.jpg
GEO:32.732119;-117.1504179
X-APPLE-STRUCTURED-LOCATION;VALUE=URI;X-ADDRESS=The San Diego Museum of Art 1450 El Prado San Diego CA 92102 United States;X-APPLE-RADIUS=500;X-TITLE=1450 El Prado:geo:-117.1504179,32.732119
END:VEVENT
BEGIN:VEVENT
DTSTART;TZID=America/Los_Angeles:20260515T110000
DTEND;TZID=America/Los_Angeles:20260515T123000
DTSTAMP:20260425T151403
CREATED:20260331T233338Z
LAST-MODIFIED:20260331T233338Z
UID:672894-1778842800-1778848200@www.sdmart.org
SUMMARY:Sacrifice and Service: The History of SDMA and Balboa Park in World War I and World War II
DESCRIPTION:Friday\, May 15\n11:00 a.m.\nSpeaker: Karl Zingheim\, Historian\, USS Midway Museum and Lecturer at San Diego State University’s Center for War and Society\nMOPA@SDMA Joan and Irwin Jacobs Theater \n  \nKarl Zingheim\, a lecturer at SDSU and Historian for the USS Midway Museum\, will present on the crucial\, and often overlooked\, history of The San Diego Museum of Art and Balboa Park during World War I and World War II. His talk will detail how Balboa Park and the Museum supported the home front and war effort by serving as military facilities\, temporary housing\, training grounds\, and centers for morale and cultural preservation. \n  \nFollowing the lecture\, guests are invited to enjoy a guided tour led by our docent team. \n  \nPlease note\, this lecture is in-person only and held at the state-of-the-art MOPA@SDMA Joan and Irwin Jacobs Theater in Balboa Park. \n$10 members and students | $15 seniors and military | $25 nonmembers \nSave My Spot \n  \nThis lecture is presented as a part of the Guest Lecture Series\, which offers a platform for renowned scholars and experts from the art world to share their insights and knowledge on topics related to art history\, art theory\, and the museum’s collections. \nSponsored by The San Diego Museum of Art Docent Council. \n  \nFeatured at top right: Photo of Navy boat training in Balboa Park. Courtesy of the San Diego History Center.
URL:https://www.sdmart.org/event/sacrifice-and-service-history-sdma-and-balboa-park-world-war-i-world-war-ii/
LOCATION:Museum of Photographic Arts at The San Diego Museum of Art\, 1649 El Prado\, San Diego\, CA\, 92101\, United States
CATEGORIES:Guest Lecture Series,Lecture
ATTACH;FMTTYPE=image/jpeg:https://www.sdmart.org/wp-content/uploads/2026/03/boat-training.jpg
END:VEVENT
BEGIN:VEVENT
DTSTART;TZID=America/Los_Angeles:20260516T110000
DTEND;TZID=America/Los_Angeles:20260516T130000
DTSTAMP:20260425T151403
CREATED:20260411T001927Z
LAST-MODIFIED:20260411T001927Z
UID:709971-1778929200-1778936400@www.sdmart.org
SUMMARY:Community Art Workshop
DESCRIPTION:Monthly\, Third Saturdays\n11:00 a.m.–1:00 p.m.\nSan Diego Museum of Art\nMay S. Marcy Sculpture Garden \n  \nGreat for artists of all ages. Community Art Workshops invite artists to enjoy hands-on art making experiences inspired by the thinking and creating processes of artists on view at the Museum. Artists under the age of 18 must be accompanied by an adult for the duration of the workshop. \n  \nPlease join us! No reservation is required. All materials are provided. Free with Museum admission. \nGreat for artists of all ages. Community Art Workshops invite artists to enjoy hands-on art making experiences inspired by the thinking and creating processes of artists on view at the Museum. Artists under the age of 18 must be accompanied by an adult for the duration of the workshop. Museum admission not included
URL:https://www.sdmart.org/event/community-art-workshop-sat26/2026-05-16/
LOCATION:The San Diego Museum of Art\, 1450 El Prado\, San Diego\, CA\, 92102\, United States
CATEGORIES:Access for All,Families,Workshop
ATTACH;FMTTYPE=image/jpeg:https://www.sdmart.org/wp-content/uploads/2025/04/Pantea-Karimi-Community-Art-Workshop_baumanphotographers_010_web-resize.jpg
GEO:32.732119;-117.1504179
X-APPLE-STRUCTURED-LOCATION;VALUE=URI;X-ADDRESS=The San Diego Museum of Art 1450 El Prado San Diego CA 92102 United States;X-APPLE-RADIUS=500;X-TITLE=1450 El Prado:geo:-117.1504179,32.732119
END:VEVENT
BEGIN:VEVENT
DTSTART;TZID=America/Los_Angeles:20260519T100000
DTEND;TZID=America/Los_Angeles:20260519T120000
DTSTAMP:20260425T151403
CREATED:20260128T181252Z
LAST-MODIFIED:20260128T181252Z
UID:709963-1779184800-1779192000@www.sdmart.org
SUMMARY:Community Open Studio
DESCRIPTION:Monthly\, Third Tuesdays\n10:00 a.m.–noon\nMuseum Art Studio \n  \nJoin us for an in-studio art making experience.\nCome explore art making in the SDMA Museum Art Studio! Join us and create work using mediums such as drawing\, painting\, and mixed media and explore your creativity. Materials will be provided\, or you can bring your own. No oil paints or solvents please! \nThis is a pay-what-you-wish event. Please RSVP here to save your spot. Registration is limited to 20 people per session. Meet at the House of Hospitality\, near the Prado restaurant entrance\, at 9:50 a.m. and look for the OPEN STUDIO sign. \n  \nArtists under the age of 18 must be accompanied by an adult for the duration of the Community Open Studio. Museum admission not included.
URL:https://www.sdmart.org/event/community-open-studio-26/2026-05-19/
LOCATION:The San Diego Museum of Art\, 1450 El Prado\, San Diego\, CA\, 92102\, United States
CATEGORIES:Workshop
ATTACH;FMTTYPE=image/jpeg:https://www.sdmart.org/wp-content/uploads/2025/12/Community_Open_Studio.jpeg
GEO:32.732119;-117.1504179
X-APPLE-STRUCTURED-LOCATION;VALUE=URI;X-ADDRESS=The San Diego Museum of Art 1450 El Prado San Diego CA 92102 United States;X-APPLE-RADIUS=500;X-TITLE=1450 El Prado:geo:-117.1504179,32.732119
END:VEVENT
BEGIN:VEVENT
DTSTART;TZID=America/Los_Angeles:20260519T100000
DTEND;TZID=America/Los_Angeles:20260519T170000
DTSTAMP:20260425T151403
CREATED:20251216T195238Z
LAST-MODIFIED:20251216T195238Z
UID:559757-1779184800-1779210000@www.sdmart.org
SUMMARY:Resident Free Tuesday
DESCRIPTION:Tuesday\n10:00 a.m.–5:00 p.m. \n  \nThe San Diego Museum of Art offers free admission to San Diego County residents (with ID) on the third Tuesday of every month. \nA valid ID is required for admission and certain restrictions apply as Resident Free Tuesdays tend to be busy. We ask that you not bring food\, beverages\, backpacks\, or other oversized items. \n  \nPlan for your visit and see our top tips for visiting the Museum.
URL:https://www.sdmart.org/event/resident-free-tuesday-2026/2026-05-19/
LOCATION:The San Diego Museum of Art\, 1450 El Prado\, San Diego\, CA\, 92102\, United States
ATTACH;FMTTYPE=image/jpeg:https://www.sdmart.org/wp-content/uploads/2017/05/VisitorswithDisabilities.H1.jpg
GEO:32.732119;-117.1504179
X-APPLE-STRUCTURED-LOCATION;VALUE=URI;X-ADDRESS=The San Diego Museum of Art 1450 El Prado San Diego CA 92102 United States;X-APPLE-RADIUS=500;X-TITLE=1450 El Prado:geo:-117.1504179,32.732119
END:VEVENT
BEGIN:VEVENT
DTSTART;TZID=America/Los_Angeles:20260519T103000
DTEND;TZID=America/Los_Angeles:20260519T123000
DTSTAMP:20260425T151403
CREATED:20260312T165936Z
LAST-MODIFIED:20260312T165936Z
UID:674145-1779186600-1779193800@www.sdmart.org
SUMMARY:Books & Art: Found Object Books
DESCRIPTION:Tuesdays\, March 17 and May 19\n10:30 a.m.–12:30 p.m.\nMOPA@SDMA Atrium \n  \nJoin us for a hands-on morning of reflection\, storytelling\, and creative making inspired by the photography of Graciela Iturbide. Drawing from her poetic images of landscapes\, objects\, and communities\, this workshop invites participants to explore the relationship between people and the natural world through the creation of organic\, nature-inspired books. The program will begin with an educator-led tour of the exhibition\, offering close-looking opportunities and conversation to deepen engagement with Iturbide’s work.  \nDuring this workshop\, participants will create one-of-a-kind handmade books using natural materials such as dried leaves\, shells\, and wood. Guided by museum educators\, you will explore simple bookmaking techniques while considering how organic forms\, textures\, and found elements can hold memory and meaning. Each book will become a tactile archive\, an intimate meditation on place\, environment\, and personal connection.  \nAll materials will be provided.  \nPlease RSVP here to reserve your spot. Registration is limited to 15 participants.  \nRegistration is limited to 15 people. Workshop held during Resident Free Tuesday\, which grants free admission to San Diego County residents (with ID) on the third Tuesday of every month. Museum admission for nonresidents is not included. Participants under the age of 18 must be accompanied by an adult for the duration of the workshop. 
URL:https://www.sdmart.org/event/books-art-found-object-books/2026-05-19/
LOCATION:Museum of Photographic Arts at The San Diego Museum of Art\, 1649 El Prado\, San Diego\, CA\, 92101\, United States
CATEGORIES:Workshop
ATTACH;FMTTYPE=image/jpeg:https://www.sdmart.org/wp-content/uploads/2026/03/Books-Art-Workshop-Found-Object-Book_IMG_2778_resize-rotated-e1773248092564.jpg
END:VEVENT
BEGIN:VEVENT
DTSTART;TZID=America/Los_Angeles:20260519T130000
DTEND;TZID=America/Los_Angeles:20260519T150000
DTSTAMP:20260425T151403
CREATED:20251218T200003Z
LAST-MODIFIED:20251218T200003Z
UID:709946-1779195600-1779202800@www.sdmart.org
SUMMARY:Live Model Drawing
DESCRIPTION:Monthly\, Third Tuesdays\n1:00–3:00 p.m.\nMuseum Art Studio \n  \nJoin us for a live model drawing session.\nCome engage in figure drawing in the SDMA Museum Art Studio! Exercise and develop your drawing skills through observation of a live\, clothed model while exploring your creativity. Drawing materials will be provided or you can bring your own. No oil paints or solvents please! \nThis is a pay-what-you-wish event. Please RSVP here to save your spot. Registration is limited to 20 people per session. Registration is limited to 20 people per session. Meet at the House of Hospitality\, near the Prado restaurant entrance at 12:50 p.m. and look for the OPEN STUDIO sign. \n  \nArtists under the age of 18 must be accompanied by an adult for the duration of the Live Model Drawing Session. Museum admission not included.
URL:https://www.sdmart.org/event/live-model-drawing-3/2026-05-19/
LOCATION:The San Diego Museum of Art\, 1450 El Prado\, San Diego\, CA\, 92102\, United States
CATEGORIES:Workshop
ATTACH;FMTTYPE=image/jpeg:https://www.sdmart.org/wp-content/uploads/2025/06/live-model.jpg
GEO:32.732119;-117.1504179
X-APPLE-STRUCTURED-LOCATION;VALUE=URI;X-ADDRESS=The San Diego Museum of Art 1450 El Prado San Diego CA 92102 United States;X-APPLE-RADIUS=500;X-TITLE=1450 El Prado:geo:-117.1504179,32.732119
END:VEVENT
BEGIN:VEVENT
DTSTART;TZID=America/Los_Angeles:20260522T190000
DTEND;TZID=America/Los_Angeles:20260522T203000
DTSTAMP:20260425T151403
CREATED:20251022T222340Z
LAST-MODIFIED:20251022T222340Z
UID:454846-1779476400-1779481800@www.sdmart.org
SUMMARY:San Diego Ballet: Impressionism – I Love Paris
DESCRIPTION:Friday\, May 22\, 7:00 p.m.\nSaturday\, May 23\, 8:00 p.m.\nSunday\, May 24\, 2:00 p.m.\nSan Diego Museum of Art\, James S. Copley Auditorium \n  \nThe San Diego Ballet is in residence with the Museum this season offering a dynamic celebration of art\, music\, and dance as part of the Museum’s 100th anniversary. Inspired by the Museum’s special exhibition Cafes and Cabarets: The Spectacular Art of Toulouse-Lautrec\, San Diego Ballet presents the stylish and effervescent I ❤️Paris\, alongside the premiere of Debussy Dances\, a tribute to French Impressionism and post-Impressionism art set to the music of Claude Debussy.\n \n  \nBallet attendees can enjoy free admission to The San Diego Museum of Art the day of each performance. Show your ticket to the SDMA Admissions team for Museum entry. \n  \nGet Performance Tickets
URL:https://www.sdmart.org/event/san-diego-ballet-impressionism-i-love-paris/2026-05-22/
LOCATION:The San Diego Museum of Art\, 1450 El Prado\, San Diego\, CA\, 92102\, United States
CATEGORIES:Dance
ATTACH;FMTTYPE=image/jpeg:https://www.sdmart.org/wp-content/uploads/2025/10/SD-Ballet_Jessica-3519-ZF-10298-60711-1-003_web-resize.jpg
GEO:32.732119;-117.1504179
X-APPLE-STRUCTURED-LOCATION;VALUE=URI;X-ADDRESS=The San Diego Museum of Art 1450 El Prado San Diego CA 92102 United States;X-APPLE-RADIUS=500;X-TITLE=1450 El Prado:geo:-117.1504179,32.732119
END:VEVENT
BEGIN:VEVENT
DTSTART;TZID=America/Los_Angeles:20260523T103000
DTEND;TZID=America/Los_Angeles:20260523T113000
DTSTAMP:20260425T151403
CREATED:20251216T194027Z
LAST-MODIFIED:20260402T184845Z
UID:695988-1779532200-1779535800@www.sdmart.org
SUMMARY:Family Art Adventures
DESCRIPTION:Saturdays at 10:30 a.m. \n  \nFamily Art Adventures bring the Museum collection to life for families.\nFamily Art Adventures are dynamic free guided tours specially designed for families with school-aged children ages 5 to 12. Tours are offered the second and fourth Saturdays of each month at 10:30 a.m. Family tour themes change monthly\, and each family tour is followed by a hands-on art-making activity. All materials are provided. \nFree with Museum admission. RSVP requested. \nRSVP Now
URL:https://www.sdmart.org/event/family-art-adventures-march-2026/2026-05-23/
LOCATION:The San Diego Museum of Art\, 1450 El Prado\, San Diego\, CA\, 92102\, United States
CATEGORIES:Families,Tours
ATTACH;FMTTYPE=image/jpeg:https://www.sdmart.org/wp-content/uploads/2025/05/SDMA-Family-Tours_square.jpg
GEO:32.732119;-117.1504179
X-APPLE-STRUCTURED-LOCATION;VALUE=URI;X-ADDRESS=The San Diego Museum of Art 1450 El Prado San Diego CA 92102 United States;X-APPLE-RADIUS=500;X-TITLE=1450 El Prado:geo:-117.1504179,32.732119
END:VEVENT
BEGIN:VEVENT
DTSTART;TZID=America/Los_Angeles:20260523T200000
DTEND;TZID=America/Los_Angeles:20260523T213000
DTSTAMP:20260425T151403
CREATED:20251022T222340Z
LAST-MODIFIED:20251022T222340Z
UID:454885-1779566400-1779571800@www.sdmart.org
SUMMARY:San Diego Ballet: Impressionism – I Love Paris
DESCRIPTION:Friday\, May 22\, 7:00 p.m.\nSaturday\, May 23\, 8:00 p.m.\nSunday\, May 24\, 2:00 p.m.\nSan Diego Museum of Art\, James S. Copley Auditorium \n  \nThe San Diego Ballet is in residence with the Museum this season offering a dynamic celebration of art\, music\, and dance as part of the Museum’s 100th anniversary. Inspired by the Museum’s special exhibition Cafes and Cabarets: The Spectacular Art of Toulouse-Lautrec\, San Diego Ballet presents the stylish and effervescent I ❤️Paris\, alongside the premiere of Debussy Dances\, a tribute to French Impressionism and post-Impressionism art set to the music of Claude Debussy.\n \n  \nBallet attendees can enjoy free admission to The San Diego Museum of Art the day of each performance. Show your ticket to the SDMA Admissions team for Museum entry. \n  \nGet Performance Tickets
URL:https://www.sdmart.org/event/san-diego-ballet-impressionism-i-love-paris/2026-05-23/
LOCATION:The San Diego Museum of Art\, 1450 El Prado\, San Diego\, CA\, 92102\, United States
CATEGORIES:Dance
ATTACH;FMTTYPE=image/jpeg:https://www.sdmart.org/wp-content/uploads/2025/10/SD-Ballet_Jessica-3519-ZF-10298-60711-1-003_web-resize.jpg
GEO:32.732119;-117.1504179
X-APPLE-STRUCTURED-LOCATION;VALUE=URI;X-ADDRESS=The San Diego Museum of Art 1450 El Prado San Diego CA 92102 United States;X-APPLE-RADIUS=500;X-TITLE=1450 El Prado:geo:-117.1504179,32.732119
END:VEVENT
BEGIN:VEVENT
DTSTART;TZID=America/Los_Angeles:20260524T140000
DTEND;TZID=America/Los_Angeles:20260524T153000
DTSTAMP:20260425T151403
CREATED:20251022T222340Z
LAST-MODIFIED:20251022T222340Z
UID:454886-1779631200-1779636600@www.sdmart.org
SUMMARY:San Diego Ballet: Impressionism – I Love Paris
DESCRIPTION:Friday\, May 22\, 7:00 p.m.\nSaturday\, May 23\, 8:00 p.m.\nSunday\, May 24\, 2:00 p.m.\nSan Diego Museum of Art\, James S. Copley Auditorium \n  \nThe San Diego Ballet is in residence with the Museum this season offering a dynamic celebration of art\, music\, and dance as part of the Museum’s 100th anniversary. Inspired by the Museum’s special exhibition Cafes and Cabarets: The Spectacular Art of Toulouse-Lautrec\, San Diego Ballet presents the stylish and effervescent I ❤️Paris\, alongside the premiere of Debussy Dances\, a tribute to French Impressionism and post-Impressionism art set to the music of Claude Debussy.\n \n  \nBallet attendees can enjoy free admission to The San Diego Museum of Art the day of each performance. Show your ticket to the SDMA Admissions team for Museum entry. \n  \nGet Performance Tickets
URL:https://www.sdmart.org/event/san-diego-ballet-impressionism-i-love-paris/2026-05-24/
LOCATION:The San Diego Museum of Art\, 1450 El Prado\, San Diego\, CA\, 92102\, United States
CATEGORIES:Dance
ATTACH;FMTTYPE=image/jpeg:https://www.sdmart.org/wp-content/uploads/2025/10/SD-Ballet_Jessica-3519-ZF-10298-60711-1-003_web-resize.jpg
GEO:32.732119;-117.1504179
X-APPLE-STRUCTURED-LOCATION;VALUE=URI;X-ADDRESS=The San Diego Museum of Art 1450 El Prado San Diego CA 92102 United States;X-APPLE-RADIUS=500;X-TITLE=1450 El Prado:geo:-117.1504179,32.732119
END:VEVENT
END:VCALENDAR