BEGIN:VCALENDAR
VERSION:2.0
PRODID:-//San Diego Museum of Art - ECPv6.7.0//NONSGML v1.0//EN
CALSCALE:GREGORIAN
METHOD:PUBLISH
X-WR-CALNAME:San Diego Museum of Art
X-ORIGINAL-URL:https://www.sdmart.org
X-WR-CALDESC:Events for San Diego Museum of Art
REFRESH-INTERVAL;VALUE=DURATION:PT1H
X-Robots-Tag:noindex
X-PUBLISHED-TTL:PT1H
BEGIN:VTIMEZONE
TZID:America/Los_Angeles
BEGIN:DAYLIGHT
TZOFFSETFROM:-0800
TZOFFSETTO:-0700
TZNAME:PDT
DTSTART:20200308T100000
END:DAYLIGHT
BEGIN:STANDARD
TZOFFSETFROM:-0700
TZOFFSETTO:-0800
TZNAME:PST
DTSTART:20201101T090000
END:STANDARD
END:VTIMEZONE
BEGIN:VEVENT
DTSTART;TZID=America/Los_Angeles:20200116T173000
DTEND;TZID=America/Los_Angeles:20200116T200000
DTSTAMP:20260423T064922
CREATED:20200103T233234Z
LAST-MODIFIED:20200114T235101Z
UID:17196-1579195800-1579204800@www.sdmart.org
SUMMARY:Circle and Gallery Collective Social
DESCRIPTION:Thursday\, January 16\n5:30–8:00 p.m. \nPrivate Tour of SDSU Downtown Gallery and Social Hour at Del Frisco’s Double Eagle Steakhouse\nCircle and Gallery Collective members are invited on an exclusive tour of the exhibition\, Constructed Mythologies: Luis González Palma\, at SDSU Downtown Gallery followed by a social hour at Del Frisco’s Double Eagle Steakhouse. \nGo behind the scenes with SDSU Gallery Director Chantel Paul to discover the artists’ exploration into the cultural fabric of his native Guatemala. Led by an expert guide\, Circle and Gallery Collective members will be able to examine works of art that span two decades of the artist’s career. \nThis event is exclusive to Circle and Gallery Collective members.\nSpace is limited. Please RSVP to rsvp@sdmart.org to ensure your attendance. \n\nSCHEDULE\n5:30–6:30 p.m. \nTour of the exhibition led by Gallery Director\, Chantel Paul\nSDSU Downtown Gallery\n725 W. Broadway\, San Diego\, CA \n6:30–8:00 p.m. \nSocial hour at Del Frisco’s Double Eagle Steakhouse\nDel Frisco’s Double Eagle Steakhouse\n901 Bayfront Court\, Suite 105\, San Diego\, CA \n\nCOST\nFree for Circle and Gallery Collective members. Cash bar available for food and drink purchases. \nPARKING\nIf driving\, all street parking meters expire at 6:00 p.m. You can also park for $5 in the parking garage at One America Plaza (behind the Starbucks) from 5:00 p.m.–Midnight. You must enter the garage at or after 5:00 p.m. for the $5 rate. If you enter before 5:00 p.m.\, you will pay full price. \n\n\n  \nAbout Our Guide\, Gallery Director Chantel Paul \nChantel Paul is a curator of contemporary art in San Diego\, where she leads exhibition and public programming for San Diego State University’s Downtown Gallery. Since beginning with SDSU in 2015\, Paul has curated numerous exhibitions\, including Constructed Mythologies: Luis González Palma (2019)\, We Are Here/Estamos Aquí (2017)\, All Natural (2017)\, and Cathedrals: Jeff Ray (2016)  She previously served as Assistant Curator at the Museum of Photographic Arts (MOPA) in San Diego\, CA from 2010–2015. While there\, she curated numerous exhibitions\, including After Ansel Adams (2014)\, Staking Claim: A California Invitational (2013)\, which included an accompanying catalog\, Kevin Cooley: Elements(2013)\, and Unusual Suspects: The Paintings and Photographs of Holly Roberts (2012). She co-curated the NEA grant-funded traveling exhibition Streetwise: Masters of 60s Photography (2011). \nAbout the Exhibition \nConstructed Mythologies: Luis González Palma celebrates this prolific and influential Latin American artist\, who is well known for an expansive practice investigating the cultural identity of his native Guatemala\, sociopolitical constructs\, and spirituality to convey complex emotions that define the human condition. His approach is layered with religious iconography\, poetry\, magical realism\, and physical interventions\, as well as bold colors and shapes referencing art historical movements. Presenting a selection of artworks spanning two decades\, the exhibition captures the evolution of González Palma’s work from formal portraiture and tableaux to his most recent explorations in abstraction\, inviting viewers to experience a new way of seeing and feeling. \nAbout the Artist \nLuis González Palma (Guatemalan\, b. 1957) studied architecture and cinematography at the Universidad de San Carlos de Guatemala\, and then later turned to photography. His work has been widely exhibited internationally\, including the Municipal Museum of Fine Arts Tandil (Buenos Aires\, Argentina)\, Art Museum of the Americas (Washington\, D.C.)\, Art Institute of Boston\, The Art Institute of Chicago\, and the Gallery of Contemporary Art (Mexico City\, Mexico). His work is included in numerous collections\, such as the Los Angeles County Museum of Art\, Museo de Belles Artes (Buenos Aires\, Argentina)\, the Santa Barbara Museum of Art\, and Yale University\, among others. \n\nFeatured: Luis González Palma\, Möbius – Virginal\, 2018; photograph on canvas\, acrylic paint; 20 x 20 inches. Courtesy of the artist and Lisa Sette Gallery | Luis González Palma\, Annunciation: (Variation 7)\, 2007\, Pigment inkjet print\, 39 inches diameter. Courtesy of the artist and Lisa Sette Gallery.
URL:https://www.sdmart.org/event/circle-and-gallery-collective-social/
LOCATION:SDSU Downtown Gallery\, 725 W Broadway\, San Diego\, 92101\, United States
ATTACH;FMTTYPE=image/jpeg:https://www.sdmart.org/wp-content/uploads/2020/01/mobius-virginal-2018-edition_small_green2.jpg
GEO:32.7154596;-117.1694108
X-APPLE-STRUCTURED-LOCATION;VALUE=URI;X-ADDRESS=SDSU Downtown Gallery 725 W Broadway San Diego 92101 United States;X-APPLE-RADIUS=500;X-TITLE=725 W Broadway:geo:-117.1694108,32.7154596
END:VEVENT
END:VCALENDAR