BEGIN:VCALENDAR
VERSION:2.0
PRODID:-//San Diego Museum of Art - ECPv6.7.0//NONSGML v1.0//EN
CALSCALE:GREGORIAN
METHOD:PUBLISH
X-WR-CALNAME:San Diego Museum of Art
X-ORIGINAL-URL:https://www.sdmart.org
X-WR-CALDESC:Events for San Diego Museum of Art
REFRESH-INTERVAL;VALUE=DURATION:PT1H
X-Robots-Tag:noindex
X-PUBLISHED-TTL:PT1H
BEGIN:VTIMEZONE
TZID:America/Los_Angeles
BEGIN:DAYLIGHT
TZOFFSETFROM:-0800
TZOFFSETTO:-0700
TZNAME:PDT
DTSTART:20180311T100000
END:DAYLIGHT
BEGIN:STANDARD
TZOFFSETFROM:-0700
TZOFFSETTO:-0800
TZNAME:PST
DTSTART:20181104T090000
END:STANDARD
BEGIN:DAYLIGHT
TZOFFSETFROM:-0800
TZOFFSETTO:-0700
TZNAME:PDT
DTSTART:20190310T100000
END:DAYLIGHT
BEGIN:STANDARD
TZOFFSETFROM:-0700
TZOFFSETTO:-0800
TZNAME:PST
DTSTART:20191103T090000
END:STANDARD
BEGIN:DAYLIGHT
TZOFFSETFROM:-0800
TZOFFSETTO:-0700
TZNAME:PDT
DTSTART:20200308T100000
END:DAYLIGHT
BEGIN:STANDARD
TZOFFSETFROM:-0700
TZOFFSETTO:-0800
TZNAME:PST
DTSTART:20201101T090000
END:STANDARD
TZID:America/Los_Angeles
BEGIN:DAYLIGHT
TZOFFSETFROM:-0800
TZOFFSETTO:-0700
TZNAME:PDT
DTSTART:20170312T100000
END:DAYLIGHT
BEGIN:STANDARD
TZOFFSETFROM:-0700
TZOFFSETTO:-0800
TZNAME:PST
DTSTART:20171105T090000
END:STANDARD
BEGIN:DAYLIGHT
TZOFFSETFROM:-0800
TZOFFSETTO:-0700
TZNAME:PDT
DTSTART:20180311T100000
END:DAYLIGHT
BEGIN:STANDARD
TZOFFSETFROM:-0700
TZOFFSETTO:-0800
TZNAME:PST
DTSTART:20181104T090000
END:STANDARD
TZID:UTC
BEGIN:STANDARD
TZOFFSETFROM:+0000
TZOFFSETTO:+0000
TZNAME:UTC
DTSTART:20170101T000000
END:STANDARD
END:VTIMEZONE
BEGIN:VEVENT
DTSTART;TZID=America/Los_Angeles:20200518T100000
DTEND;TZID=America/Los_Angeles:20200518T120000
DTSTAMP:20260422T005814
CREATED:20200204T024851Z
LAST-MODIFIED:20200331T024723Z
UID:17486-1589796000-1589803200@www.sdmart.org
SUMMARY:CANCELED: Perspectives on the Arts and Crafts of South Asia
DESCRIPTION:Please note that the Museum is taking the necessary precautions and following the guidelines communicated by the California Department of Public Health. Due to their recommendations of limiting nonessential gatherings and the extension of federal social distancing guidelines to April 30\,  this event has been canceled.  We regret the inconvenience and appreciate your understanding of these circumstances. Please contact the Museum with any questions at 619.232.7931 or check here for updates. \nFree NCC members / $10 nonmembers \nLadan Akbarnia\, Curator\, South Asian and Islamic Art\, speaks about the Museum’s Binney Collection. The San Diego Museum of Art has been the beneficiary and the conservator of several collections but none as large as the Binney Collection. Items from Edwin Binney 3rd (1925–1986)\, an heir to the Crayola fortune\, include world-renowned paintings and miniature sculptures from the 2nd to 16th century. Parts of the collection have been exhibited at the Musée National des Beaux-Arts du Québec\, Museo Nacional de Antropología\, Mexico City\, and the Museo ThyssenBornemisza\, Madrid. \n\nSponsored by the North County Chapter
URL:https://www.sdmart.org/event/perspectives-on-the-arts-and-crafts-of-south-asia/
LOCATION:St. Peter’s Episcopal Church\, Maiden Lane\, Del Mar\, CA\, 92014\, United States
CATEGORIES:Lecture-old,Support Council
GEO:32.9576935;-117.2639356
X-APPLE-STRUCTURED-LOCATION;VALUE=URI;X-ADDRESS=St. Peter’s Episcopal Church Maiden Lane Del Mar CA 92014 United States;X-APPLE-RADIUS=500;X-TITLE=Maiden Lane:geo:-117.2639356,32.9576935
END:VEVENT
BEGIN:VEVENT
DTSTART;TZID=America/Los_Angeles:20200224T093000
DTEND;TZID=America/Los_Angeles:20200224T110000
DTSTAMP:20260422T005814
CREATED:20200123T010424Z
LAST-MODIFIED:20200124T020739Z
UID:17356-1582536600-1582542000@www.sdmart.org
SUMMARY:Dragons: Myth and Reality
DESCRIPTION:9:30 a.m. Social time /10:00 a.m. Lecture\nSt. Peter’s Episcopal Church\, Del Mar\n\nThis talk by Courtenay McGowen explores the history of dragons worldwide\, and challenges us to question how these creatures of great mythological strength came to be. The dragon is the prototype of all our most basic fears\, a universal archetype recognized by everyone\, worldwide. Variations of the basic theme reflect the cultures in which they functioned. They exist today as seen in the popular “Game of Thrones” and “Dungeons and Dragons.” \n Sponsored by the North County Chapter \nFree NCC members / $10 nonmembers
URL:https://www.sdmart.org/event/dragons-myth-and-reality-2/
LOCATION:St. Peter’s Episcopal Church\, Maiden Lane\, Del Mar\, CA\, 92014\, United States
CATEGORIES:Lecture-old,Support Council
GEO:32.9576935;-117.2639356
X-APPLE-STRUCTURED-LOCATION;VALUE=URI;X-ADDRESS=St. Peter’s Episcopal Church Maiden Lane Del Mar CA 92014 United States;X-APPLE-RADIUS=500;X-TITLE=Maiden Lane:geo:-117.2639356,32.9576935
END:VEVENT
BEGIN:VEVENT
DTSTART;TZID=America/Los_Angeles:20200127T093000
DTEND;TZID=America/Los_Angeles:20200127T110000
DTSTAMP:20260422T005814
CREATED:20190927T213026Z
LAST-MODIFIED:20190927T213212Z
UID:15970-1580117400-1580122800@www.sdmart.org
SUMMARY:Bouguereau and America
DESCRIPTION:Monday\, January 27\n9:30 a.m. Social time\n10:00 a.m. Lecture\nSt. Peter’s Episcopal Church\, Del Mar \nMichael Brown\, the Museum’s Curator of European Art\, discusses the exhibition Bouguereau and America\, on view at the Museum beginning November 9. Adored for his idealized images\, then ostracized as the arts gave way to 20th century modernism\, William-Adolphe Bouguereau (1825–1905) is reexamined from a new perspective in this exhibition. \nSponsored by the North County Chapter. \nFree NCC members | $10 nonmembers
URL:https://www.sdmart.org/event/bouguereau-and-america/
LOCATION:St. Peter’s Episcopal Church\, Maiden Lane\, Del Mar\, CA\, 92014\, United States
CATEGORIES:Exhibitions,Lecture-old,Support Council
GEO:32.9576935;-117.2639356
X-APPLE-STRUCTURED-LOCATION;VALUE=URI;X-ADDRESS=St. Peter’s Episcopal Church Maiden Lane Del Mar CA 92014 United States;X-APPLE-RADIUS=500;X-TITLE=Maiden Lane:geo:-117.2639356,32.9576935
END:VEVENT
BEGIN:VEVENT
DTSTART;TZID=America/Los_Angeles:20191209T093000
DTEND;TZID=America/Los_Angeles:20191209T110000
DTSTAMP:20260422T005814
CREATED:20190927T001051Z
LAST-MODIFIED:20191113T200252Z
UID:15921-1575883800-1575889200@www.sdmart.org
SUMMARY:Cows\, Ditches\, and Threatening Clouds: Dutch Landscape Paintings from Ruisdael to Van Gogh and Mondrian
DESCRIPTION:Monday\, December 9\n9:30 a.m. Social time\n10:00 a.m. Lecture\nSt. Peter’s Episcopal Church\, Del Mar \nPlease note\, the subject of the lecture has changed from Nick Roth: Fates to Dutch painting. \nHilda Yoder\, Museum docent\, speaks on Dutch paintings in anticipation of the exhibition In the Age of Rembrandt: Dutch Paintings from the Museum of Fine Arts\, Boston opening in May 2020. \nSponsored by the North County Chapter. \nFree NCC members | $10 nonmembers
URL:https://www.sdmart.org/event/cows-ditches-and-threatening-clouds/
LOCATION:St. Peter’s Episcopal Church\, Maiden Lane\, Del Mar\, CA\, 92014\, United States
CATEGORIES:Lecture-old,Support Council
GEO:32.9576935;-117.2639356
X-APPLE-STRUCTURED-LOCATION;VALUE=URI;X-ADDRESS=St. Peter’s Episcopal Church Maiden Lane Del Mar CA 92014 United States;X-APPLE-RADIUS=500;X-TITLE=Maiden Lane:geo:-117.2639356,32.9576935
END:VEVENT
BEGIN:VEVENT
DTSTART;TZID=America/Los_Angeles:20191021T093000
DTEND;TZID=America/Los_Angeles:20191021T110000
DTSTAMP:20260422T005814
CREATED:20190923T234147Z
LAST-MODIFIED:20190923T234147Z
UID:15685-1571650200-1571655600@www.sdmart.org
SUMMARY:José-María Cano: Apostolate
DESCRIPTION:Monday\, October 21\n9:30 a.m. Social time\n10:00 a.m. Lecture\nSt. Peter’s Episcopal Church\, Del Mar \nLearn more about the group of encausticon-canvas “portraits” of Christ’s disciples by contemporary Spanish artist José-María Cano— created in response to the exhibition Art and Empire: The Golden Age of Spain—on view in Gallery 20 through November 11\, 2019. \nSponsored by the North County Chapter. \nFree NCC members | $10 nonmembers
URL:https://www.sdmart.org/event/jose-maria-cano-apostolate/
LOCATION:St. Peter’s Episcopal Church\, Maiden Lane\, Del Mar\, CA\, 92014\, United States
CATEGORIES:Lecture-old,Support Council
GEO:32.9576935;-117.2639356
X-APPLE-STRUCTURED-LOCATION;VALUE=URI;X-ADDRESS=St. Peter’s Episcopal Church Maiden Lane Del Mar CA 92014 United States;X-APPLE-RADIUS=500;X-TITLE=Maiden Lane:geo:-117.2639356,32.9576935
END:VEVENT
BEGIN:VEVENT
DTSTART;TZID=America/Los_Angeles:20190916T093000
DTEND;TZID=America/Los_Angeles:20190916T120000
DTSTAMP:20260422T005814
CREATED:20190603T180811Z
LAST-MODIFIED:20190603T180811Z
UID:14437-1568626200-1568635200@www.sdmart.org
SUMMARY:On View! American Highlights from The San Diego Museum of Art
DESCRIPTION:Monday\, September 16\n9:30 a.m. Social Time\n10:00 a.m. Lecture\nSt. Peter’s Episcopal Church Hall\, Del Mar \nRegina Palm\, Ph.D.\, Associate Curator of American Art\, discusses two installations opening at the end of August as well as some of the new works included in the American art reinstallation. \nSponsored by the North County Chapter \nFree NCC members | $10 Museum members | $10 nonmembers\, military\, and seniors
URL:https://www.sdmart.org/event/on-view-american-highlights-from-the-san-diego-museum-of-art/
LOCATION:St. Peter’s Episcopal Church\, Maiden Lane\, Del Mar\, CA\, 92014\, United States
CATEGORIES:Lecture-old,Support Council
GEO:32.9576935;-117.2639356
X-APPLE-STRUCTURED-LOCATION;VALUE=URI;X-ADDRESS=St. Peter’s Episcopal Church Maiden Lane Del Mar CA 92014 United States;X-APPLE-RADIUS=500;X-TITLE=Maiden Lane:geo:-117.2639356,32.9576935
END:VEVENT
BEGIN:VEVENT
DTSTART;TZID=America/Los_Angeles:20190415T100000
DTEND;TZID=America/Los_Angeles:20190415T120000
DTSTAMP:20260422T005814
CREATED:20190123T205538Z
LAST-MODIFIED:20190123T205538Z
UID:12486-1555322400-1555329600@www.sdmart.org
SUMMARY:The Gluck Collection: 19th-Century French Painting
DESCRIPTION:Monday\, April 15\n9:30 a.m. Social time\n10:00 a.m. Lecture\nSt. Peter’s Episcopal Church\, Del Mar \nThis presentation focuses on works from the Romanticism\, Realism\, and Impressionism movements in 19th-century French art. \nFree for NCC members | $10 nonmembers \nSponsored by the North County Chapter
URL:https://www.sdmart.org/event/the-gluck-collection-19th-century-french-painting/
LOCATION:St. Peter’s Episcopal Church\, Maiden Lane\, Del Mar\, CA\, 92014\, United States
CATEGORIES:Lecture-old,Support Council
GEO:32.9576935;-117.2639356
X-APPLE-STRUCTURED-LOCATION;VALUE=URI;X-ADDRESS=St. Peter’s Episcopal Church Maiden Lane Del Mar CA 92014 United States;X-APPLE-RADIUS=500;X-TITLE=Maiden Lane:geo:-117.2639356,32.9576935
END:VEVENT
BEGIN:VEVENT
DTSTART;TZID=America/Los_Angeles:20190318T100000
DTEND;TZID=America/Los_Angeles:20190318T120000
DTSTAMP:20260422T005814
CREATED:20190123T204831Z
LAST-MODIFIED:20190123T204856Z
UID:12482-1552903200-1552910400@www.sdmart.org
SUMMARY:Off the Wall: Works on Canvas by Prominent Muralists
DESCRIPTION:Monday\, March 18\n9:30 a.m. Social time\n10:00 a.m. Lecture\nSt. Peter’s Episcopal Church\, Del Mar \nArt historian Leah Cluff of MiraCosta College discusses works in the Museum’s collection by Diego Rivera and other muralists. \nFree for NCC members | $10 nonmembers \nSponsored by the North County Chapter
URL:https://www.sdmart.org/event/off-the-wall-works-on-canvas-by-prominent-muralists/
LOCATION:St. Peter’s Episcopal Church\, Maiden Lane\, Del Mar\, CA\, 92014\, United States
CATEGORIES:Lecture-old,Support Council
GEO:32.9576935;-117.2639356
X-APPLE-STRUCTURED-LOCATION;VALUE=URI;X-ADDRESS=St. Peter’s Episcopal Church Maiden Lane Del Mar CA 92014 United States;X-APPLE-RADIUS=500;X-TITLE=Maiden Lane:geo:-117.2639356,32.9576935
END:VEVENT
BEGIN:VEVENT
DTSTART;TZID=America/Los_Angeles:20190225T093000
DTEND;TZID=America/Los_Angeles:20190225T113000
DTSTAMP:20260422T005814
CREATED:20190119T011938Z
LAST-MODIFIED:20190119T011938Z
UID:12425-1551087000-1551094200@www.sdmart.org
SUMMARY:The Art of the Body: Javier Marín\, Sculptor
DESCRIPTION:Monday\, February 25\n9:30 a.m. Social time\n10:00 a.m. Lecture\nSt. Peter’s Episcopal Church\, Del Mar \nMichael Brown\, Ph.D.\, Curator of European Art at The San Diego Museum of Art\, discusses the exciting work of Mexican sculptor Javier Marín\, whose expressive depictions of the human figure are on view in a Museum exhibition through March 3\, 2019. \nSponsored by the North County Chapter \nFree NCC members | $10 nonmembers
URL:https://www.sdmart.org/event/the-art-of-the-body-javier-marin-sculptor/
LOCATION:St. Peter’s Episcopal Church\, Maiden Lane\, Del Mar\, CA\, 92014\, United States
CATEGORIES:Lecture-old,Support Council
GEO:32.9576935;-117.2639356
X-APPLE-STRUCTURED-LOCATION;VALUE=URI;X-ADDRESS=St. Peter’s Episcopal Church Maiden Lane Del Mar CA 92014 United States;X-APPLE-RADIUS=500;X-TITLE=Maiden Lane:geo:-117.2639356,32.9576935
END:VEVENT
BEGIN:VEVENT
DTSTART;TZID=America/Los_Angeles:20190128T093000
DTEND;TZID=America/Los_Angeles:20190128T113000
DTSTAMP:20260422T005814
CREATED:20180913T180404Z
LAST-MODIFIED:20180913T180404Z
UID:10120-1548667800-1548675000@www.sdmart.org
SUMMARY:“Founded on Japanese Art”: What Vincent van Gogh Learned from Japanese Woodblock Prints
DESCRIPTION:Monday\, January 28\n9:30 a.m. Social time\n10:00 a.m. Lecture\nSt. Peter’s Episcopal Church\, Del Mar \nThis lecture by Hilda van Neck-Yoder\, Ph.D.\, explores how Vincent van Gogh’s aesthetic was profoundly affected by Japanese woodblock prints that he bought by the hundreds in the winter of 1886–87. \nFree NCC members | $10 nonmembers \nSponsored by the North County Chapter
URL:https://www.sdmart.org/event/founded-on-japanese-art-what-vincent-van-gogh-learned-from-japanese-woodblock-prints/
LOCATION:St. Peter’s Episcopal Church\, Maiden Lane\, Del Mar\, CA\, 92014\, United States
CATEGORIES:Lecture-old,Support Council
GEO:32.9576935;-117.2639356
X-APPLE-STRUCTURED-LOCATION;VALUE=URI;X-ADDRESS=St. Peter’s Episcopal Church Maiden Lane Del Mar CA 92014 United States;X-APPLE-RADIUS=500;X-TITLE=Maiden Lane:geo:-117.2639356,32.9576935
END:VEVENT
BEGIN:VEVENT
DTSTART;TZID=America/Los_Angeles:20181203T093000
DTEND;TZID=America/Los_Angeles:20181203T110000
DTSTAMP:20260422T005814
CREATED:20180913T175614Z
LAST-MODIFIED:20180913T175614Z
UID:10113-1543829400-1543834800@www.sdmart.org
SUMMARY:20th-Century Printmaking
DESCRIPTION:Monday\, December 3\n9:30 a.m. Social time\n10:00 a.m. Lecture\nSt. Peter’s Episcopal Church\, Del Mar \nAllie Arnell\, Museum docent\, presents a review of modern American prints from 1920 to 1948 from the Museum’s collection\, and focus on the roaring twenties through World War II. \nFree NCC members | $10 nonmembers \nSponsored by the North County Chapter
URL:https://www.sdmart.org/event/20th-century-printmaking/
LOCATION:St. Peter’s Episcopal Church\, Maiden Lane\, Del Mar\, CA\, 92014\, United States
CATEGORIES:Lecture-old,Support Council
GEO:32.9576935;-117.2639356
X-APPLE-STRUCTURED-LOCATION;VALUE=URI;X-ADDRESS=St. Peter’s Episcopal Church Maiden Lane Del Mar CA 92014 United States;X-APPLE-RADIUS=500;X-TITLE=Maiden Lane:geo:-117.2639356,32.9576935
END:VEVENT
BEGIN:VEVENT
DTSTART;TZID=America/Los_Angeles:20181015T093000
DTEND;TZID=America/Los_Angeles:20181015T113000
DTSTAMP:20260422T005814
CREATED:20180913T170350Z
LAST-MODIFIED:20180913T170613Z
UID:10085-1539595800-1539603000@www.sdmart.org
SUMMARY:Moon Gold: The Textural Transformations of Nancy Lorenz
DESCRIPTION:Monday\, October 15\n9:30 a.m. Social time\n10:00 a.m. Lecture\nSt. Peter’s Episcopal Church\, Del Mar \nHaving trained in the conservation of Japanese decorative arts\, artist Nancy Lorenz continues to employ traditional lacquer\, gilding\, and inlay techniques as points of departure in her studio practice. Explore the inspirations and methods used in the meticulous works from her recent Moon Gold exhibition. Museum Educator Alyson Blum shares a brief overview followed by a handson exploration of materials and techniques. \nFree NCC members | $10 nonmembers \nSponsored by the North County Chapter
URL:https://www.sdmart.org/event/moon-gold-the-textural-transformations-of-nancy-lorenz/
LOCATION:St. Peter’s Episcopal Church\, Maiden Lane\, Del Mar\, CA\, 92014\, United States
CATEGORIES:Lecture-old,Support Council
GEO:32.9576935;-117.2639356
X-APPLE-STRUCTURED-LOCATION;VALUE=URI;X-ADDRESS=St. Peter’s Episcopal Church Maiden Lane Del Mar CA 92014 United States;X-APPLE-RADIUS=500;X-TITLE=Maiden Lane:geo:-117.2639356,32.9576935
END:VEVENT
BEGIN:VEVENT
DTSTART;TZID=America/Los_Angeles:20180917T093000
DTEND;TZID=America/Los_Angeles:20180917T093000
DTSTAMP:20260422T005814
CREATED:20180522T200717Z
LAST-MODIFIED:20180815T001849Z
UID:8647-1537176600-1537176600@www.sdmart.org
SUMMARY:Art and Empire: The Golden Age in Spain—The Making of an Exhibition
DESCRIPTION:Monday\, September 17\n9:30 a.m. Coffee Social\n10:00 a.m. Lecture\nSt. Peter’s Episcopal Church Hall \nCurator of European Art Michael Brown presents a behind-the-scenes look at the preparation of this special exhibition at The San Diego Museum of Art. The show will feature approximately 100 works of outstanding quality from throughout the Hispanic world\, including the Iberian Peninsula\, the Spanish Netherlands\, North and South America\, and the Philippines. \nFree to members | $10 guests \nSponsored by the North County Chapter
URL:https://www.sdmart.org/event/art-and-empire-the-golden-age-in-spain-the-making-of-an-exhibition/
LOCATION:St. Peter’s Episcopal Church\, Maiden Lane\, Del Mar\, CA\, 92014\, United States
CATEGORIES:Lecture-old,Support Council
GEO:32.9576935;-117.2639356
X-APPLE-STRUCTURED-LOCATION;VALUE=URI;X-ADDRESS=St. Peter’s Episcopal Church Maiden Lane Del Mar CA 92014 United States;X-APPLE-RADIUS=500;X-TITLE=Maiden Lane:geo:-117.2639356,32.9576935
END:VEVENT
BEGIN:VEVENT
DTSTART;TZID=America/Los_Angeles:20180521T093000
DTEND;TZID=America/Los_Angeles:20180521T093000
DTSTAMP:20260422T005814
CREATED:20180122T214607Z
LAST-MODIFIED:20180511T180159Z
UID:6560-1526895000-1526895000@www.sdmart.org
SUMMARY:Painted Expressions of India’s Epic Tales
DESCRIPTION:Monday\, May 21\n9:30 a.m. Social time\n10:00 a.m. Lecture \nDocent Allie Arnell discusses the rich detail of story that exists in the delicate works of Indian art in the Museum’s collection. \nSponsored by the North County Chapter \nFree NCC members | $10 nonmembers \nFeatured: Bhagavata Purana\, Krishna and Balaram embrace after the defeat of Kaliya\, ca. 1850. Opaque watercolor on paper. Edwin Binney 3rd Collection. 1990.952
URL:https://www.sdmart.org/event/painted-expressions-indias-epic-tales/
LOCATION:St. Peter’s Episcopal Church\, Maiden Lane\, Del Mar\, CA\, 92014\, United States
CATEGORIES:Lecture-old,Support Council
ATTACH;FMTTYPE=image/png:https://www.sdmart.org/wp-content/uploads/2018/01/1990-952.png
GEO:32.9576935;-117.2639356
X-APPLE-STRUCTURED-LOCATION;VALUE=URI;X-ADDRESS=St. Peter’s Episcopal Church Maiden Lane Del Mar CA 92014 United States;X-APPLE-RADIUS=500;X-TITLE=Maiden Lane:geo:-117.2639356,32.9576935
END:VEVENT
BEGIN:VEVENT
DTSTART;TZID=America/Los_Angeles:20180416T093000
DTEND;TZID=America/Los_Angeles:20180416T113000
DTSTAMP:20260422T005814
CREATED:20180119T000746Z
LAST-MODIFIED:20180119T000746Z
UID:6496-1523871000-1523878200@www.sdmart.org
SUMMARY:Clothing Clues in Painting: It’s Not Just About Fashion
DESCRIPTION:Monday\, April 16\n9:30 a.m. Social time\n10:00 a.m. Lecture \nMuseum docent Linda Davis discusses how clothing can reveal class\, culture\, and place in painting and sculpture\, throughout the history of art. \nSponsored by the North County Chapter \nFree NCC members | $10 nonmembers
URL:https://www.sdmart.org/event/clothing-clues-painting-not-just-fashion/
LOCATION:St. Peter’s Episcopal Church\, Maiden Lane\, Del Mar\, CA\, 92014\, United States
CATEGORIES:Lecture-old,Support Council
GEO:32.9576935;-117.2639356
X-APPLE-STRUCTURED-LOCATION;VALUE=URI;X-ADDRESS=St. Peter’s Episcopal Church Maiden Lane Del Mar CA 92014 United States;X-APPLE-RADIUS=500;X-TITLE=Maiden Lane:geo:-117.2639356,32.9576935
END:VEVENT
BEGIN:VEVENT
DTSTART;TZID=America/Los_Angeles:20180319T093000
DTEND;TZID=America/Los_Angeles:20180319T093000
DTSTAMP:20260422T005814
CREATED:20180117T002406Z
LAST-MODIFIED:20180117T002755Z
UID:6427-1521451800-1521451800@www.sdmart.org
SUMMARY:Charles Moore\, Architect: The Words and Writings behind His Works
DESCRIPTION:Monday\, March 19\n9:30 a.m. Social time\n10:00 a.m. Lecture \nLen Zegarski of the NewSchool of Architecture and Design discusses the life and work of Charles Moore\, the award-winning postmodern architect known for his design of Sea Ranch and the Piazza d’Italia in New Orleans. He also co-authored 11 books on architecture. \nSponsored by the North County Chapter \nFree NCC members | $10 nonmembers
URL:https://www.sdmart.org/event/charles-moore-architect-words-writings-behind-works/
LOCATION:St. Peter’s Episcopal Church\, Maiden Lane\, Del Mar\, CA\, 92014\, United States
CATEGORIES:Lecture-old,Support Council
GEO:32.9576935;-117.2639356
X-APPLE-STRUCTURED-LOCATION;VALUE=URI;X-ADDRESS=St. Peter’s Episcopal Church Maiden Lane Del Mar CA 92014 United States;X-APPLE-RADIUS=500;X-TITLE=Maiden Lane:geo:-117.2639356,32.9576935
END:VEVENT
BEGIN:VEVENT
DTSTART;TZID=America/Los_Angeles:20180226T093000
DTEND;TZID=America/Los_Angeles:20180226T110000
DTSTAMP:20260422T005814
CREATED:20180116T221134Z
LAST-MODIFIED:20180215T005520Z
UID:6404-1519637400-1519642800@www.sdmart.org
SUMMARY:Art of East Asia—Traditions from China\, Japan\, and Korea
DESCRIPTION:Monday\, February 26\n9:30 a.m. Social time\n10:00 a.m. Lecture \nThe Museum’s Associate Curator of Asian Art\, Diana Chou\, Ph.D.\, discusses works from the renowned East Asian art collection\, from the medieval to modern periods. \nSponsored by the North County Chapter \nFree for NCC members | $10 nonmembers \nFeatured: Tripod Plate\, 618-906. Silver. Bequest of Mrs. Cora Timken Burnett. 1957.436
URL:https://www.sdmart.org/event/art-east-asia-traditions-china-japan-korea/
LOCATION:St. Peter’s Episcopal Church\, Maiden Lane\, Del Mar\, CA\, 92014\, United States
CATEGORIES:Lecture-old,Support Council
ATTACH;FMTTYPE=image/jpeg:https://www.sdmart.org/wp-content/uploads/2018/01/1957.436.jpg
GEO:32.9576935;-117.2639356
X-APPLE-STRUCTURED-LOCATION;VALUE=URI;X-ADDRESS=St. Peter’s Episcopal Church Maiden Lane Del Mar CA 92014 United States;X-APPLE-RADIUS=500;X-TITLE=Maiden Lane:geo:-117.2639356,32.9576935
END:VEVENT
BEGIN:VEVENT
DTSTART;TZID=America/Los_Angeles:20180122T093000
DTEND;TZID=America/Los_Angeles:20180122T110000
DTSTAMP:20260422T005814
CREATED:20170831T184818Z
LAST-MODIFIED:20180102T192547Z
UID:4346-1516613400-1516618800@www.sdmart.org
SUMMARY:Discovering the Paciﬁc Islands: Art and Origins
DESCRIPTION:Monday\, January 22\n9:30 a.m. Social time / 10:00 a.m. Lecture \nDr. Teri Sowell of the UCSD Visual Arts department discusses the diverse artistic traditions of Oceania\, in connection with the exhibition The Art of Papua New Guinea from the Valerie Franklin Collection. \nFree for NCC members | $10 nonmembers \nContact the chairs Jackie Allen at 760.435.2548 or Natalie Monet at 760.431.8820 for tickets and further information. \nSponsored by the North County Chapter
URL:https://www.sdmart.org/event/discovering-paci%ef%ac%81c-islands-art-origins/
LOCATION:St. Peter’s Episcopal Church\, Maiden Lane\, Del Mar\, CA\, 92014\, United States
CATEGORIES:Lecture-old,Support Council
GEO:32.9576935;-117.2639356
X-APPLE-STRUCTURED-LOCATION;VALUE=URI;X-ADDRESS=St. Peter’s Episcopal Church Maiden Lane Del Mar CA 92014 United States;X-APPLE-RADIUS=500;X-TITLE=Maiden Lane:geo:-117.2639356,32.9576935
END:VEVENT
BEGIN:VEVENT
DTSTART;TZID=America/Los_Angeles:20171204T093000
DTEND;TZID=America/Los_Angeles:20171204T110000
DTSTAMP:20260422T005814
CREATED:20170831T183405Z
LAST-MODIFIED:20170831T183607Z
UID:4329-1512379800-1512385200@www.sdmart.org
SUMMARY:Monet in Giverny
DESCRIPTION:Monday\, December 4\n9:30 a.m. Social time / 10:00 a.m. Lecture \nThis presentation will highlight a 1904 work by Monet titled Waterlilies or The Water Lily Pond (Nymphéas)\,\nwhich is on special loan from the Denver Museum of Art to The San Diego Museum of Art on view in Reflections on Monet. Ariel Plotek\, Curator of Modern and Contemporary Art at The San Diego Museum of Art\, will discuss this work as well as other of Monet’s studies during his time in Giverny. Monet created a remarkable sense of immediacy and light in his work there. His desire to portray the constantly changing qualities of light and color in nature continue to appeal to generations of art lovers. \nFree chapter members / $10 nonmembers \nSponsored by the North County Chapter \nClaude Monet\, Waterlilies or The Water Lily Pond (Nymphéas)\, 1904. Denver Art Museum Collection: Funds from the Helen Dill bequest\, 1935.14. Photography courtesy Denver Art Museum.
URL:https://www.sdmart.org/event/monet-in-giverny/
LOCATION:St. Peter’s Episcopal Church\, Maiden Lane\, Del Mar\, CA\, 92014\, United States
CATEGORIES:Lecture-old,Support Council
ATTACH;FMTTYPE=image/jpeg:https://www.sdmart.org/wp-content/uploads/2017/05/1935_14_lowres-2.jpg
GEO:32.9576935;-117.2639356
X-APPLE-STRUCTURED-LOCATION;VALUE=URI;X-ADDRESS=St. Peter’s Episcopal Church Maiden Lane Del Mar CA 92014 United States;X-APPLE-RADIUS=500;X-TITLE=Maiden Lane:geo:-117.2639356,32.9576935
END:VEVENT
BEGIN:VEVENT
DTSTART;TZID=America/Los_Angeles:20171016T093000
DTEND;TZID=America/Los_Angeles:20171016T110000
DTSTAMP:20260422T005814
CREATED:20170831T182737Z
LAST-MODIFIED:20170928T175457Z
UID:4327-1508146200-1508151600@www.sdmart.org
SUMMARY:Modern Masters from Latin America: The Pérez Simón Collection
DESCRIPTION:Monday\, October 16\n9:30 a.m. Social time / 10:00 a.m. Lecture \nThis discussion by Beatriz Barraza\, Museum docent\, will present an overview of Latin American art\, from the late 19th century to the late 20th century\, including works by the Mexican modernists Frida Kahlo\, Diego Rivera\, and Ruﬁno Tamayo\, and Colombian artist Fernando Botero. This talk is presented in conjunction with Modern Masters from Latin America: The Pérez Simón Collection. \nFree for NCC members / $10 nonmembers \nSponsored by the North County Chapter
URL:https://www.sdmart.org/event/modern-masters-latin-america-perez-simon-collection/
LOCATION:St. Peter’s Episcopal Church\, Maiden Lane\, Del Mar\, CA\, 92014\, United States
CATEGORIES:Lecture-old,Support Council
ATTACH;FMTTYPE=image/jpeg:https://www.sdmart.org/wp-content/uploads/2017/07/Retrato-de-María-Félix_lowres-1.jpg
GEO:32.9576935;-117.2639356
X-APPLE-STRUCTURED-LOCATION;VALUE=URI;X-ADDRESS=St. Peter’s Episcopal Church Maiden Lane Del Mar CA 92014 United States;X-APPLE-RADIUS=500;X-TITLE=Maiden Lane:geo:-117.2639356,32.9576935
END:VEVENT
BEGIN:VEVENT
DTSTART;TZID=America/Los_Angeles:20170918T093000
DTEND;TZID=America/Los_Angeles:20170918T220000
DTSTAMP:20260422T005814
CREATED:20170821T204754Z
LAST-MODIFIED:20170821T204754Z
UID:4173-1505727000-1505772000@www.sdmart.org
SUMMARY:American Art: A Fresh Look
DESCRIPTION:From 4\,000 works in the The San Diego Museum of Art’s collection of American Art\, Deputy Director for Curatorial Affairs and Education\, Anita Feldman\, has gleaned the best of the best representing major artists and movements that depict the art of America. From landscapes to minimalism\, docent Sherry Reed will walk you through the highlights of this reinstallation. \nFree to North County Chapter members / $10 nonmembers
URL:https://www.sdmart.org/event/american-art-fresh-look/
LOCATION:St. Peter’s Episcopal Church\, Maiden Lane\, Del Mar\, CA\, 92014\, United States
CATEGORIES:Lecture-old,Support Council
GEO:32.9576935;-117.2639356
X-APPLE-STRUCTURED-LOCATION;VALUE=URI;X-ADDRESS=St. Peter’s Episcopal Church Maiden Lane Del Mar CA 92014 United States;X-APPLE-RADIUS=500;X-TITLE=Maiden Lane:geo:-117.2639356,32.9576935
END:VEVENT
BEGIN:VEVENT
DTSTART;TZID=UTC:20170918T093000
DTEND;TZID=UTC:20170918T093000
DTSTAMP:20260422T005814
CREATED:20170602T015544Z
LAST-MODIFIED:20170619T041907Z
UID:1757-1505727000-1505727000@www.sdmart.org
SUMMARY:American Art: A Fresh Look
DESCRIPTION:Offsite\, St. Peter’s Episcopal Church\, Maiden Lane\, Del Mar\, CA 92014\nMonday\, 9:30 a.m.\n\nMuseum docent Sherry Reed offers a look at the highlights of the reinstallation of the American Art galleries. The selection from the Museum’s collection\, curated by Deputy Director for Curatorial Affairs Anita Feldman\, represents major artists and movements of American art\, from landscapes to minimalism. \nSponsored by the North County Chapter \n\nFree NCC members / $10 guests\n\nRobert Henri\, Portrait of Mrs. Robert Henri\, 1914. Oil on canvas. Gift of Mrs. George Heyneman. 1959.7.
URL:https://www.sdmart.org/event/american-art-a-fresh-look/
LOCATION:St. Peter’s Episcopal Church\, Maiden Lane\, Del Mar\, CA\, 92014\, United States
CATEGORIES:Education
ATTACH;FMTTYPE=image/jpeg:https://www.sdmart.org/wp-content/uploads/2017/06/1959-7.jpg
GEO:32.9576935;-117.2639356
X-APPLE-STRUCTURED-LOCATION;VALUE=URI;X-ADDRESS=St. Peter’s Episcopal Church Maiden Lane Del Mar CA 92014 United States;X-APPLE-RADIUS=500;X-TITLE=Maiden Lane:geo:-117.2639356,32.9576935
END:VEVENT
END:VCALENDAR